BEGIN:VCALENDAR
VERSION:2.0
PRODID:-//Chichester BID - ECPv6.15.20//NONSGML v1.0//EN
CALSCALE:GREGORIAN
METHOD:PUBLISH
X-WR-CALNAME:Chichester BID
X-ORIGINAL-URL:https://chichesterbid.co.uk
X-WR-CALDESC:Events for Chichester BID
REFRESH-INTERVAL;VALUE=DURATION:PT1H
X-Robots-Tag:noindex
X-PUBLISHED-TTL:PT1H
BEGIN:VTIMEZONE
TZID:UTC
BEGIN:STANDARD
TZOFFSETFROM:+0000
TZOFFSETTO:+0000
TZNAME:UTC
DTSTART:20220101T000000
END:STANDARD
END:VTIMEZONE
BEGIN:VEVENT
DTSTART;TZID=UTC:20231228T200000
DTEND;TZID=UTC:20231228T200000
DTSTAMP:20260422T230620
CREATED:20230706T090709Z
LAST-MODIFIED:20230706T090709Z
UID:10004365-1703793600-1703793600@chichesterbid.co.uk
SUMMARY:Open Mic at The Escapist
DESCRIPTION:Join The Escapist for their Open Mic with Chris Simmons \nAll singers and players welcome\, good vibes only!\nStarts at 8pm every last Thursday of the month!
URL:https://chichesterbid.co.uk/event/open-mic-at-the-escapist/2023-12-28/
LOCATION:The Escapist\, 9 Crane Street\, Chichester\, PO19 1LJ
ATTACH;FMTTYPE=image/jpeg:https://chichesterbid.co.uk/wp-content/uploads/2023/07/FB_IMG_1688633602431.jpg
END:VEVENT
END:VCALENDAR