BEGIN:VCALENDAR
VERSION:2.0
PRODID:-//Chichester BID - ECPv6.15.17.1//NONSGML v1.0//EN
CALSCALE:GREGORIAN
METHOD:PUBLISH
X-ORIGINAL-URL:https://chichesterbid.co.uk
X-WR-CALDESC:Events for Chichester BID
REFRESH-INTERVAL;VALUE=DURATION:PT1H
X-Robots-Tag:noindex
X-PUBLISHED-TTL:PT1H
BEGIN:VTIMEZONE
TZID:UTC
BEGIN:STANDARD
TZOFFSETFROM:+0000
TZOFFSETTO:+0000
TZNAME:UTC
DTSTART:20230101T000000
END:STANDARD
END:VTIMEZONE
BEGIN:VEVENT
DTSTART;TZID=UTC:20240705T090000
DTEND;TZID=UTC:20240705T140000
DTSTAMP:20260419T152031
CREATED:20231110T150026Z
LAST-MODIFIED:20251216T125053Z
UID:10006034-1720170000-1720188000@chichesterbid.co.uk
SUMMARY:Farmers Market
DESCRIPTION:Chichester District first Farmers’ Market was held in 1998. They have been held regularly every month since then\, growing in size and frequency over time. The market is held in East & North Street on the 1st and 3rd Friday of each Month.
URL:https://chichesterbid.co.uk/event/farmers-market-16/2024-07-05/
LOCATION:Chichester City Centre
ATTACH;FMTTYPE=image/jpeg:https://chichesterbid.co.uk/wp-content/uploads/2023/04/farmers-market.jpg
END:VEVENT
END:VCALENDAR