BEGIN:VCALENDAR
VERSION:2.0
PRODID:-//Chichester BID - ECPv6.15.17.1//NONSGML v1.0//EN
CALSCALE:GREGORIAN
METHOD:PUBLISH
X-WR-CALNAME:Chichester BID
X-ORIGINAL-URL:https://chichesterbid.co.uk
X-WR-CALDESC:Events for Chichester BID
REFRESH-INTERVAL;VALUE=DURATION:PT1H
X-Robots-Tag:noindex
X-PUBLISHED-TTL:PT1H
BEGIN:VTIMEZONE
TZID:UTC
BEGIN:STANDARD
TZOFFSETFROM:+0000
TZOFFSETTO:+0000
TZNAME:UTC
DTSTART:20230101T000000
END:STANDARD
END:VTIMEZONE
BEGIN:VEVENT
DTSTART;TZID=UTC:20240720T090000
DTEND;TZID=UTC:20240720T090000
DTSTAMP:20260420T044610
CREATED:20240213T140904Z
LAST-MODIFIED:20240213T140904Z
UID:10009681-1721466000-1721466000@chichesterbid.co.uk
SUMMARY:Sweaty Betty Weekly Run Club
DESCRIPTION:Join the Sweaty Betty run club every Saturday at 9am. \nAll abilities welcome. \nMeet at 9am at Sweaty Betty\, Chichester for 45 minutes.
URL:https://chichesterbid.co.uk/event/sweaty-betty-weekly-run-club/2024-07-20/
LOCATION:Sweaty Betty\, 51a South Street\, Chichester\, West Sussex\, PO19 1DS\, United Kingdom
CATEGORIES:Regular Events
ATTACH;FMTTYPE=image/jpeg:https://chichesterbid.co.uk/wp-content/uploads/2024/02/426336202_891359159580183_8292756840449639732_n.jpg
END:VEVENT
BEGIN:VEVENT
DTSTART;TZID=UTC:20240720T190000
DTEND;TZID=UTC:20240720T190000
DTSTAMP:20260420T044610
CREATED:20240508T090539Z
LAST-MODIFIED:20240508T090710Z
UID:10013627-1721502000-1721502000@chichesterbid.co.uk
SUMMARY:Listeners Lounge at Jam Cafe
DESCRIPTION:Join Jam Cafe every third Saturday of the month for their listeners lounge where they’ll have 3 talented artists performing. \nDoors at 7pm \nTickets- \nAdults – £3 \nUnder 18s- Free
URL:https://chichesterbid.co.uk/event/listeners-lounge-at-jam-cafe/2024-07-20/
LOCATION:JAM Cafe\, 33 Southgate\, Chichester\, West Sussex\, PO19 1DP
CATEGORIES:Family Friendly
ATTACH;FMTTYPE=image/png:https://chichesterbid.co.uk/wp-content/uploads/2024/01/Creative-Beatz-3.png
ORGANIZER;CN="JAM":MAILTO:info@creativebeatz.co.uk
END:VEVENT
END:VCALENDAR