BEGIN:VCALENDAR
VERSION:2.0
PRODID:-//Chichester BID - ECPv6.15.20//NONSGML v1.0//EN
CALSCALE:GREGORIAN
METHOD:PUBLISH
X-WR-CALNAME:Chichester BID
X-ORIGINAL-URL:https://chichesterbid.co.uk
X-WR-CALDESC:Events for Chichester BID
REFRESH-INTERVAL;VALUE=DURATION:PT1H
X-Robots-Tag:noindex
X-PUBLISHED-TTL:PT1H
BEGIN:VTIMEZONE
TZID:UTC
BEGIN:STANDARD
TZOFFSETFROM:+0000
TZOFFSETTO:+0000
TZNAME:UTC
DTSTART:20240101T000000
END:STANDARD
END:VTIMEZONE
BEGIN:VEVENT
DTSTART;TZID=UTC:20250401T200000
DTEND;TZID=UTC:20250401T200000
DTSTAMP:20260423T075043
CREATED:20250122T135926Z
LAST-MODIFIED:20250502T094438Z
UID:10021986-1743537600-1743537600@chichesterbid.co.uk
SUMMARY:Jam Night at The Hole in the Wall
DESCRIPTION:Join The Hole in the Wall every Tuesday for their weekly Live Band Jam Night. \nAll styles welcome. \n  \n 
URL:https://chichesterbid.co.uk/event/jam-night-at-the-hole-in-the-wall/2025-04-01/
LOCATION:The Hole in the Wall\, 1 St Martins Street\, Chichester\, West Sussex\, PO19 1NP
CATEGORIES:Alive after Five,Regular Events
ATTACH;FMTTYPE=image/jpeg:https://chichesterbid.co.uk/wp-content/uploads/2025/01/HITWJam-scaled.jpg
END:VEVENT
BEGIN:VEVENT
DTSTART;TZID=UTC:20250402T180000
DTEND;TZID=UTC:20250402T180000
DTSTAMP:20260423T075043
CREATED:20250402T124402Z
LAST-MODIFIED:20250804T094302Z
UID:10022868-1743616800-1743616800@chichesterbid.co.uk
SUMMARY:Poetry & Spoken Word Open-Mic at The Ghost at the Feast
DESCRIPTION:Come along and read some of your own poetry or prose\, listen to others and share in the joys of the spoken word.\n\n\nArrive from 6pm to order drinks and snacks. Open-Mic starts at 6:30pm. \nJoin us for our regular in-person Open-Mic event upstairs at The Ghost at the Feast in Chichester\, West Sussex. We meet on the 1st Wednesday of every month. The event is free to attend and open to anyone\, but a £3.00 donation made on the door would be very much appreciated. \nCome along and read some of your own poetry\, a published poem or even read some prose. \nIt doesn’t matter if this is the first piece you have written or whether you are a seasoned pro\, you will find a warm and supportive welcome as you share your work with us out loud. \nAnd if reading out loud is not for you\, please do come along and enjoy the atmosphere and listen to the readings. \nThe Ghost at the Feast has a variety of indie kitchen outlets and bars\, so plenty to choose from to eat and drink throughout the evening\, as well.
URL:https://chichesterbid.co.uk/event/poetry-spoken-word-open-mic-at-franco-manca/2025-04-02/
LOCATION:The Ghost at the Feast\, 33-34 North Street\, Chichester\, PO19 1LX
CATEGORIES:Alive after Five,Regular Events
ATTACH;FMTTYPE=image/png:https://chichesterbid.co.uk/wp-content/uploads/2025/04/Words-out-loud.png
END:VEVENT
BEGIN:VEVENT
DTSTART;TZID=UTC:20250402T200000
DTEND;TZID=UTC:20250402T200000
DTSTAMP:20260423T075043
CREATED:20240213T144051Z
LAST-MODIFIED:20240213T144051Z
UID:10009979-1743624000-1743624000@chichesterbid.co.uk
SUMMARY:Quiz Night at The George and Dragon Inn
DESCRIPTION:Join the George and Dragon for their weekly Quiz Night. \nEvery Wednesday. \nFrom 8pm.
URL:https://chichesterbid.co.uk/event/quiz-night-at-the-george-and-dragon-inn/2025-04-02/
LOCATION:The George and Dragon Inn\, 51 North Street\, Chichester\, West Sussex\, PO19 1NQ\, United Kingdom
CATEGORIES:Alive after Five,Regular Events
ATTACH;FMTTYPE=image/jpeg:https://chichesterbid.co.uk/wp-content/uploads/2024/02/Screenshot_20240213_143425_Facebook.jpg
END:VEVENT
BEGIN:VEVENT
DTSTART;TZID=UTC:20250402T200000
DTEND;TZID=UTC:20250402T200000
DTSTAMP:20260423T075043
CREATED:20240507T105502Z
LAST-MODIFIED:20251016T114113Z
UID:10013345-1743624000-1743624000@chichesterbid.co.uk
SUMMARY:Open Mic Night at Havana
DESCRIPTION:Join Havana every Wednesday for their Open Mic Night with Toby Bain.
URL:https://chichesterbid.co.uk/event/open-mic-night-at-havana-2/2025-04-02/
LOCATION:The Havana\, 3 Little London\, Chichester\, PO19 1PH
CATEGORIES:Alive after Five,Regular Events
ATTACH;FMTTYPE=image/jpeg:https://chichesterbid.co.uk/wp-content/uploads/2024/05/IMG-20251001-WA0008.jpg
END:VEVENT
BEGIN:VEVENT
DTSTART;TZID=UTC:20250403T180000
DTEND;TZID=UTC:20250403T180000
DTSTAMP:20260423T075043
CREATED:20241003T111804Z
LAST-MODIFIED:20241003T111804Z
UID:10020377-1743703200-1743703200@chichesterbid.co.uk
SUMMARY:Greek Night at Rocking Horse
DESCRIPTION:Join the Rocking Horse on the First Thursday of the month\, for their Greek Night! \nEnjoy an evening of traditional Greek cuisine alongside a selection of cocktails inspired by the Aegean Isle. \nFood is provided by their neighbours\, Apla Souvlaki\, and cocktails are expertly crafted by the Rocking Horse mixologists! \nPre-booking is recommended. \nNo Deposit required. \nBook at the bar or call 07463 993408
URL:https://chichesterbid.co.uk/event/greek-night-at-rocking-horse/2025-04-03/
LOCATION:The Rocking Horse\, 30B Southgate\, Chichester\, PO19 1DT
CATEGORIES:Alive after Five,Regular Events
ATTACH;FMTTYPE=image/jpeg:https://chichesterbid.co.uk/wp-content/uploads/2024/10/FB_IMG_1727949068110.jpg
END:VEVENT
BEGIN:VEVENT
DTSTART;TZID=UTC:20250403T190000
DTEND;TZID=UTC:20250403T190000
DTSTAMP:20260423T075043
CREATED:20250402T121111Z
LAST-MODIFIED:20250402T121111Z
UID:10022607-1743706800-1743706800@chichesterbid.co.uk
SUMMARY:Board Games Nights at The Ghost
DESCRIPTION:Chichester Board Games Bite & Brews are rolling out the dice and bringing the community together for a cosy\, competitive\, and downright fun evening upstairs at The Ghost 🕯️ \nHosted fortnightly on Thursday evenings by Chichester Board Games Bites & Brews\, their Board Games Night is the perfect midweek escape — whether you’re a seasoned strategist or just in it for the snacks and vibes. \n🔁 Fortnightly Thursdays\n📍 Upstairs at The Ghost at the Feast\n🔗 Follow the link to the group’s Meetup page – spaces are limited! \nBring your game face\, grab a pint\, and let the good times roll 🎉
URL:https://chichesterbid.co.uk/event/board-games-nights-at-the-ghost/
LOCATION:The Ghost at the Feast\, 33-34 North Street\, Chichester\, PO19 1LX
CATEGORIES:Alive after Five,Regular Events
ATTACH;FMTTYPE=image/jpeg:https://chichesterbid.co.uk/wp-content/uploads/2025/04/488223769_17872999740327629_8511497639711245843_n.jpg
END:VEVENT
BEGIN:VEVENT
DTSTART;TZID=UTC:20250403T190000
DTEND;TZID=UTC:20250403T220000
DTSTAMP:20260423T075043
CREATED:20241024T122017Z
LAST-MODIFIED:20241024T122017Z
UID:10020612-1743706800-1743717600@chichesterbid.co.uk
SUMMARY:Open Mic Night at Trents
DESCRIPTION:Join Trents every Thursday 7.00-10.00pm for their weekly Open Mic Night with Adam Ede. \nAll abilities welcome\, no pre-booking. Just turn up\, put your name down and play!
URL:https://chichesterbid.co.uk/event/open-mic-night-at-trents/2025-04-03/
LOCATION:Trents\, 50 South Street\, Chichester\, West Sussex\, PO19 1DS
CATEGORIES:Alive after Five,Regular Events
ATTACH;FMTTYPE=image/png:https://chichesterbid.co.uk/wp-content/uploads/2024/10/Trents.png
END:VEVENT
BEGIN:VEVENT
DTSTART;TZID=UTC:20250403T200000
DTEND;TZID=UTC:20250403T200000
DTSTAMP:20260423T075043
CREATED:20230516T081132Z
LAST-MODIFIED:20240426T140925Z
UID:10013079-1743710400-1743710400@chichesterbid.co.uk
SUMMARY:Quiz Night at the Old Cross
DESCRIPTION:Join the Old Cross for their ever popular Quiz Night every Thursday from 8pm hosted by the fabulous Ross Presto. \nMax 6 per team\, £1 per person entry. \nWin Cash and other prizes! \nTables are in high demand so book early! Call 01243 536290 to book!
URL:https://chichesterbid.co.uk/event/quiz-night-at-the-old-cross/2025-04-03/
LOCATION:Old Cross Pub\, North Street\, Chichester\, West Sussex\, PO19 1LP
CATEGORIES:Alive after Five,Regular Events
ATTACH;FMTTYPE=image/jpeg:https://chichesterbid.co.uk/wp-content/uploads/2023/05/433972692_1442514786691843_1586512832932766491_n.jpg
END:VEVENT
BEGIN:VEVENT
DTSTART;TZID=UTC:20250404T190000
DTEND;TZID=UTC:20250404T190000
DTSTAMP:20260423T075043
CREATED:20250228T105319Z
LAST-MODIFIED:20250228T105319Z
UID:10022274-1743793200-1743793200@chichesterbid.co.uk
SUMMARY:Wine and Chocolate Evening at CFT
DESCRIPTION:Back by popular demand! Indulge in an evening of great wine and finest chocolate with Hennings Wine and Montezumas. \nWhy not treat someone special to a delicious meal or an exciting evening out? \nOur caterers Caper & Berry have once again created a scrumptious mini season of foodie events so you can savour the best local and regional ingredients to delight you before Festival 2025 arrives. \nTickets cost £37 and can be booked here. \n18+
URL:https://chichesterbid.co.uk/event/wine-and-chocolate-evening-at-cft/
LOCATION:Chichester Festival Theatre\, Oaklands Park\, Chichester\, PO19 6AP
CATEGORIES:Alive after Five
ATTACH;FMTTYPE=image/webp:https://chichesterbid.co.uk/wp-content/uploads/2025/02/Montezumas-news-story-image-2000x1300px.webp
END:VEVENT
BEGIN:VEVENT
DTSTART;TZID=UTC:20250406T193000
DTEND;TZID=UTC:20250406T193000
DTSTAMP:20260423T075043
CREATED:20250122T135512Z
LAST-MODIFIED:20250122T135512Z
UID:10021726-1743967800-1743967800@chichesterbid.co.uk
SUMMARY:Quiz Night at The Hole in the Wall
DESCRIPTION:Join The Hole in the Wall every Sunday* for their Quiz Night. \nFantastic prizes to be won for 1st and 2nd place winners. \n£2 entry per person. \nFrom 7.30pm. \nCall or pop in to book your table. \n*except Bank Holidays.
URL:https://chichesterbid.co.uk/event/quiz-night-at-the-hole-in-the-wall/2025-04-06/
LOCATION:The Hole in the Wall\, 1 St Martins Street\, Chichester\, West Sussex\, PO19 1NP
CATEGORIES:Alive after Five,Regular Events
ATTACH;FMTTYPE=image/jpeg:https://chichesterbid.co.uk/wp-content/uploads/2025/01/1000039800.jpg
END:VEVENT
BEGIN:VEVENT
DTSTART;TZID=UTC:20250407T193000
DTEND;TZID=UTC:20250407T193000
DTSTAMP:20260423T075043
CREATED:20231027T115511Z
LAST-MODIFIED:20240426T140047Z
UID:10012818-1744054200-1744054200@chichesterbid.co.uk
SUMMARY:QuizSing at The Chantry
DESCRIPTION:Join The Chantry every Monday from 7:30-9:30 for their quiz which then goes straight into karaoke till midnight!
URL:https://chichesterbid.co.uk/event/quiz-night-at-the-chantry/2025-04-07/
LOCATION:The Chantry\, 27-28 South Street\, Chichester\, West Sussex\, PO19 1ES
CATEGORIES:Alive after Five
ATTACH;FMTTYPE=image/jpeg:https://chichesterbid.co.uk/wp-content/uploads/2023/10/438670575_7491338324313177_4849260973365154993_n.jpg
END:VEVENT
BEGIN:VEVENT
DTSTART;TZID=UTC:20250408T200000
DTEND;TZID=UTC:20250408T200000
DTSTAMP:20260423T075043
CREATED:20250122T135926Z
LAST-MODIFIED:20250502T094438Z
UID:10021987-1744142400-1744142400@chichesterbid.co.uk
SUMMARY:Jam Night at The Hole in the Wall
DESCRIPTION:Join The Hole in the Wall every Tuesday for their weekly Live Band Jam Night. \nAll styles welcome. \n  \n 
URL:https://chichesterbid.co.uk/event/jam-night-at-the-hole-in-the-wall/2025-04-08/
LOCATION:The Hole in the Wall\, 1 St Martins Street\, Chichester\, West Sussex\, PO19 1NP
CATEGORIES:Alive after Five,Regular Events
ATTACH;FMTTYPE=image/jpeg:https://chichesterbid.co.uk/wp-content/uploads/2025/01/HITWJam-scaled.jpg
END:VEVENT
BEGIN:VEVENT
DTSTART;TZID=UTC:20250409T200000
DTEND;TZID=UTC:20250409T200000
DTSTAMP:20260423T075043
CREATED:20240213T144051Z
LAST-MODIFIED:20240213T144051Z
UID:10009980-1744228800-1744228800@chichesterbid.co.uk
SUMMARY:Quiz Night at The George and Dragon Inn
DESCRIPTION:Join the George and Dragon for their weekly Quiz Night. \nEvery Wednesday. \nFrom 8pm.
URL:https://chichesterbid.co.uk/event/quiz-night-at-the-george-and-dragon-inn/2025-04-09/
LOCATION:The George and Dragon Inn\, 51 North Street\, Chichester\, West Sussex\, PO19 1NQ\, United Kingdom
CATEGORIES:Alive after Five,Regular Events
ATTACH;FMTTYPE=image/jpeg:https://chichesterbid.co.uk/wp-content/uploads/2024/02/Screenshot_20240213_143425_Facebook.jpg
END:VEVENT
BEGIN:VEVENT
DTSTART;TZID=UTC:20250409T200000
DTEND;TZID=UTC:20250409T200000
DTSTAMP:20260423T075044
CREATED:20240507T105502Z
LAST-MODIFIED:20251016T114113Z
UID:10013346-1744228800-1744228800@chichesterbid.co.uk
SUMMARY:Open Mic Night at Havana
DESCRIPTION:Join Havana every Wednesday for their Open Mic Night with Toby Bain.
URL:https://chichesterbid.co.uk/event/open-mic-night-at-havana-2/2025-04-09/
LOCATION:The Havana\, 3 Little London\, Chichester\, PO19 1PH
CATEGORIES:Alive after Five,Regular Events
ATTACH;FMTTYPE=image/jpeg:https://chichesterbid.co.uk/wp-content/uploads/2024/05/IMG-20251001-WA0008.jpg
END:VEVENT
BEGIN:VEVENT
DTSTART;TZID=UTC:20250410T190000
DTEND;TZID=UTC:20250410T220000
DTSTAMP:20260423T075044
CREATED:20241024T122017Z
LAST-MODIFIED:20241024T122017Z
UID:10020613-1744311600-1744322400@chichesterbid.co.uk
SUMMARY:Open Mic Night at Trents
DESCRIPTION:Join Trents every Thursday 7.00-10.00pm for their weekly Open Mic Night with Adam Ede. \nAll abilities welcome\, no pre-booking. Just turn up\, put your name down and play!
URL:https://chichesterbid.co.uk/event/open-mic-night-at-trents/2025-04-10/
LOCATION:Trents\, 50 South Street\, Chichester\, West Sussex\, PO19 1DS
CATEGORIES:Alive after Five,Regular Events
ATTACH;FMTTYPE=image/png:https://chichesterbid.co.uk/wp-content/uploads/2024/10/Trents.png
END:VEVENT
BEGIN:VEVENT
DTSTART;TZID=UTC:20250410T200000
DTEND;TZID=UTC:20250410T200000
DTSTAMP:20260423T075044
CREATED:20230516T081132Z
LAST-MODIFIED:20240426T140925Z
UID:10013080-1744315200-1744315200@chichesterbid.co.uk
SUMMARY:Quiz Night at the Old Cross
DESCRIPTION:Join the Old Cross for their ever popular Quiz Night every Thursday from 8pm hosted by the fabulous Ross Presto. \nMax 6 per team\, £1 per person entry. \nWin Cash and other prizes! \nTables are in high demand so book early! Call 01243 536290 to book!
URL:https://chichesterbid.co.uk/event/quiz-night-at-the-old-cross/2025-04-10/
LOCATION:Old Cross Pub\, North Street\, Chichester\, West Sussex\, PO19 1LP
CATEGORIES:Alive after Five,Regular Events
ATTACH;FMTTYPE=image/jpeg:https://chichesterbid.co.uk/wp-content/uploads/2023/05/433972692_1442514786691843_1586512832932766491_n.jpg
END:VEVENT
BEGIN:VEVENT
DTSTART;TZID=UTC:20250411T200000
DTEND;TZID=UTC:20250411T230000
DTSTAMP:20260423T075044
CREATED:20250402T130110Z
LAST-MODIFIED:20250402T130110Z
UID:10022929-1744401600-1744412400@chichesterbid.co.uk
SUMMARY:Open Mic Night at The George & Dragon Inn
DESCRIPTION:Join The George & Dragon Inn for their Monthly Open Mic Night\, hosted by Adam Eve. \nFree to perform and you can perform anything from comedy\, karaoke or bring your guitar and sing along with it. It’s just about having a good night and supporting each other.
URL:https://chichesterbid.co.uk/event/open-mic-night-at-the-george-dragon-inn/
LOCATION:The George and Dragon Inn\, 51 North Street\, Chichester\, West Sussex\, PO19 1NQ\, United Kingdom
CATEGORIES:Alive after Five,Regular Events
ATTACH;FMTTYPE=image/avif:https://chichesterbid.co.uk/wp-content/uploads/2025/04/60613c52-f02e-4591-b727-6ef092c230c1.avif
END:VEVENT
BEGIN:VEVENT
DTSTART;TZID=UTC:20250413T193000
DTEND;TZID=UTC:20250413T193000
DTSTAMP:20260423T075044
CREATED:20250122T135512Z
LAST-MODIFIED:20250122T135512Z
UID:10021727-1744572600-1744572600@chichesterbid.co.uk
SUMMARY:Quiz Night at The Hole in the Wall
DESCRIPTION:Join The Hole in the Wall every Sunday* for their Quiz Night. \nFantastic prizes to be won for 1st and 2nd place winners. \n£2 entry per person. \nFrom 7.30pm. \nCall or pop in to book your table. \n*except Bank Holidays.
URL:https://chichesterbid.co.uk/event/quiz-night-at-the-hole-in-the-wall/2025-04-13/
LOCATION:The Hole in the Wall\, 1 St Martins Street\, Chichester\, West Sussex\, PO19 1NP
CATEGORIES:Alive after Five,Regular Events
ATTACH;FMTTYPE=image/jpeg:https://chichesterbid.co.uk/wp-content/uploads/2025/01/1000039800.jpg
END:VEVENT
BEGIN:VEVENT
DTSTART;TZID=UTC:20250414T193000
DTEND;TZID=UTC:20250414T193000
DTSTAMP:20260423T075044
CREATED:20231027T115511Z
LAST-MODIFIED:20240426T140047Z
UID:10012819-1744659000-1744659000@chichesterbid.co.uk
SUMMARY:QuizSing at The Chantry
DESCRIPTION:Join The Chantry every Monday from 7:30-9:30 for their quiz which then goes straight into karaoke till midnight!
URL:https://chichesterbid.co.uk/event/quiz-night-at-the-chantry/2025-04-14/
LOCATION:The Chantry\, 27-28 South Street\, Chichester\, West Sussex\, PO19 1ES
CATEGORIES:Alive after Five
ATTACH;FMTTYPE=image/jpeg:https://chichesterbid.co.uk/wp-content/uploads/2023/10/438670575_7491338324313177_4849260973365154993_n.jpg
END:VEVENT
BEGIN:VEVENT
DTSTART;TZID=UTC:20250415T200000
DTEND;TZID=UTC:20250415T200000
DTSTAMP:20260423T075044
CREATED:20250122T135926Z
LAST-MODIFIED:20250502T094438Z
UID:10021988-1744747200-1744747200@chichesterbid.co.uk
SUMMARY:Jam Night at The Hole in the Wall
DESCRIPTION:Join The Hole in the Wall every Tuesday for their weekly Live Band Jam Night. \nAll styles welcome. \n  \n 
URL:https://chichesterbid.co.uk/event/jam-night-at-the-hole-in-the-wall/2025-04-15/
LOCATION:The Hole in the Wall\, 1 St Martins Street\, Chichester\, West Sussex\, PO19 1NP
CATEGORIES:Alive after Five,Regular Events
ATTACH;FMTTYPE=image/jpeg:https://chichesterbid.co.uk/wp-content/uploads/2025/01/HITWJam-scaled.jpg
END:VEVENT
BEGIN:VEVENT
DTSTART;TZID=UTC:20250416T200000
DTEND;TZID=UTC:20250416T200000
DTSTAMP:20260423T075044
CREATED:20240213T144051Z
LAST-MODIFIED:20240213T144051Z
UID:10009981-1744833600-1744833600@chichesterbid.co.uk
SUMMARY:Quiz Night at The George and Dragon Inn
DESCRIPTION:Join the George and Dragon for their weekly Quiz Night. \nEvery Wednesday. \nFrom 8pm.
URL:https://chichesterbid.co.uk/event/quiz-night-at-the-george-and-dragon-inn/2025-04-16/
LOCATION:The George and Dragon Inn\, 51 North Street\, Chichester\, West Sussex\, PO19 1NQ\, United Kingdom
CATEGORIES:Alive after Five,Regular Events
ATTACH;FMTTYPE=image/jpeg:https://chichesterbid.co.uk/wp-content/uploads/2024/02/Screenshot_20240213_143425_Facebook.jpg
END:VEVENT
BEGIN:VEVENT
DTSTART;TZID=UTC:20250416T200000
DTEND;TZID=UTC:20250416T200000
DTSTAMP:20260423T075044
CREATED:20240507T105502Z
LAST-MODIFIED:20251016T114113Z
UID:10013347-1744833600-1744833600@chichesterbid.co.uk
SUMMARY:Open Mic Night at Havana
DESCRIPTION:Join Havana every Wednesday for their Open Mic Night with Toby Bain.
URL:https://chichesterbid.co.uk/event/open-mic-night-at-havana-2/2025-04-16/
LOCATION:The Havana\, 3 Little London\, Chichester\, PO19 1PH
CATEGORIES:Alive after Five,Regular Events
ATTACH;FMTTYPE=image/jpeg:https://chichesterbid.co.uk/wp-content/uploads/2024/05/IMG-20251001-WA0008.jpg
END:VEVENT
BEGIN:VEVENT
DTSTART;TZID=UTC:20250417T190000
DTEND;TZID=UTC:20250417T190000
DTSTAMP:20260423T075044
CREATED:20250404T125451Z
LAST-MODIFIED:20250404T125451Z
UID:10022608-1744916400-1744916400@chichesterbid.co.uk
SUMMARY:Board Games Nights at The Ghost
DESCRIPTION:Chichester Board Games Bite & Brews are rolling out the dice and bringing the community together for a cosy\, competitive\, and downright fun evening upstairs at The Ghost 🕯️ \nHosted fortnightly on Thursday evenings by Chichester Board Games Bites & Brews\, their Board Games Night is the perfect midweek escape — whether you’re a seasoned strategist or just in it for the snacks and vibes. \n🔁 Fortnightly Thursdays\n📍 Upstairs at The Ghost at the Feast\n🔗 Follow the link to the group’s Meetup page – spaces are limited! \nBring your game face\, grab a pint\, and let the good times roll 🎉
URL:https://chichesterbid.co.uk/event/board-games-nights-at-the-ghost-2/2025-04-17/
LOCATION:The Ghost at the Feast\, 33-34 North Street\, Chichester\, PO19 1LX
CATEGORIES:Alive after Five,Regular Events
ATTACH;FMTTYPE=image/jpeg:https://chichesterbid.co.uk/wp-content/uploads/2025/04/488223769_17872999740327629_8511497639711245843_n.jpg
END:VEVENT
BEGIN:VEVENT
DTSTART;TZID=UTC:20250417T190000
DTEND;TZID=UTC:20250417T220000
DTSTAMP:20260423T075044
CREATED:20241024T122017Z
LAST-MODIFIED:20241024T122017Z
UID:10020614-1744916400-1744927200@chichesterbid.co.uk
SUMMARY:Open Mic Night at Trents
DESCRIPTION:Join Trents every Thursday 7.00-10.00pm for their weekly Open Mic Night with Adam Ede. \nAll abilities welcome\, no pre-booking. Just turn up\, put your name down and play!
URL:https://chichesterbid.co.uk/event/open-mic-night-at-trents/2025-04-17/
LOCATION:Trents\, 50 South Street\, Chichester\, West Sussex\, PO19 1DS
CATEGORIES:Alive after Five,Regular Events
ATTACH;FMTTYPE=image/png:https://chichesterbid.co.uk/wp-content/uploads/2024/10/Trents.png
END:VEVENT
BEGIN:VEVENT
DTSTART;TZID=UTC:20250417T200000
DTEND;TZID=UTC:20250417T200000
DTSTAMP:20260423T075044
CREATED:20230516T081132Z
LAST-MODIFIED:20240426T140925Z
UID:10013081-1744920000-1744920000@chichesterbid.co.uk
SUMMARY:Quiz Night at the Old Cross
DESCRIPTION:Join the Old Cross for their ever popular Quiz Night every Thursday from 8pm hosted by the fabulous Ross Presto. \nMax 6 per team\, £1 per person entry. \nWin Cash and other prizes! \nTables are in high demand so book early! Call 01243 536290 to book!
URL:https://chichesterbid.co.uk/event/quiz-night-at-the-old-cross/2025-04-17/
LOCATION:Old Cross Pub\, North Street\, Chichester\, West Sussex\, PO19 1LP
CATEGORIES:Alive after Five,Regular Events
ATTACH;FMTTYPE=image/jpeg:https://chichesterbid.co.uk/wp-content/uploads/2023/05/433972692_1442514786691843_1586512832932766491_n.jpg
END:VEVENT
BEGIN:VEVENT
DTSTART;TZID=UTC:20250419T180000
DTEND;TZID=UTC:20250419T180000
DTSTAMP:20260423T075044
CREATED:20250402T131021Z
LAST-MODIFIED:20250402T131021Z
UID:10022930-1745085600-1745085600@chichesterbid.co.uk
SUMMARY:Rock n Roll Bingo at Little Monster Tap
DESCRIPTION:ROCK ‘N’ ROLL BINGO IS BACK 🎉 \nEnjoy a night of good beer\, good music and great company! Prizes for winning on every round – you’ve got to be in it to win it\, so come on down! \n– 6pm til late\n– £2 per card – 4 rounds\n– Cash prizes on every round\n– Top tunes\, top beer\, top quality fun \nBook now to secure a place because we are booking up fast!!
URL:https://chichesterbid.co.uk/event/rock-n-roll-bingo-at-little-monster-tap/
LOCATION:Little Monster Tap\, 23 The Hornet\, Chichester\, PO19 7JL
CATEGORIES:Alive after Five
ATTACH;FMTTYPE=image/webp:https://chichesterbid.co.uk/wp-content/uploads/2025/04/488619061_17955146681928619_1995369866131392192_n.webp
END:VEVENT
BEGIN:VEVENT
DTSTART;TZID=UTC:20250419T190000
DTEND;TZID=UTC:20250419T190000
DTSTAMP:20260423T075044
CREATED:20250411T084506Z
LAST-MODIFIED:20251015T115746Z
UID:10023759-1745089200-1745089200@chichesterbid.co.uk
SUMMARY:Latin Night at The Havana
DESCRIPTION:Join the Havana for their monthly Latin Night on the third Saturday of each month.
URL:https://chichesterbid.co.uk/event/latin-night-at-the-havana/2025-04-19/
LOCATION:The Havana\, 3 Little London\, Chichester\, PO19 1PH
CATEGORIES:Alive after Five
END:VEVENT
BEGIN:VEVENT
DTSTART;TZID=UTC:20250420T193000
DTEND;TZID=UTC:20250420T193000
DTSTAMP:20260423T075044
CREATED:20250122T135512Z
LAST-MODIFIED:20250122T135512Z
UID:10021728-1745177400-1745177400@chichesterbid.co.uk
SUMMARY:Quiz Night at The Hole in the Wall
DESCRIPTION:Join The Hole in the Wall every Sunday* for their Quiz Night. \nFantastic prizes to be won for 1st and 2nd place winners. \n£2 entry per person. \nFrom 7.30pm. \nCall or pop in to book your table. \n*except Bank Holidays.
URL:https://chichesterbid.co.uk/event/quiz-night-at-the-hole-in-the-wall/2025-04-20/
LOCATION:The Hole in the Wall\, 1 St Martins Street\, Chichester\, West Sussex\, PO19 1NP
CATEGORIES:Alive after Five,Regular Events
ATTACH;FMTTYPE=image/jpeg:https://chichesterbid.co.uk/wp-content/uploads/2025/01/1000039800.jpg
END:VEVENT
BEGIN:VEVENT
DTSTART;TZID=UTC:20250421T193000
DTEND;TZID=UTC:20250421T193000
DTSTAMP:20260423T075044
CREATED:20231027T115511Z
LAST-MODIFIED:20240426T140047Z
UID:10012820-1745263800-1745263800@chichesterbid.co.uk
SUMMARY:QuizSing at The Chantry
DESCRIPTION:Join The Chantry every Monday from 7:30-9:30 for their quiz which then goes straight into karaoke till midnight!
URL:https://chichesterbid.co.uk/event/quiz-night-at-the-chantry/2025-04-21/
LOCATION:The Chantry\, 27-28 South Street\, Chichester\, West Sussex\, PO19 1ES
CATEGORIES:Alive after Five
ATTACH;FMTTYPE=image/jpeg:https://chichesterbid.co.uk/wp-content/uploads/2023/10/438670575_7491338324313177_4849260973365154993_n.jpg
END:VEVENT
BEGIN:VEVENT
DTSTART;TZID=UTC:20250422T200000
DTEND;TZID=UTC:20250422T200000
DTSTAMP:20260423T075044
CREATED:20250122T135926Z
LAST-MODIFIED:20250502T094438Z
UID:10021989-1745352000-1745352000@chichesterbid.co.uk
SUMMARY:Jam Night at The Hole in the Wall
DESCRIPTION:Join The Hole in the Wall every Tuesday for their weekly Live Band Jam Night. \nAll styles welcome. \n  \n 
URL:https://chichesterbid.co.uk/event/jam-night-at-the-hole-in-the-wall/2025-04-22/
LOCATION:The Hole in the Wall\, 1 St Martins Street\, Chichester\, West Sussex\, PO19 1NP
CATEGORIES:Alive after Five,Regular Events
ATTACH;FMTTYPE=image/jpeg:https://chichesterbid.co.uk/wp-content/uploads/2025/01/HITWJam-scaled.jpg
END:VEVENT
END:VCALENDAR