BEGIN:VCALENDAR
VERSION:2.0
PRODID:-//Chichester BID - ECPv6.15.20//NONSGML v1.0//EN
CALSCALE:GREGORIAN
METHOD:PUBLISH
X-WR-CALNAME:Chichester BID
X-ORIGINAL-URL:https://chichesterbid.co.uk
X-WR-CALDESC:Events for Chichester BID
REFRESH-INTERVAL;VALUE=DURATION:PT1H
X-Robots-Tag:noindex
X-PUBLISHED-TTL:PT1H
BEGIN:VTIMEZONE
TZID:UTC
BEGIN:STANDARD
TZOFFSETFROM:+0000
TZOFFSETTO:+0000
TZNAME:UTC
DTSTART:20240101T000000
END:STANDARD
END:VTIMEZONE
BEGIN:VEVENT
DTSTART;TZID=UTC:20250806T190000
DTEND;TZID=UTC:20250806T210000
DTSTAMP:20260421T101856
CREATED:20250711T104226Z
LAST-MODIFIED:20250711T104226Z
UID:10024316-1754506800-1754514000@chichesterbid.co.uk
SUMMARY:Lino Printing Workshop at The Duke & Rye
DESCRIPTION:LINO PRINTING WITH LUCY HARRIS\n\n\nLucy is a Print Designer and Artist with a passion for creating nature-inspired artworks. With over a decade of experience working as a Designer in the fashion and interior textile industries\, Lucy now works as a freelancer\, focusing on hands-on techniques such as printmaking and painting. Lucy’s lino printing workshops are welcoming\, relaxed\, and perfect for beginners. She encourages playful experimentation and creativity\, offering a supportive environment where you can enjoy learning new skills. \nThis workshop costs £25pp and includes all materials. Book your space here.
URL:https://chichesterbid.co.uk/event/lino-printing-workshop-at-the-duke-rye/
LOCATION:The Duke & Rye\, West Street\, Chichester\, West Sussex\, PO19 1QU
CATEGORIES:Alive after Five,Workshops
ATTACH;FMTTYPE=image/avif:https://chichesterbid.co.uk/wp-content/uploads/2025/07/eb8d24_0f5c717795ec440596f7a3adaeecf3f0mv2.avif
END:VEVENT
BEGIN:VEVENT
DTSTART;TZID=UTC:20250806T200000
DTEND;TZID=UTC:20250806T200000
DTSTAMP:20260421T101856
CREATED:20240213T144051Z
LAST-MODIFIED:20240213T144051Z
UID:10009997-1754510400-1754510400@chichesterbid.co.uk
SUMMARY:Quiz Night at The George and Dragon Inn
DESCRIPTION:Join the George and Dragon for their weekly Quiz Night. \nEvery Wednesday. \nFrom 8pm.
URL:https://chichesterbid.co.uk/event/quiz-night-at-the-george-and-dragon-inn/2025-08-06/
LOCATION:The George and Dragon Inn\, 51 North Street\, Chichester\, West Sussex\, PO19 1NQ\, United Kingdom
CATEGORIES:Alive after Five,Regular Events
ATTACH;FMTTYPE=image/jpeg:https://chichesterbid.co.uk/wp-content/uploads/2024/02/Screenshot_20240213_143425_Facebook.jpg
END:VEVENT
BEGIN:VEVENT
DTSTART;TZID=UTC:20250806T200000
DTEND;TZID=UTC:20250806T200000
DTSTAMP:20260421T101856
CREATED:20240507T105502Z
LAST-MODIFIED:20251016T114113Z
UID:10013363-1754510400-1754510400@chichesterbid.co.uk
SUMMARY:Open Mic Night at Havana
DESCRIPTION:Join Havana every Wednesday for their Open Mic Night with Toby Bain.
URL:https://chichesterbid.co.uk/event/open-mic-night-at-havana-2/2025-08-06/
LOCATION:The Havana\, 3 Little London\, Chichester\, PO19 1PH
CATEGORIES:Alive after Five,Regular Events
ATTACH;FMTTYPE=image/jpeg:https://chichesterbid.co.uk/wp-content/uploads/2024/05/IMG-20251001-WA0008.jpg
END:VEVENT
END:VCALENDAR