BEGIN:VCALENDAR
VERSION:2.0
PRODID:-//Chichester BID - ECPv6.15.20//NONSGML v1.0//EN
CALSCALE:GREGORIAN
METHOD:PUBLISH
X-WR-CALNAME:Chichester BID
X-ORIGINAL-URL:https://chichesterbid.co.uk
X-WR-CALDESC:Events for Chichester BID
REFRESH-INTERVAL;VALUE=DURATION:PT1H
X-Robots-Tag:noindex
X-PUBLISHED-TTL:PT1H
BEGIN:VTIMEZONE
TZID:UTC
BEGIN:STANDARD
TZOFFSETFROM:+0000
TZOFFSETTO:+0000
TZNAME:UTC
DTSTART:20240101T000000
END:STANDARD
END:VTIMEZONE
BEGIN:VEVENT
DTSTART;TZID=UTC:20250913T190000
DTEND;TZID=UTC:20250913T210000
DTSTAMP:20260421T035106
CREATED:20250825T095716Z
LAST-MODIFIED:20250825T095716Z
UID:10024859-1757790000-1757797200@chichesterbid.co.uk
SUMMARY:Adult Craft Club! Beaded Hanging Plants at Jam Cafe
DESCRIPTION:Join Jam Café for an evening of crafting creating your own Beaded Hanging Plant or mini succulents! \nTickets cost £15 and can be booked here.
URL:https://chichesterbid.co.uk/event/adult-craft-club-beaded-hanging-plants-at-jam-cafe/
LOCATION:JAM Cafe\, 33 Southgate\, Chichester\, West Sussex\, PO19 1DP
CATEGORIES:Alive after Five
ATTACH;FMTTYPE=image/png:https://chichesterbid.co.uk/wp-content/uploads/2025/08/Adult-craft.png
ORGANIZER;CN="JAM":MAILTO:info@creativebeatz.co.uk
END:VEVENT
END:VCALENDAR