BEGIN:VCALENDAR
VERSION:2.0
PRODID:-//Chichester BID - ECPv6.15.20//NONSGML v1.0//EN
CALSCALE:GREGORIAN
METHOD:PUBLISH
X-WR-CALNAME:Chichester BID
X-ORIGINAL-URL:https://chichesterbid.co.uk
X-WR-CALDESC:Events for Chichester BID
REFRESH-INTERVAL;VALUE=DURATION:PT1H
X-Robots-Tag:noindex
X-PUBLISHED-TTL:PT1H
BEGIN:VTIMEZONE
TZID:UTC
BEGIN:STANDARD
TZOFFSETFROM:+0000
TZOFFSETTO:+0000
TZNAME:UTC
DTSTART:20240101T000000
END:STANDARD
END:VTIMEZONE
BEGIN:VEVENT
DTSTART;TZID=UTC:20250917T200000
DTEND;TZID=UTC:20250917T200000
DTSTAMP:20260421T210535
CREATED:20240507T105502Z
LAST-MODIFIED:20251016T114113Z
UID:10013369-1758139200-1758139200@chichesterbid.co.uk
SUMMARY:Open Mic Night at Havana
DESCRIPTION:Join Havana every Wednesday for their Open Mic Night with Toby Bain.
URL:https://chichesterbid.co.uk/event/open-mic-night-at-havana-2/2025-09-17/
LOCATION:The Havana\, 3 Little London\, Chichester\, PO19 1PH
CATEGORIES:Alive after Five,Regular Events
ATTACH;FMTTYPE=image/jpeg:https://chichesterbid.co.uk/wp-content/uploads/2024/05/IMG-20251001-WA0008.jpg
END:VEVENT
BEGIN:VEVENT
DTSTART;TZID=UTC:20250918T190000
DTEND;TZID=UTC:20250918T190000
DTSTAMP:20260421T210535
CREATED:20250404T125451Z
LAST-MODIFIED:20250404T125451Z
UID:10022631-1758222000-1758222000@chichesterbid.co.uk
SUMMARY:Board Games Nights at The Ghost
DESCRIPTION:Chichester Board Games Bite & Brews are rolling out the dice and bringing the community together for a cosy\, competitive\, and downright fun evening upstairs at The Ghost 🕯️ \nHosted fortnightly on Thursday evenings by Chichester Board Games Bites & Brews\, their Board Games Night is the perfect midweek escape — whether you’re a seasoned strategist or just in it for the snacks and vibes. \n🔁 Fortnightly Thursdays\n📍 Upstairs at The Ghost at the Feast\n🔗 Follow the link to the group’s Meetup page – spaces are limited! \nBring your game face\, grab a pint\, and let the good times roll 🎉
URL:https://chichesterbid.co.uk/event/board-games-nights-at-the-ghost-2/2025-09-18/
LOCATION:The Ghost at the Feast\, 33-34 North Street\, Chichester\, PO19 1LX
CATEGORIES:Alive after Five,Regular Events
ATTACH;FMTTYPE=image/jpeg:https://chichesterbid.co.uk/wp-content/uploads/2025/04/488223769_17872999740327629_8511497639711245843_n.jpg
END:VEVENT
BEGIN:VEVENT
DTSTART;TZID=UTC:20250918T190000
DTEND;TZID=UTC:20250918T210000
DTSTAMP:20260421T210535
CREATED:20250402T124754Z
LAST-MODIFIED:20250804T094921Z
UID:10022928-1758222000-1758229200@chichesterbid.co.uk
SUMMARY:Seven Up Live Performance Cabaret at The Ghost at the Feast
DESCRIPTION:A Live Performance Cabaret-Style Event at The Ghost at the Feast in Chichester\, presented by Words Out Loud.\n\n\nMes dames et messieurs\, Ladies and gentlemen. Guten abend! Bon soir! Good evening!\nSeven performers\, giving Seven performances\, each of Seven minutes’ duration.\nSet your clock\, save the date\, book a ticket\, get your coat\, grab a drink\, take a seat.\nThis is Seven Up.\n\n\nWords Out Loud is excited to present a new\, regular\, Performance Event in Chichester called Seven Up. \nHosted by Ken Jones \nThis new show is downstairs at The Ghost at the Feast in Chichester from 7:00pm. to 9:00pm. \nThe cabaret style show features Seven performers\, \ngiving Seven performances \neach of Seven minutes’ duration. \nPerformances will span the whole range of Performance Art including Music\, Dance\, Drama\, Comedy\, Improv\, Spoken Word and more. \nThere will be breaks in between each performance and time to mingle\, socialise and connect. \nThe Ghost at the Feast has a variety of indie kitchen outlets and bars\, so plenty to choose from to eat and drink throughout the evening\, as well. \nTickets cost £10 and are available here on Eventbrite and can also be purchased on the door.
URL:https://chichesterbid.co.uk/event/seven-up-live-performance-cabaret-at-franco-manca/
LOCATION:The Ghost at the Feast\, 33-34 North Street\, Chichester\, PO19 1LX
CATEGORIES:Alive after Five
ATTACH;FMTTYPE=image/png:https://chichesterbid.co.uk/wp-content/uploads/2025/04/Seven-up.png
END:VEVENT
BEGIN:VEVENT
DTSTART;TZID=UTC:20250918T190000
DTEND;TZID=UTC:20250918T220000
DTSTAMP:20260421T210535
CREATED:20241024T122017Z
LAST-MODIFIED:20241024T122017Z
UID:10020636-1758222000-1758232800@chichesterbid.co.uk
SUMMARY:Open Mic Night at Trents
DESCRIPTION:Join Trents every Thursday 7.00-10.00pm for their weekly Open Mic Night with Adam Ede. \nAll abilities welcome\, no pre-booking. Just turn up\, put your name down and play!
URL:https://chichesterbid.co.uk/event/open-mic-night-at-trents/2025-09-18/
LOCATION:Trents\, 50 South Street\, Chichester\, West Sussex\, PO19 1DS
CATEGORIES:Alive after Five,Regular Events
ATTACH;FMTTYPE=image/png:https://chichesterbid.co.uk/wp-content/uploads/2024/10/Trents.png
END:VEVENT
BEGIN:VEVENT
DTSTART;TZID=UTC:20250918T200000
DTEND;TZID=UTC:20250918T200000
DTSTAMP:20260421T210535
CREATED:20230516T081132Z
LAST-MODIFIED:20240426T140925Z
UID:10013103-1758225600-1758225600@chichesterbid.co.uk
SUMMARY:Quiz Night at the Old Cross
DESCRIPTION:Join the Old Cross for their ever popular Quiz Night every Thursday from 8pm hosted by the fabulous Ross Presto. \nMax 6 per team\, £1 per person entry. \nWin Cash and other prizes! \nTables are in high demand so book early! Call 01243 536290 to book!
URL:https://chichesterbid.co.uk/event/quiz-night-at-the-old-cross/2025-09-18/
LOCATION:Old Cross Pub\, North Street\, Chichester\, West Sussex\, PO19 1LP
CATEGORIES:Alive after Five,Regular Events
ATTACH;FMTTYPE=image/jpeg:https://chichesterbid.co.uk/wp-content/uploads/2023/05/433972692_1442514786691843_1586512832932766491_n.jpg
END:VEVENT
BEGIN:VEVENT
DTSTART;TZID=UTC:20250920T190000
DTEND;TZID=UTC:20250920T190000
DTSTAMP:20260421T210535
CREATED:20250411T084506Z
LAST-MODIFIED:20251015T115746Z
UID:10023764-1758394800-1758394800@chichesterbid.co.uk
SUMMARY:Latin Night at The Havana
DESCRIPTION:Join the Havana for their monthly Latin Night on the third Saturday of each month.
URL:https://chichesterbid.co.uk/event/latin-night-at-the-havana/2025-09-20/
LOCATION:The Havana\, 3 Little London\, Chichester\, PO19 1PH
CATEGORIES:Alive after Five
END:VEVENT
BEGIN:VEVENT
DTSTART;TZID=UTC:20250920T200000
DTEND;TZID=UTC:20250920T200000
DTSTAMP:20260421T210535
CREATED:20250825T102715Z
LAST-MODIFIED:20250825T102715Z
UID:10024862-1758398400-1758398400@chichesterbid.co.uk
SUMMARY:Woody Cook DJ Set at Room 12
DESCRIPTION:We cannot WAIT to welcome the incredible @woody_cook to Room 12 on Saturday September 20th for what will truly be an unforgettable night. \nWoody is renowned for his high-energy performances and we are so proud and excited to be able to bring Woody and his show to Chichester. \nFREE ENTRY – 8pm TILL LATE.
URL:https://chichesterbid.co.uk/event/woody-cook-dj-set-at-room-12/
LOCATION:Room 12\, Southgate\, Chichester\, West Sussex\, PO19 1ES
CATEGORIES:Alive after Five
ATTACH;FMTTYPE=image/jpeg:https://chichesterbid.co.uk/wp-content/uploads/2025/08/FB_IMG_1756116877429.jpg
END:VEVENT
BEGIN:VEVENT
DTSTART;TZID=UTC:20250921T193000
DTEND;TZID=UTC:20250921T193000
DTSTAMP:20260421T210535
CREATED:20250122T135512Z
LAST-MODIFIED:20250122T135512Z
UID:10021750-1758483000-1758483000@chichesterbid.co.uk
SUMMARY:Quiz Night at The Hole in the Wall
DESCRIPTION:Join The Hole in the Wall every Sunday* for their Quiz Night. \nFantastic prizes to be won for 1st and 2nd place winners. \n£2 entry per person. \nFrom 7.30pm. \nCall or pop in to book your table. \n*except Bank Holidays.
URL:https://chichesterbid.co.uk/event/quiz-night-at-the-hole-in-the-wall/2025-09-21/
LOCATION:The Hole in the Wall\, 1 St Martins Street\, Chichester\, West Sussex\, PO19 1NP
CATEGORIES:Alive after Five,Regular Events
ATTACH;FMTTYPE=image/jpeg:https://chichesterbid.co.uk/wp-content/uploads/2025/01/1000039800.jpg
END:VEVENT
BEGIN:VEVENT
DTSTART;TZID=UTC:20250922T193000
DTEND;TZID=UTC:20250922T193000
DTSTAMP:20260421T210535
CREATED:20231027T115511Z
LAST-MODIFIED:20240426T140047Z
UID:10012842-1758569400-1758569400@chichesterbid.co.uk
SUMMARY:QuizSing at The Chantry
DESCRIPTION:Join The Chantry every Monday from 7:30-9:30 for their quiz which then goes straight into karaoke till midnight!
URL:https://chichesterbid.co.uk/event/quiz-night-at-the-chantry/2025-09-22/
LOCATION:The Chantry\, 27-28 South Street\, Chichester\, West Sussex\, PO19 1ES
CATEGORIES:Alive after Five
ATTACH;FMTTYPE=image/jpeg:https://chichesterbid.co.uk/wp-content/uploads/2023/10/438670575_7491338324313177_4849260973365154993_n.jpg
END:VEVENT
BEGIN:VEVENT
DTSTART;TZID=UTC:20250922T200000
DTEND;TZID=UTC:20250922T200000
DTSTAMP:20260421T210535
CREATED:20250825T123551Z
LAST-MODIFIED:20250825T123551Z
UID:10024926-1758571200-1758571200@chichesterbid.co.uk
SUMMARY:Quiz Night at The Nags Head
DESCRIPTION:The popular Pub Quiz at The Nags Head in Chichester is an established\, weekly event\, attracting a range of locals who want to enjoy a fun evening out\, while straining a few brain cells. \n\nThe Nags Head Pub Quiz is a weekly event\, held every Monday from 8pm  a regular favourite for locals and visitors alike.\nAt only £2 entry fee per person\, quiz participants can compete for a cash prize\, often around £100\, adding a bit of friendly rivalry to the evening.
URL:https://chichesterbid.co.uk/event/quiz-night-at-the-nags-head-2/2025-09-22/
LOCATION:The Nags Head\, 3 St Pancras\, Chichester\, West Sussex\, PO19 7SJ\, United Kingdom
CATEGORIES:Alive after Five
ATTACH;FMTTYPE=image/jpeg:https://chichesterbid.co.uk/wp-content/uploads/2025/08/1921875_1024xdne.jpg
END:VEVENT
BEGIN:VEVENT
DTSTART;TZID=UTC:20250923T190000
DTEND;TZID=UTC:20250923T220000
DTSTAMP:20260421T210535
CREATED:20250825T094738Z
LAST-MODIFIED:20250825T094738Z
UID:10024602-1758654000-1758664800@chichesterbid.co.uk
SUMMARY:Learn to Dance with Ceroc at The Assembly Room
DESCRIPTION:Join us every Tuesday for our dance classes at Ceroc Chichester – The Assembly Room\, The Council House\, PO19 1LQ\nOur fantastic dance venue runs every Tuesday evening! Beginners are welcome at our venue every week\, no need to book\, just turn up alone or with friends! The Assembly Room offers a beautiful hall with large and spacious dance floor with air conditioning and ambient lighting. \nClasses:\n19:15 Doors Open / Freestyle\n19:45 Beginners Class\n20:30 Freestyle\n20:45 Intermediate Class / Beginners Practice Session\n21:15 Freestyle\n22:30 Close \nPrices:\nPRICES – Cash & Card (Prices are inclusive of VAT)\n£12.00 Standard Entry\n£10.00 Students/Over 65’s\n£8.00 Late Entry (after 9.15pm) \n*6-4-3 NEW MEMBER OFFER*\n6 sessions for the price of 3 for brand new members! £36 \n**STEP UP OFFER**\n6 sessions for £54 (**offer open to new members who have purchased the 643 offer) \nGOLD CARD – prepayment offer – 10 classes for £100 \nNO NEED TO BOOK\,\nTURN UP ON YOUR OWN\,\nJOIN US ON ANY WEEK!
URL:https://chichesterbid.co.uk/event/learn-to-dance-with-ceroc-at-the-assembly-room/2025-09-23/
LOCATION:The Assembly Rooms\, North Street\, Chichester\, Po191LQ
CATEGORIES:Alive after Five
ATTACH;FMTTYPE=image/jpeg:https://chichesterbid.co.uk/wp-content/uploads/2025/08/Chichester-classes_website-graphic_2025_01.jpg
ORGANIZER;CN="Ceroc Chichester":MAILTO:becky@cerocsussex.com
END:VEVENT
BEGIN:VEVENT
DTSTART;TZID=UTC:20250923T200000
DTEND;TZID=UTC:20250923T200000
DTSTAMP:20260421T210535
CREATED:20250122T135926Z
LAST-MODIFIED:20250502T094438Z
UID:10022011-1758657600-1758657600@chichesterbid.co.uk
SUMMARY:Jam Night at The Hole in the Wall
DESCRIPTION:Join The Hole in the Wall every Tuesday for their weekly Live Band Jam Night. \nAll styles welcome. \n  \n 
URL:https://chichesterbid.co.uk/event/jam-night-at-the-hole-in-the-wall/2025-09-23/
LOCATION:The Hole in the Wall\, 1 St Martins Street\, Chichester\, West Sussex\, PO19 1NP
CATEGORIES:Alive after Five,Regular Events
ATTACH;FMTTYPE=image/jpeg:https://chichesterbid.co.uk/wp-content/uploads/2025/01/HITWJam-scaled.jpg
END:VEVENT
BEGIN:VEVENT
DTSTART;TZID=UTC:20250924T193000
DTEND;TZID=UTC:20250924T193000
DTSTAMP:20260421T210535
CREATED:20250825T090549Z
LAST-MODIFIED:20250825T090549Z
UID:10024415-1758742200-1758742200@chichesterbid.co.uk
SUMMARY:Quiz Night at The Ghost at the Feast
DESCRIPTION:Join The Ghost at the Feast for their Quiz Night every Second and Fourth Wednesday. \n7.30pm in the Fauna Bar. \n£3 entry pp. \nPrizes include £60 restaurant voucher and wine. \nBook your table by emailing events@theghostatthefeast.com
URL:https://chichesterbid.co.uk/event/quiz-night-at-the-ghost-at-the-feast/2025-09-24/
LOCATION:The Ghost at the Feast\, 33-34 North Street\, Chichester\, PO19 1LX
CATEGORIES:Alive after Five,Regular Events
ATTACH;FMTTYPE=image/png:https://chichesterbid.co.uk/wp-content/uploads/2025/08/Quiz-Night-Ghost.png
ORGANIZER;CN="The Ghost at the Feast":MAILTO:events@theghostatthefeast.com
END:VEVENT
BEGIN:VEVENT
DTSTART;TZID=UTC:20250924T200000
DTEND;TZID=UTC:20250924T200000
DTSTAMP:20260421T210535
CREATED:20240213T144051Z
LAST-MODIFIED:20240213T144051Z
UID:10010004-1758744000-1758744000@chichesterbid.co.uk
SUMMARY:Quiz Night at The George and Dragon Inn
DESCRIPTION:Join the George and Dragon for their weekly Quiz Night. \nEvery Wednesday. \nFrom 8pm.
URL:https://chichesterbid.co.uk/event/quiz-night-at-the-george-and-dragon-inn/2025-09-24/
LOCATION:The George and Dragon Inn\, 51 North Street\, Chichester\, West Sussex\, PO19 1NQ\, United Kingdom
CATEGORIES:Alive after Five,Regular Events
ATTACH;FMTTYPE=image/jpeg:https://chichesterbid.co.uk/wp-content/uploads/2024/02/Screenshot_20240213_143425_Facebook.jpg
END:VEVENT
BEGIN:VEVENT
DTSTART;TZID=UTC:20250924T200000
DTEND;TZID=UTC:20250924T200000
DTSTAMP:20260421T210535
CREATED:20240507T105502Z
LAST-MODIFIED:20251016T114113Z
UID:10013370-1758744000-1758744000@chichesterbid.co.uk
SUMMARY:Open Mic Night at Havana
DESCRIPTION:Join Havana every Wednesday for their Open Mic Night with Toby Bain.
URL:https://chichesterbid.co.uk/event/open-mic-night-at-havana-2/2025-09-24/
LOCATION:The Havana\, 3 Little London\, Chichester\, PO19 1PH
CATEGORIES:Alive after Five,Regular Events
ATTACH;FMTTYPE=image/jpeg:https://chichesterbid.co.uk/wp-content/uploads/2024/05/IMG-20251001-WA0008.jpg
END:VEVENT
BEGIN:VEVENT
DTSTART;TZID=UTC:20250925T190000
DTEND;TZID=UTC:20250925T220000
DTSTAMP:20260421T210535
CREATED:20241024T122017Z
LAST-MODIFIED:20241024T122017Z
UID:10020637-1758826800-1758837600@chichesterbid.co.uk
SUMMARY:Open Mic Night at Trents
DESCRIPTION:Join Trents every Thursday 7.00-10.00pm for their weekly Open Mic Night with Adam Ede. \nAll abilities welcome\, no pre-booking. Just turn up\, put your name down and play!
URL:https://chichesterbid.co.uk/event/open-mic-night-at-trents/2025-09-25/
LOCATION:Trents\, 50 South Street\, Chichester\, West Sussex\, PO19 1DS
CATEGORIES:Alive after Five,Regular Events
ATTACH;FMTTYPE=image/png:https://chichesterbid.co.uk/wp-content/uploads/2024/10/Trents.png
END:VEVENT
BEGIN:VEVENT
DTSTART;TZID=UTC:20250925T200000
DTEND;TZID=UTC:20250925T200000
DTSTAMP:20260421T210535
CREATED:20230516T081132Z
LAST-MODIFIED:20240426T140925Z
UID:10013104-1758830400-1758830400@chichesterbid.co.uk
SUMMARY:Quiz Night at the Old Cross
DESCRIPTION:Join the Old Cross for their ever popular Quiz Night every Thursday from 8pm hosted by the fabulous Ross Presto. \nMax 6 per team\, £1 per person entry. \nWin Cash and other prizes! \nTables are in high demand so book early! Call 01243 536290 to book!
URL:https://chichesterbid.co.uk/event/quiz-night-at-the-old-cross/2025-09-25/
LOCATION:Old Cross Pub\, North Street\, Chichester\, West Sussex\, PO19 1LP
CATEGORIES:Alive after Five,Regular Events
ATTACH;FMTTYPE=image/jpeg:https://chichesterbid.co.uk/wp-content/uploads/2023/05/433972692_1442514786691843_1586512832932766491_n.jpg
END:VEVENT
BEGIN:VEVENT
DTSTART;TZID=UTC:20250928T193000
DTEND;TZID=UTC:20250928T193000
DTSTAMP:20260421T210535
CREATED:20250122T135512Z
LAST-MODIFIED:20250122T135512Z
UID:10021751-1759087800-1759087800@chichesterbid.co.uk
SUMMARY:Quiz Night at The Hole in the Wall
DESCRIPTION:Join The Hole in the Wall every Sunday* for their Quiz Night. \nFantastic prizes to be won for 1st and 2nd place winners. \n£2 entry per person. \nFrom 7.30pm. \nCall or pop in to book your table. \n*except Bank Holidays.
URL:https://chichesterbid.co.uk/event/quiz-night-at-the-hole-in-the-wall/2025-09-28/
LOCATION:The Hole in the Wall\, 1 St Martins Street\, Chichester\, West Sussex\, PO19 1NP
CATEGORIES:Alive after Five,Regular Events
ATTACH;FMTTYPE=image/jpeg:https://chichesterbid.co.uk/wp-content/uploads/2025/01/1000039800.jpg
END:VEVENT
BEGIN:VEVENT
DTSTART;TZID=UTC:20250929T193000
DTEND;TZID=UTC:20250929T193000
DTSTAMP:20260421T210535
CREATED:20231027T115511Z
LAST-MODIFIED:20240426T140047Z
UID:10012843-1759174200-1759174200@chichesterbid.co.uk
SUMMARY:QuizSing at The Chantry
DESCRIPTION:Join The Chantry every Monday from 7:30-9:30 for their quiz which then goes straight into karaoke till midnight!
URL:https://chichesterbid.co.uk/event/quiz-night-at-the-chantry/2025-09-29/
LOCATION:The Chantry\, 27-28 South Street\, Chichester\, West Sussex\, PO19 1ES
CATEGORIES:Alive after Five
ATTACH;FMTTYPE=image/jpeg:https://chichesterbid.co.uk/wp-content/uploads/2023/10/438670575_7491338324313177_4849260973365154993_n.jpg
END:VEVENT
BEGIN:VEVENT
DTSTART;TZID=UTC:20250929T200000
DTEND;TZID=UTC:20250929T200000
DTSTAMP:20260421T210535
CREATED:20250825T123551Z
LAST-MODIFIED:20250825T123551Z
UID:10024927-1759176000-1759176000@chichesterbid.co.uk
SUMMARY:Quiz Night at The Nags Head
DESCRIPTION:The popular Pub Quiz at The Nags Head in Chichester is an established\, weekly event\, attracting a range of locals who want to enjoy a fun evening out\, while straining a few brain cells. \n\nThe Nags Head Pub Quiz is a weekly event\, held every Monday from 8pm  a regular favourite for locals and visitors alike.\nAt only £2 entry fee per person\, quiz participants can compete for a cash prize\, often around £100\, adding a bit of friendly rivalry to the evening.
URL:https://chichesterbid.co.uk/event/quiz-night-at-the-nags-head-2/2025-09-29/
LOCATION:The Nags Head\, 3 St Pancras\, Chichester\, West Sussex\, PO19 7SJ\, United Kingdom
CATEGORIES:Alive after Five
ATTACH;FMTTYPE=image/jpeg:https://chichesterbid.co.uk/wp-content/uploads/2025/08/1921875_1024xdne.jpg
END:VEVENT
BEGIN:VEVENT
DTSTART;TZID=UTC:20250930T190000
DTEND;TZID=UTC:20250930T220000
DTSTAMP:20260421T210535
CREATED:20250825T094738Z
LAST-MODIFIED:20250825T094738Z
UID:10024603-1759258800-1759269600@chichesterbid.co.uk
SUMMARY:Learn to Dance with Ceroc at The Assembly Room
DESCRIPTION:Join us every Tuesday for our dance classes at Ceroc Chichester – The Assembly Room\, The Council House\, PO19 1LQ\nOur fantastic dance venue runs every Tuesday evening! Beginners are welcome at our venue every week\, no need to book\, just turn up alone or with friends! The Assembly Room offers a beautiful hall with large and spacious dance floor with air conditioning and ambient lighting. \nClasses:\n19:15 Doors Open / Freestyle\n19:45 Beginners Class\n20:30 Freestyle\n20:45 Intermediate Class / Beginners Practice Session\n21:15 Freestyle\n22:30 Close \nPrices:\nPRICES – Cash & Card (Prices are inclusive of VAT)\n£12.00 Standard Entry\n£10.00 Students/Over 65’s\n£8.00 Late Entry (after 9.15pm) \n*6-4-3 NEW MEMBER OFFER*\n6 sessions for the price of 3 for brand new members! £36 \n**STEP UP OFFER**\n6 sessions for £54 (**offer open to new members who have purchased the 643 offer) \nGOLD CARD – prepayment offer – 10 classes for £100 \nNO NEED TO BOOK\,\nTURN UP ON YOUR OWN\,\nJOIN US ON ANY WEEK!
URL:https://chichesterbid.co.uk/event/learn-to-dance-with-ceroc-at-the-assembly-room/2025-09-30/
LOCATION:The Assembly Rooms\, North Street\, Chichester\, Po191LQ
CATEGORIES:Alive after Five
ATTACH;FMTTYPE=image/jpeg:https://chichesterbid.co.uk/wp-content/uploads/2025/08/Chichester-classes_website-graphic_2025_01.jpg
ORGANIZER;CN="Ceroc Chichester":MAILTO:becky@cerocsussex.com
END:VEVENT
BEGIN:VEVENT
DTSTART;TZID=UTC:20250930T193000
DTEND;TZID=UTC:20250930T220000
DTSTAMP:20260421T210535
CREATED:20250825T122931Z
LAST-MODIFIED:20250825T122931Z
UID:10024863-1759260600-1759269600@chichesterbid.co.uk
SUMMARY:Open Mic Night at Chichester Inn
DESCRIPTION:Join us for an inclusive open mic night on the last Tuesday of the month. \nEveryone welcome\, inexperienced\, experienced\, singing\, spoken word\, bands\, solo artists.
URL:https://chichesterbid.co.uk/event/open-mic-night-at-chichester-inn/2025-09-30/
LOCATION:The Chichester Inn\, 38 West Street\, Chichester\, West Sussex\, PO19 1RP
CATEGORIES:Alive after Five
ATTACH;FMTTYPE=image/jpeg:https://chichesterbid.co.uk/wp-content/uploads/2025/08/1905833_1024xdne.jpg
END:VEVENT
BEGIN:VEVENT
DTSTART;TZID=UTC:20250930T200000
DTEND;TZID=UTC:20250930T200000
DTSTAMP:20260421T210535
CREATED:20250122T135926Z
LAST-MODIFIED:20250502T094438Z
UID:10022012-1759262400-1759262400@chichesterbid.co.uk
SUMMARY:Jam Night at The Hole in the Wall
DESCRIPTION:Join The Hole in the Wall every Tuesday for their weekly Live Band Jam Night. \nAll styles welcome. \n  \n 
URL:https://chichesterbid.co.uk/event/jam-night-at-the-hole-in-the-wall/2025-09-30/
LOCATION:The Hole in the Wall\, 1 St Martins Street\, Chichester\, West Sussex\, PO19 1NP
CATEGORIES:Alive after Five,Regular Events
ATTACH;FMTTYPE=image/jpeg:https://chichesterbid.co.uk/wp-content/uploads/2025/01/HITWJam-scaled.jpg
END:VEVENT
BEGIN:VEVENT
DTSTART;TZID=UTC:20251001T200000
DTEND;TZID=UTC:20251001T200000
DTSTAMP:20260421T210535
CREATED:20240213T144051Z
LAST-MODIFIED:20240213T144051Z
UID:10010005-1759348800-1759348800@chichesterbid.co.uk
SUMMARY:Quiz Night at The George and Dragon Inn
DESCRIPTION:Join the George and Dragon for their weekly Quiz Night. \nEvery Wednesday. \nFrom 8pm.
URL:https://chichesterbid.co.uk/event/quiz-night-at-the-george-and-dragon-inn/2025-10-01/
LOCATION:The George and Dragon Inn\, 51 North Street\, Chichester\, West Sussex\, PO19 1NQ\, United Kingdom
CATEGORIES:Alive after Five,Regular Events
ATTACH;FMTTYPE=image/jpeg:https://chichesterbid.co.uk/wp-content/uploads/2024/02/Screenshot_20240213_143425_Facebook.jpg
END:VEVENT
BEGIN:VEVENT
DTSTART;TZID=UTC:20251001T200000
DTEND;TZID=UTC:20251001T200000
DTSTAMP:20260421T210535
CREATED:20240507T105502Z
LAST-MODIFIED:20251016T114113Z
UID:10013371-1759348800-1759348800@chichesterbid.co.uk
SUMMARY:Open Mic Night at Havana
DESCRIPTION:Join Havana every Wednesday for their Open Mic Night with Toby Bain.
URL:https://chichesterbid.co.uk/event/open-mic-night-at-havana-2/2025-10-01/
LOCATION:The Havana\, 3 Little London\, Chichester\, PO19 1PH
CATEGORIES:Alive after Five,Regular Events
ATTACH;FMTTYPE=image/jpeg:https://chichesterbid.co.uk/wp-content/uploads/2024/05/IMG-20251001-WA0008.jpg
END:VEVENT
BEGIN:VEVENT
DTSTART;TZID=UTC:20251002T180000
DTEND;TZID=UTC:20251002T180000
DTSTAMP:20260421T210536
CREATED:20241003T111804Z
LAST-MODIFIED:20241003T111804Z
UID:10020383-1759428000-1759428000@chichesterbid.co.uk
SUMMARY:Greek Night at Rocking Horse
DESCRIPTION:Join the Rocking Horse on the First Thursday of the month\, for their Greek Night! \nEnjoy an evening of traditional Greek cuisine alongside a selection of cocktails inspired by the Aegean Isle. \nFood is provided by their neighbours\, Apla Souvlaki\, and cocktails are expertly crafted by the Rocking Horse mixologists! \nPre-booking is recommended. \nNo Deposit required. \nBook at the bar or call 07463 993408
URL:https://chichesterbid.co.uk/event/greek-night-at-rocking-horse/2025-10-02/
LOCATION:The Rocking Horse\, 30B Southgate\, Chichester\, PO19 1DT
CATEGORIES:Alive after Five,Regular Events
ATTACH;FMTTYPE=image/jpeg:https://chichesterbid.co.uk/wp-content/uploads/2024/10/FB_IMG_1727949068110.jpg
END:VEVENT
BEGIN:VEVENT
DTSTART;TZID=UTC:20251002T190000
DTEND;TZID=UTC:20251002T190000
DTSTAMP:20260421T210536
CREATED:20250404T125451Z
LAST-MODIFIED:20250404T125451Z
UID:10022633-1759431600-1759431600@chichesterbid.co.uk
SUMMARY:Board Games Nights at The Ghost
DESCRIPTION:Chichester Board Games Bite & Brews are rolling out the dice and bringing the community together for a cosy\, competitive\, and downright fun evening upstairs at The Ghost 🕯️ \nHosted fortnightly on Thursday evenings by Chichester Board Games Bites & Brews\, their Board Games Night is the perfect midweek escape — whether you’re a seasoned strategist or just in it for the snacks and vibes. \n🔁 Fortnightly Thursdays\n📍 Upstairs at The Ghost at the Feast\n🔗 Follow the link to the group’s Meetup page – spaces are limited! \nBring your game face\, grab a pint\, and let the good times roll 🎉
URL:https://chichesterbid.co.uk/event/board-games-nights-at-the-ghost-2/2025-10-02/
LOCATION:The Ghost at the Feast\, 33-34 North Street\, Chichester\, PO19 1LX
CATEGORIES:Alive after Five,Regular Events
ATTACH;FMTTYPE=image/jpeg:https://chichesterbid.co.uk/wp-content/uploads/2025/04/488223769_17872999740327629_8511497639711245843_n.jpg
END:VEVENT
BEGIN:VEVENT
DTSTART;TZID=UTC:20251002T190000
DTEND;TZID=UTC:20251002T220000
DTSTAMP:20260421T210536
CREATED:20241024T122017Z
LAST-MODIFIED:20241024T122017Z
UID:10020638-1759431600-1759442400@chichesterbid.co.uk
SUMMARY:Open Mic Night at Trents
DESCRIPTION:Join Trents every Thursday 7.00-10.00pm for their weekly Open Mic Night with Adam Ede. \nAll abilities welcome\, no pre-booking. Just turn up\, put your name down and play!
URL:https://chichesterbid.co.uk/event/open-mic-night-at-trents/2025-10-02/
LOCATION:Trents\, 50 South Street\, Chichester\, West Sussex\, PO19 1DS
CATEGORIES:Alive after Five,Regular Events
ATTACH;FMTTYPE=image/png:https://chichesterbid.co.uk/wp-content/uploads/2024/10/Trents.png
END:VEVENT
BEGIN:VEVENT
DTSTART;TZID=UTC:20251002T200000
DTEND;TZID=UTC:20251002T200000
DTSTAMP:20260421T210536
CREATED:20230516T081132Z
LAST-MODIFIED:20240426T140925Z
UID:10013105-1759435200-1759435200@chichesterbid.co.uk
SUMMARY:Quiz Night at the Old Cross
DESCRIPTION:Join the Old Cross for their ever popular Quiz Night every Thursday from 8pm hosted by the fabulous Ross Presto. \nMax 6 per team\, £1 per person entry. \nWin Cash and other prizes! \nTables are in high demand so book early! Call 01243 536290 to book!
URL:https://chichesterbid.co.uk/event/quiz-night-at-the-old-cross/2025-10-02/
LOCATION:Old Cross Pub\, North Street\, Chichester\, West Sussex\, PO19 1LP
CATEGORIES:Alive after Five,Regular Events
ATTACH;FMTTYPE=image/jpeg:https://chichesterbid.co.uk/wp-content/uploads/2023/05/433972692_1442514786691843_1586512832932766491_n.jpg
END:VEVENT
BEGIN:VEVENT
DTSTART;TZID=UTC:20251004T200000
DTEND;TZID=UTC:20251004T200000
DTSTAMP:20260421T210536
CREATED:20250411T084913Z
LAST-MODIFIED:20250411T085154Z
UID:10023824-1759608000-1759608000@chichesterbid.co.uk
SUMMARY:Chi's Got Grooves at The Havana
DESCRIPTION:Join The Havana on the first Saturday of the month for their monthly Chi’s Got Grooves. \nFree Entry \nC-Side Sounds \n 
URL:https://chichesterbid.co.uk/event/chis-got-grooves-at-the-havana/2025-10-04/
LOCATION:The Havana\, 3 Little London\, Chichester\, PO19 1PH
CATEGORIES:Alive after Five
ATTACH;FMTTYPE=image/avif:https://chichesterbid.co.uk/wp-content/uploads/2025/04/n2qT4fwYIWLpVWlJTpGsnNl6Ns-1.avif
END:VEVENT
END:VCALENDAR