BEGIN:VCALENDAR
VERSION:2.0
PRODID:-//Chichester BID - ECPv6.15.20//NONSGML v1.0//EN
CALSCALE:GREGORIAN
METHOD:PUBLISH
X-ORIGINAL-URL:https://chichesterbid.co.uk
X-WR-CALDESC:Events for Chichester BID
REFRESH-INTERVAL;VALUE=DURATION:PT1H
X-Robots-Tag:noindex
X-PUBLISHED-TTL:PT1H
BEGIN:VTIMEZONE
TZID:UTC
BEGIN:STANDARD
TZOFFSETFROM:+0000
TZOFFSETTO:+0000
TZNAME:UTC
DTSTART:20240101T000000
END:STANDARD
END:VTIMEZONE
BEGIN:VEVENT
DTSTART;TZID=UTC:20250603T200000
DTEND;TZID=UTC:20250603T200000
DTSTAMP:20260421T223408
CREATED:20250122T135926Z
LAST-MODIFIED:20250502T094438Z
UID:10021995-1748980800-1748980800@chichesterbid.co.uk
SUMMARY:Jam Night at The Hole in the Wall
DESCRIPTION:Join The Hole in the Wall every Tuesday for their weekly Live Band Jam Night. \nAll styles welcome. \n  \n 
URL:https://chichesterbid.co.uk/event/jam-night-at-the-hole-in-the-wall/2025-06-03/
LOCATION:The Hole in the Wall\, 1 St Martins Street\, Chichester\, West Sussex\, PO19 1NP
CATEGORIES:Alive after Five,Regular Events
ATTACH;FMTTYPE=image/jpeg:https://chichesterbid.co.uk/wp-content/uploads/2025/01/HITWJam-scaled.jpg
END:VEVENT
BEGIN:VEVENT
DTSTART;TZID=UTC:20250604T180000
DTEND;TZID=UTC:20250604T180000
DTSTAMP:20260421T223408
CREATED:20250402T124402Z
LAST-MODIFIED:20250804T094302Z
UID:10022870-1749060000-1749060000@chichesterbid.co.uk
SUMMARY:Poetry & Spoken Word Open-Mic at The Ghost at the Feast
DESCRIPTION:Come along and read some of your own poetry or prose\, listen to others and share in the joys of the spoken word.\n\n\nArrive from 6pm to order drinks and snacks. Open-Mic starts at 6:30pm. \nJoin us for our regular in-person Open-Mic event upstairs at The Ghost at the Feast in Chichester\, West Sussex. We meet on the 1st Wednesday of every month. The event is free to attend and open to anyone\, but a £3.00 donation made on the door would be very much appreciated. \nCome along and read some of your own poetry\, a published poem or even read some prose. \nIt doesn’t matter if this is the first piece you have written or whether you are a seasoned pro\, you will find a warm and supportive welcome as you share your work with us out loud. \nAnd if reading out loud is not for you\, please do come along and enjoy the atmosphere and listen to the readings. \nThe Ghost at the Feast has a variety of indie kitchen outlets and bars\, so plenty to choose from to eat and drink throughout the evening\, as well.
URL:https://chichesterbid.co.uk/event/poetry-spoken-word-open-mic-at-franco-manca/2025-06-04/
LOCATION:The Ghost at the Feast\, 33-34 North Street\, Chichester\, PO19 1LX
CATEGORIES:Alive after Five,Regular Events
ATTACH;FMTTYPE=image/png:https://chichesterbid.co.uk/wp-content/uploads/2025/04/Words-out-loud.png
END:VEVENT
BEGIN:VEVENT
DTSTART;TZID=UTC:20250604T200000
DTEND;TZID=UTC:20250604T200000
DTSTAMP:20260421T223408
CREATED:20240213T144051Z
LAST-MODIFIED:20240213T144051Z
UID:10009988-1749067200-1749067200@chichesterbid.co.uk
SUMMARY:Quiz Night at The George and Dragon Inn
DESCRIPTION:Join the George and Dragon for their weekly Quiz Night. \nEvery Wednesday. \nFrom 8pm.
URL:https://chichesterbid.co.uk/event/quiz-night-at-the-george-and-dragon-inn/2025-06-04/
LOCATION:The George and Dragon Inn\, 51 North Street\, Chichester\, West Sussex\, PO19 1NQ\, United Kingdom
CATEGORIES:Alive after Five,Regular Events
ATTACH;FMTTYPE=image/jpeg:https://chichesterbid.co.uk/wp-content/uploads/2024/02/Screenshot_20240213_143425_Facebook.jpg
END:VEVENT
BEGIN:VEVENT
DTSTART;TZID=UTC:20250604T200000
DTEND;TZID=UTC:20250604T200000
DTSTAMP:20260421T223408
CREATED:20240507T105502Z
LAST-MODIFIED:20251016T114113Z
UID:10013354-1749067200-1749067200@chichesterbid.co.uk
SUMMARY:Open Mic Night at Havana
DESCRIPTION:Join Havana every Wednesday for their Open Mic Night with Toby Bain.
URL:https://chichesterbid.co.uk/event/open-mic-night-at-havana-2/2025-06-04/
LOCATION:The Havana\, 3 Little London\, Chichester\, PO19 1PH
CATEGORIES:Alive after Five,Regular Events
ATTACH;FMTTYPE=image/jpeg:https://chichesterbid.co.uk/wp-content/uploads/2024/05/IMG-20251001-WA0008.jpg
END:VEVENT
BEGIN:VEVENT
DTSTART;TZID=UTC:20250605T180000
DTEND;TZID=UTC:20250605T180000
DTSTAMP:20260421T223408
CREATED:20241003T111804Z
LAST-MODIFIED:20241003T111804Z
UID:10020379-1749146400-1749146400@chichesterbid.co.uk
SUMMARY:Greek Night at Rocking Horse
DESCRIPTION:Join the Rocking Horse on the First Thursday of the month\, for their Greek Night! \nEnjoy an evening of traditional Greek cuisine alongside a selection of cocktails inspired by the Aegean Isle. \nFood is provided by their neighbours\, Apla Souvlaki\, and cocktails are expertly crafted by the Rocking Horse mixologists! \nPre-booking is recommended. \nNo Deposit required. \nBook at the bar or call 07463 993408
URL:https://chichesterbid.co.uk/event/greek-night-at-rocking-horse/2025-06-05/
LOCATION:The Rocking Horse\, 30B Southgate\, Chichester\, PO19 1DT
CATEGORIES:Alive after Five,Regular Events
ATTACH;FMTTYPE=image/jpeg:https://chichesterbid.co.uk/wp-content/uploads/2024/10/FB_IMG_1727949068110.jpg
END:VEVENT
BEGIN:VEVENT
DTSTART;TZID=UTC:20250605T190000
DTEND;TZID=UTC:20250605T220000
DTSTAMP:20260421T223408
CREATED:20241024T122017Z
LAST-MODIFIED:20241024T122017Z
UID:10020621-1749150000-1749160800@chichesterbid.co.uk
SUMMARY:Open Mic Night at Trents
DESCRIPTION:Join Trents every Thursday 7.00-10.00pm for their weekly Open Mic Night with Adam Ede. \nAll abilities welcome\, no pre-booking. Just turn up\, put your name down and play!
URL:https://chichesterbid.co.uk/event/open-mic-night-at-trents/2025-06-05/
LOCATION:Trents\, 50 South Street\, Chichester\, West Sussex\, PO19 1DS
CATEGORIES:Alive after Five,Regular Events
ATTACH;FMTTYPE=image/png:https://chichesterbid.co.uk/wp-content/uploads/2024/10/Trents.png
END:VEVENT
BEGIN:VEVENT
DTSTART;TZID=UTC:20250605T200000
DTEND;TZID=UTC:20250605T200000
DTSTAMP:20260421T223408
CREATED:20230516T081132Z
LAST-MODIFIED:20240426T140925Z
UID:10013088-1749153600-1749153600@chichesterbid.co.uk
SUMMARY:Quiz Night at the Old Cross
DESCRIPTION:Join the Old Cross for their ever popular Quiz Night every Thursday from 8pm hosted by the fabulous Ross Presto. \nMax 6 per team\, £1 per person entry. \nWin Cash and other prizes! \nTables are in high demand so book early! Call 01243 536290 to book!
URL:https://chichesterbid.co.uk/event/quiz-night-at-the-old-cross/2025-06-05/
LOCATION:Old Cross Pub\, North Street\, Chichester\, West Sussex\, PO19 1LP
CATEGORIES:Alive after Five,Regular Events
ATTACH;FMTTYPE=image/jpeg:https://chichesterbid.co.uk/wp-content/uploads/2023/05/433972692_1442514786691843_1586512832932766491_n.jpg
END:VEVENT
BEGIN:VEVENT
DTSTART;TZID=UTC:20250606T180000
DTEND;TZID=UTC:20250606T220000
DTSTAMP:20260421T223408
CREATED:20250527T102353Z
LAST-MODIFIED:20250527T102402Z
UID:10024199-1749232800-1749247200@chichesterbid.co.uk
SUMMARY:MTG: Final Fantasy Pre-release at Comics\, Games & Coffee
DESCRIPTION:Welcome to our MTG: Final Fantasy Pre-Release! \nFriday 6th June – Sealed @ 6pm (3 Rounds) (Please arrive half an hour prior to event) \nSealed – Build a 40 card deck from a pre-release pack which includes 6x play boosters and a foil promo – then face off against each other in a Swiss style tournament. \n2x Final Fantasy Play Booster packs will be added to the prize pool for each player in attendance. \nCost – £42.00. Book here.
URL:https://chichesterbid.co.uk/event/mtg-final-fantasy-pre-release-at-comics-games-coffee/
LOCATION:Comics\, Games & Coffee\, North House\, 66 North St\,\, Chichester\, West Sussex\, PO19 1LR
CATEGORIES:Alive after Five
ATTACH;FMTTYPE=image/webp:https://chichesterbid.co.uk/wp-content/uploads/2025/05/GM-FB1_17_1df0ef07-92ba-4092-81bf-fb968f95cea5.webp
END:VEVENT
BEGIN:VEVENT
DTSTART;TZID=UTC:20250606T190000
DTEND;TZID=UTC:20250606T230000
DTSTAMP:20260421T223408
CREATED:20250424T114008Z
LAST-MODIFIED:20250424T114008Z
UID:10023890-1749236400-1749250800@chichesterbid.co.uk
SUMMARY:An ‘Almost Full Moon’ Garden Feast with Charles Dowding at The Barn
DESCRIPTION:A 4 course garden feast with Charles Dowding\n*The Plant Based Menu will be released one month before the event*\n\nPay Bar on the night.\n\nArrival from 19:15 with food being served from 19:30. Finish at 23:00. \nPlease let us know of any dietary requirements in the booking comments. \n£60 pp. Book your space here.
URL:https://chichesterbid.co.uk/event/an-almost-full-moon-garden-feast-with-charles-dowding-at-the-barn/
LOCATION:The Barn\, 40 East Street\, Chichester\, West Sussex\, PO19 1HX
CATEGORIES:Alive after Five
ATTACH;FMTTYPE=image/jpeg:https://chichesterbid.co.uk/wp-content/uploads/2025/04/93b4e97a-ce22-46d7-8b38-27fbb6aa51b5.jpeg
END:VEVENT
BEGIN:VEVENT
DTSTART;TZID=UTC:20250607T200000
DTEND;TZID=UTC:20250607T200000
DTSTAMP:20260421T223408
CREATED:20250411T084913Z
LAST-MODIFIED:20250411T085154Z
UID:10023820-1749326400-1749326400@chichesterbid.co.uk
SUMMARY:Chi's Got Grooves at The Havana
DESCRIPTION:Join The Havana on the first Saturday of the month for their monthly Chi’s Got Grooves. \nFree Entry \nC-Side Sounds \n 
URL:https://chichesterbid.co.uk/event/chis-got-grooves-at-the-havana/2025-06-07/
LOCATION:The Havana\, 3 Little London\, Chichester\, PO19 1PH
CATEGORIES:Alive after Five
ATTACH;FMTTYPE=image/avif:https://chichesterbid.co.uk/wp-content/uploads/2025/04/n2qT4fwYIWLpVWlJTpGsnNl6Ns-1.avif
END:VEVENT
BEGIN:VEVENT
DTSTART;TZID=UTC:20250608T193000
DTEND;TZID=UTC:20250608T193000
DTSTAMP:20260421T223408
CREATED:20250122T135512Z
LAST-MODIFIED:20250122T135512Z
UID:10021735-1749411000-1749411000@chichesterbid.co.uk
SUMMARY:Quiz Night at The Hole in the Wall
DESCRIPTION:Join The Hole in the Wall every Sunday* for their Quiz Night. \nFantastic prizes to be won for 1st and 2nd place winners. \n£2 entry per person. \nFrom 7.30pm. \nCall or pop in to book your table. \n*except Bank Holidays.
URL:https://chichesterbid.co.uk/event/quiz-night-at-the-hole-in-the-wall/2025-06-08/
LOCATION:The Hole in the Wall\, 1 St Martins Street\, Chichester\, West Sussex\, PO19 1NP
CATEGORIES:Alive after Five,Regular Events
ATTACH;FMTTYPE=image/jpeg:https://chichesterbid.co.uk/wp-content/uploads/2025/01/1000039800.jpg
END:VEVENT
BEGIN:VEVENT
DTSTART;TZID=UTC:20250609T193000
DTEND;TZID=UTC:20250609T193000
DTSTAMP:20260421T223408
CREATED:20231027T115511Z
LAST-MODIFIED:20240426T140047Z
UID:10012827-1749497400-1749497400@chichesterbid.co.uk
SUMMARY:QuizSing at The Chantry
DESCRIPTION:Join The Chantry every Monday from 7:30-9:30 for their quiz which then goes straight into karaoke till midnight!
URL:https://chichesterbid.co.uk/event/quiz-night-at-the-chantry/2025-06-09/
LOCATION:The Chantry\, 27-28 South Street\, Chichester\, West Sussex\, PO19 1ES
CATEGORIES:Alive after Five
ATTACH;FMTTYPE=image/jpeg:https://chichesterbid.co.uk/wp-content/uploads/2023/10/438670575_7491338324313177_4849260973365154993_n.jpg
END:VEVENT
BEGIN:VEVENT
DTSTART;TZID=UTC:20250610T193000
DTEND;TZID=UTC:20250610T230000
DTSTAMP:20260421T223408
CREATED:20250527T114639Z
LAST-MODIFIED:20250527T114639Z
UID:10024203-1749583800-1749596400@chichesterbid.co.uk
SUMMARY:Words at the Feast
DESCRIPTION:Spoken Word + Street Food = One Unmissable Evening 🎤🌮 \nJoin us for an electric evening of Spoken Word Entertainment and Street Food at The Ghost at the Feast! \nWe’re teaming up with the amazing Words Out Loud to bring you a night full of Poetry\, Theatre\, Comedy\, Storytelling & more — all performed live in our cosy\, atmospheric space. \n🌟 Expect big laughs\, powerful words\, unexpected moments\n🍔 Delicious eats and drinks served up by our incredible vendors\n🎟 Tickets just £10 – grab yours now here.\n📧 Or book your table via events@theghostatthefeast.com and pay on the door! \nLet’s make it a night to remember. Bring your friends\, bring your appetite\, and come celebrate the magic of live words and local flavour.
URL:https://chichesterbid.co.uk/event/words-at-the-feast/
LOCATION:The Ghost at the Feast\, 33-34 North Street\, Chichester\, PO19 1LX
CATEGORIES:Alive after Five
ATTACH;FMTTYPE=image/jpeg:https://chichesterbid.co.uk/wp-content/uploads/2025/05/501464326_17879943570327629_3000509210460819580_n.jpg
END:VEVENT
BEGIN:VEVENT
DTSTART;TZID=UTC:20250610T200000
DTEND;TZID=UTC:20250610T200000
DTSTAMP:20260421T223408
CREATED:20250122T135926Z
LAST-MODIFIED:20250502T094438Z
UID:10021996-1749585600-1749585600@chichesterbid.co.uk
SUMMARY:Jam Night at The Hole in the Wall
DESCRIPTION:Join The Hole in the Wall every Tuesday for their weekly Live Band Jam Night. \nAll styles welcome. \n  \n 
URL:https://chichesterbid.co.uk/event/jam-night-at-the-hole-in-the-wall/2025-06-10/
LOCATION:The Hole in the Wall\, 1 St Martins Street\, Chichester\, West Sussex\, PO19 1NP
CATEGORIES:Alive after Five,Regular Events
ATTACH;FMTTYPE=image/jpeg:https://chichesterbid.co.uk/wp-content/uploads/2025/01/HITWJam-scaled.jpg
END:VEVENT
BEGIN:VEVENT
DTSTART;TZID=UTC:20250611T200000
DTEND;TZID=UTC:20250611T200000
DTSTAMP:20260421T223408
CREATED:20240213T144051Z
LAST-MODIFIED:20240213T144051Z
UID:10009989-1749672000-1749672000@chichesterbid.co.uk
SUMMARY:Quiz Night at The George and Dragon Inn
DESCRIPTION:Join the George and Dragon for their weekly Quiz Night. \nEvery Wednesday. \nFrom 8pm.
URL:https://chichesterbid.co.uk/event/quiz-night-at-the-george-and-dragon-inn/2025-06-11/
LOCATION:The George and Dragon Inn\, 51 North Street\, Chichester\, West Sussex\, PO19 1NQ\, United Kingdom
CATEGORIES:Alive after Five,Regular Events
ATTACH;FMTTYPE=image/jpeg:https://chichesterbid.co.uk/wp-content/uploads/2024/02/Screenshot_20240213_143425_Facebook.jpg
END:VEVENT
BEGIN:VEVENT
DTSTART;TZID=UTC:20250611T200000
DTEND;TZID=UTC:20250611T200000
DTSTAMP:20260421T223408
CREATED:20240507T105502Z
LAST-MODIFIED:20251016T114113Z
UID:10013355-1749672000-1749672000@chichesterbid.co.uk
SUMMARY:Open Mic Night at Havana
DESCRIPTION:Join Havana every Wednesday for their Open Mic Night with Toby Bain.
URL:https://chichesterbid.co.uk/event/open-mic-night-at-havana-2/2025-06-11/
LOCATION:The Havana\, 3 Little London\, Chichester\, PO19 1PH
CATEGORIES:Alive after Five,Regular Events
ATTACH;FMTTYPE=image/jpeg:https://chichesterbid.co.uk/wp-content/uploads/2024/05/IMG-20251001-WA0008.jpg
END:VEVENT
BEGIN:VEVENT
DTSTART;TZID=UTC:20250612T190000
DTEND;TZID=UTC:20250612T190000
DTSTAMP:20260421T223408
CREATED:20250404T125451Z
LAST-MODIFIED:20250404T125451Z
UID:10022617-1749754800-1749754800@chichesterbid.co.uk
SUMMARY:Board Games Nights at The Ghost
DESCRIPTION:Chichester Board Games Bite & Brews are rolling out the dice and bringing the community together for a cosy\, competitive\, and downright fun evening upstairs at The Ghost 🕯️ \nHosted fortnightly on Thursday evenings by Chichester Board Games Bites & Brews\, their Board Games Night is the perfect midweek escape — whether you’re a seasoned strategist or just in it for the snacks and vibes. \n🔁 Fortnightly Thursdays\n📍 Upstairs at The Ghost at the Feast\n🔗 Follow the link to the group’s Meetup page – spaces are limited! \nBring your game face\, grab a pint\, and let the good times roll 🎉
URL:https://chichesterbid.co.uk/event/board-games-nights-at-the-ghost-2/2025-06-12/
LOCATION:The Ghost at the Feast\, 33-34 North Street\, Chichester\, PO19 1LX
CATEGORIES:Alive after Five,Regular Events
ATTACH;FMTTYPE=image/jpeg:https://chichesterbid.co.uk/wp-content/uploads/2025/04/488223769_17872999740327629_8511497639711245843_n.jpg
END:VEVENT
BEGIN:VEVENT
DTSTART;TZID=UTC:20250612T190000
DTEND;TZID=UTC:20250612T220000
DTSTAMP:20260421T223408
CREATED:20241024T122017Z
LAST-MODIFIED:20241024T122017Z
UID:10020622-1749754800-1749765600@chichesterbid.co.uk
SUMMARY:Open Mic Night at Trents
DESCRIPTION:Join Trents every Thursday 7.00-10.00pm for their weekly Open Mic Night with Adam Ede. \nAll abilities welcome\, no pre-booking. Just turn up\, put your name down and play!
URL:https://chichesterbid.co.uk/event/open-mic-night-at-trents/2025-06-12/
LOCATION:Trents\, 50 South Street\, Chichester\, West Sussex\, PO19 1DS
CATEGORIES:Alive after Five,Regular Events
ATTACH;FMTTYPE=image/png:https://chichesterbid.co.uk/wp-content/uploads/2024/10/Trents.png
END:VEVENT
BEGIN:VEVENT
DTSTART;TZID=UTC:20250612T200000
DTEND;TZID=UTC:20250612T200000
DTSTAMP:20260421T223408
CREATED:20230516T081132Z
LAST-MODIFIED:20240426T140925Z
UID:10013089-1749758400-1749758400@chichesterbid.co.uk
SUMMARY:Quiz Night at the Old Cross
DESCRIPTION:Join the Old Cross for their ever popular Quiz Night every Thursday from 8pm hosted by the fabulous Ross Presto. \nMax 6 per team\, £1 per person entry. \nWin Cash and other prizes! \nTables are in high demand so book early! Call 01243 536290 to book!
URL:https://chichesterbid.co.uk/event/quiz-night-at-the-old-cross/2025-06-12/
LOCATION:Old Cross Pub\, North Street\, Chichester\, West Sussex\, PO19 1LP
CATEGORIES:Alive after Five,Regular Events
ATTACH;FMTTYPE=image/jpeg:https://chichesterbid.co.uk/wp-content/uploads/2023/05/433972692_1442514786691843_1586512832932766491_n.jpg
END:VEVENT
BEGIN:VEVENT
DTSTART;TZID=UTC:20250615T193000
DTEND;TZID=UTC:20250615T193000
DTSTAMP:20260421T223408
CREATED:20250122T135512Z
LAST-MODIFIED:20250122T135512Z
UID:10021736-1750015800-1750015800@chichesterbid.co.uk
SUMMARY:Quiz Night at The Hole in the Wall
DESCRIPTION:Join The Hole in the Wall every Sunday* for their Quiz Night. \nFantastic prizes to be won for 1st and 2nd place winners. \n£2 entry per person. \nFrom 7.30pm. \nCall or pop in to book your table. \n*except Bank Holidays.
URL:https://chichesterbid.co.uk/event/quiz-night-at-the-hole-in-the-wall/2025-06-15/
LOCATION:The Hole in the Wall\, 1 St Martins Street\, Chichester\, West Sussex\, PO19 1NP
CATEGORIES:Alive after Five,Regular Events
ATTACH;FMTTYPE=image/jpeg:https://chichesterbid.co.uk/wp-content/uploads/2025/01/1000039800.jpg
END:VEVENT
BEGIN:VEVENT
DTSTART;TZID=UTC:20250616T193000
DTEND;TZID=UTC:20250616T193000
DTSTAMP:20260421T223408
CREATED:20231027T115511Z
LAST-MODIFIED:20240426T140047Z
UID:10012828-1750102200-1750102200@chichesterbid.co.uk
SUMMARY:QuizSing at The Chantry
DESCRIPTION:Join The Chantry every Monday from 7:30-9:30 for their quiz which then goes straight into karaoke till midnight!
URL:https://chichesterbid.co.uk/event/quiz-night-at-the-chantry/2025-06-16/
LOCATION:The Chantry\, 27-28 South Street\, Chichester\, West Sussex\, PO19 1ES
CATEGORIES:Alive after Five
ATTACH;FMTTYPE=image/jpeg:https://chichesterbid.co.uk/wp-content/uploads/2023/10/438670575_7491338324313177_4849260973365154993_n.jpg
END:VEVENT
BEGIN:VEVENT
DTSTART;TZID=UTC:20250617T200000
DTEND;TZID=UTC:20250617T200000
DTSTAMP:20260421T223408
CREATED:20250122T135926Z
LAST-MODIFIED:20250502T094438Z
UID:10021997-1750190400-1750190400@chichesterbid.co.uk
SUMMARY:Jam Night at The Hole in the Wall
DESCRIPTION:Join The Hole in the Wall every Tuesday for their weekly Live Band Jam Night. \nAll styles welcome. \n  \n 
URL:https://chichesterbid.co.uk/event/jam-night-at-the-hole-in-the-wall/2025-06-17/
LOCATION:The Hole in the Wall\, 1 St Martins Street\, Chichester\, West Sussex\, PO19 1NP
CATEGORIES:Alive after Five,Regular Events
ATTACH;FMTTYPE=image/jpeg:https://chichesterbid.co.uk/wp-content/uploads/2025/01/HITWJam-scaled.jpg
END:VEVENT
BEGIN:VEVENT
DTSTART;TZID=UTC:20250618T190000
DTEND;TZID=UTC:20250618T210000
DTSTAMP:20260421T223408
CREATED:20250411T090119Z
LAST-MODIFIED:20250527T140217Z
UID:10023879-1750273200-1750280400@chichesterbid.co.uk
SUMMARY:Sip & Paint at Brasserie Blanc
DESCRIPTION:Join us for a fun night of creativity and relaxation at Brasserie Blanc in Chichester! Grab a glass of your favourite drink and unleash your inner artist as you paint away the evening. \nCome alone or bring some friends\, no experience necessary! Our talented instructor will guide you through creating your masterpiece step by step. Don’t miss out on this unique opportunity to **unwind** and get creative. \nPrice: £30 – this includes all of your painting equipment and a glass of Prosecco on arrival. Book your space here.
URL:https://chichesterbid.co.uk/event/sip-paint-at-brasserie-blanc/
LOCATION:Brasserie Blanc\, Richmond House\, The Square\, Chichester\, West Sussex\, PO19 7SJ
CATEGORIES:Alive after Five,Art
ATTACH;FMTTYPE=image/avif:https://chichesterbid.co.uk/wp-content/uploads/2025/04/https___cdn.evbuc_.com_images_1001805253_2359569107573_1_original.avif
END:VEVENT
BEGIN:VEVENT
DTSTART;TZID=UTC:20250618T200000
DTEND;TZID=UTC:20250618T200000
DTSTAMP:20260421T223408
CREATED:20240213T144051Z
LAST-MODIFIED:20240213T144051Z
UID:10009990-1750276800-1750276800@chichesterbid.co.uk
SUMMARY:Quiz Night at The George and Dragon Inn
DESCRIPTION:Join the George and Dragon for their weekly Quiz Night. \nEvery Wednesday. \nFrom 8pm.
URL:https://chichesterbid.co.uk/event/quiz-night-at-the-george-and-dragon-inn/2025-06-18/
LOCATION:The George and Dragon Inn\, 51 North Street\, Chichester\, West Sussex\, PO19 1NQ\, United Kingdom
CATEGORIES:Alive after Five,Regular Events
ATTACH;FMTTYPE=image/jpeg:https://chichesterbid.co.uk/wp-content/uploads/2024/02/Screenshot_20240213_143425_Facebook.jpg
END:VEVENT
BEGIN:VEVENT
DTSTART;TZID=UTC:20250618T200000
DTEND;TZID=UTC:20250618T200000
DTSTAMP:20260421T223408
CREATED:20240507T105502Z
LAST-MODIFIED:20251016T114113Z
UID:10013356-1750276800-1750276800@chichesterbid.co.uk
SUMMARY:Open Mic Night at Havana
DESCRIPTION:Join Havana every Wednesday for their Open Mic Night with Toby Bain.
URL:https://chichesterbid.co.uk/event/open-mic-night-at-havana-2/2025-06-18/
LOCATION:The Havana\, 3 Little London\, Chichester\, PO19 1PH
CATEGORIES:Alive after Five,Regular Events
ATTACH;FMTTYPE=image/jpeg:https://chichesterbid.co.uk/wp-content/uploads/2024/05/IMG-20251001-WA0008.jpg
END:VEVENT
BEGIN:VEVENT
DTSTART;TZID=UTC:20250619T190000
DTEND;TZID=UTC:20250619T220000
DTSTAMP:20260421T223408
CREATED:20241024T122017Z
LAST-MODIFIED:20241024T122017Z
UID:10020623-1750359600-1750370400@chichesterbid.co.uk
SUMMARY:Open Mic Night at Trents
DESCRIPTION:Join Trents every Thursday 7.00-10.00pm for their weekly Open Mic Night with Adam Ede. \nAll abilities welcome\, no pre-booking. Just turn up\, put your name down and play!
URL:https://chichesterbid.co.uk/event/open-mic-night-at-trents/2025-06-19/
LOCATION:Trents\, 50 South Street\, Chichester\, West Sussex\, PO19 1DS
CATEGORIES:Alive after Five,Regular Events
ATTACH;FMTTYPE=image/png:https://chichesterbid.co.uk/wp-content/uploads/2024/10/Trents.png
END:VEVENT
BEGIN:VEVENT
DTSTART;TZID=UTC:20250619T200000
DTEND;TZID=UTC:20250619T200000
DTSTAMP:20260421T223408
CREATED:20230516T081132Z
LAST-MODIFIED:20240426T140925Z
UID:10013090-1750363200-1750363200@chichesterbid.co.uk
SUMMARY:Quiz Night at the Old Cross
DESCRIPTION:Join the Old Cross for their ever popular Quiz Night every Thursday from 8pm hosted by the fabulous Ross Presto. \nMax 6 per team\, £1 per person entry. \nWin Cash and other prizes! \nTables are in high demand so book early! Call 01243 536290 to book!
URL:https://chichesterbid.co.uk/event/quiz-night-at-the-old-cross/2025-06-19/
LOCATION:Old Cross Pub\, North Street\, Chichester\, West Sussex\, PO19 1LP
CATEGORIES:Alive after Five,Regular Events
ATTACH;FMTTYPE=image/jpeg:https://chichesterbid.co.uk/wp-content/uploads/2023/05/433972692_1442514786691843_1586512832932766491_n.jpg
END:VEVENT
BEGIN:VEVENT
DTSTART;TZID=UTC:20250621T190000
DTEND;TZID=UTC:20250621T190000
DTSTAMP:20260421T223408
CREATED:20250411T084506Z
LAST-MODIFIED:20251015T115746Z
UID:10023761-1750532400-1750532400@chichesterbid.co.uk
SUMMARY:Latin Night at The Havana
DESCRIPTION:Join the Havana for their monthly Latin Night on the third Saturday of each month.
URL:https://chichesterbid.co.uk/event/latin-night-at-the-havana/2025-06-21/
LOCATION:The Havana\, 3 Little London\, Chichester\, PO19 1PH
CATEGORIES:Alive after Five
END:VEVENT
BEGIN:VEVENT
DTSTART;TZID=UTC:20250622T150000
DTEND;TZID=UTC:20250622T210000
DTSTAMP:20260421T223408
CREATED:20250527T113541Z
LAST-MODIFIED:20250527T113541Z
UID:10024202-1750604400-1750626000@chichesterbid.co.uk
SUMMARY:Grooves at The George
DESCRIPTION:DJs are taking over our much loved George and Dragon for a Garden Party of EPIC proportions. ☀️ \nJoin us for a boozy BBQ\, vodka slush’s and only the best in House\, Garage and Disco! Resident h2o_music\, itsdjarcher and croftzuk will be bringing the heat\, all you need to do is dance 🕺 \nJoin us from 3pm all the the way through till 9pm\, and help us kick off the Grooviest Summer YET 🍾
URL:https://chichesterbid.co.uk/event/grooves-at-the-george/
LOCATION:The George and Dragon Inn\, 51 North Street\, Chichester\, West Sussex\, PO19 1NQ\, United Kingdom
CATEGORIES:Alive after Five
ATTACH;FMTTYPE=image/jpeg:https://chichesterbid.co.uk/wp-content/uploads/2025/05/500210817_1281932837270264_3033954638184569755_n.jpg
END:VEVENT
BEGIN:VEVENT
DTSTART;TZID=UTC:20250622T193000
DTEND;TZID=UTC:20250622T193000
DTSTAMP:20260421T223408
CREATED:20250122T135512Z
LAST-MODIFIED:20250122T135512Z
UID:10021737-1750620600-1750620600@chichesterbid.co.uk
SUMMARY:Quiz Night at The Hole in the Wall
DESCRIPTION:Join The Hole in the Wall every Sunday* for their Quiz Night. \nFantastic prizes to be won for 1st and 2nd place winners. \n£2 entry per person. \nFrom 7.30pm. \nCall or pop in to book your table. \n*except Bank Holidays.
URL:https://chichesterbid.co.uk/event/quiz-night-at-the-hole-in-the-wall/2025-06-22/
LOCATION:The Hole in the Wall\, 1 St Martins Street\, Chichester\, West Sussex\, PO19 1NP
CATEGORIES:Alive after Five,Regular Events
ATTACH;FMTTYPE=image/jpeg:https://chichesterbid.co.uk/wp-content/uploads/2025/01/1000039800.jpg
END:VEVENT
END:VCALENDAR