BEGIN:VCALENDAR
VERSION:2.0
PRODID:-//Chichester BID - ECPv6.15.20//NONSGML v1.0//EN
CALSCALE:GREGORIAN
METHOD:PUBLISH
X-ORIGINAL-URL:https://chichesterbid.co.uk
X-WR-CALDESC:Events for Chichester BID
REFRESH-INTERVAL;VALUE=DURATION:PT1H
X-Robots-Tag:noindex
X-PUBLISHED-TTL:PT1H
BEGIN:VTIMEZONE
TZID:UTC
BEGIN:STANDARD
TZOFFSETFROM:+0000
TZOFFSETTO:+0000
TZNAME:UTC
DTSTART:20240101T000000
END:STANDARD
END:VTIMEZONE
BEGIN:VEVENT
DTSTART;TZID=UTC:20250709T200000
DTEND;TZID=UTC:20250709T200000
DTSTAMP:20260422T100211
CREATED:20240213T144051Z
LAST-MODIFIED:20240213T144051Z
UID:10009993-1752091200-1752091200@chichesterbid.co.uk
SUMMARY:Quiz Night at The George and Dragon Inn
DESCRIPTION:Join the George and Dragon for their weekly Quiz Night. \nEvery Wednesday. \nFrom 8pm.
URL:https://chichesterbid.co.uk/event/quiz-night-at-the-george-and-dragon-inn/2025-07-09/
LOCATION:The George and Dragon Inn\, 51 North Street\, Chichester\, West Sussex\, PO19 1NQ\, United Kingdom
CATEGORIES:Alive after Five,Regular Events
ATTACH;FMTTYPE=image/jpeg:https://chichesterbid.co.uk/wp-content/uploads/2024/02/Screenshot_20240213_143425_Facebook.jpg
END:VEVENT
BEGIN:VEVENT
DTSTART;TZID=UTC:20250709T200000
DTEND;TZID=UTC:20250709T200000
DTSTAMP:20260422T100211
CREATED:20240507T105502Z
LAST-MODIFIED:20251016T114113Z
UID:10013359-1752091200-1752091200@chichesterbid.co.uk
SUMMARY:Open Mic Night at Havana
DESCRIPTION:Join Havana every Wednesday for their Open Mic Night with Toby Bain.
URL:https://chichesterbid.co.uk/event/open-mic-night-at-havana-2/2025-07-09/
LOCATION:The Havana\, 3 Little London\, Chichester\, PO19 1PH
CATEGORIES:Alive after Five,Regular Events
ATTACH;FMTTYPE=image/jpeg:https://chichesterbid.co.uk/wp-content/uploads/2024/05/IMG-20251001-WA0008.jpg
END:VEVENT
BEGIN:VEVENT
DTSTART;TZID=UTC:20250710T190000
DTEND;TZID=UTC:20250710T190000
DTSTAMP:20260422T100211
CREATED:20250404T125451Z
LAST-MODIFIED:20250404T125451Z
UID:10022621-1752174000-1752174000@chichesterbid.co.uk
SUMMARY:Board Games Nights at The Ghost
DESCRIPTION:Chichester Board Games Bite & Brews are rolling out the dice and bringing the community together for a cosy\, competitive\, and downright fun evening upstairs at The Ghost 🕯️ \nHosted fortnightly on Thursday evenings by Chichester Board Games Bites & Brews\, their Board Games Night is the perfect midweek escape — whether you’re a seasoned strategist or just in it for the snacks and vibes. \n🔁 Fortnightly Thursdays\n📍 Upstairs at The Ghost at the Feast\n🔗 Follow the link to the group’s Meetup page – spaces are limited! \nBring your game face\, grab a pint\, and let the good times roll 🎉
URL:https://chichesterbid.co.uk/event/board-games-nights-at-the-ghost-2/2025-07-10/
LOCATION:The Ghost at the Feast\, 33-34 North Street\, Chichester\, PO19 1LX
CATEGORIES:Alive after Five,Regular Events
ATTACH;FMTTYPE=image/jpeg:https://chichesterbid.co.uk/wp-content/uploads/2025/04/488223769_17872999740327629_8511497639711245843_n.jpg
END:VEVENT
BEGIN:VEVENT
DTSTART;TZID=UTC:20250710T190000
DTEND;TZID=UTC:20250710T220000
DTSTAMP:20260422T100211
CREATED:20241024T122017Z
LAST-MODIFIED:20241024T122017Z
UID:10020626-1752174000-1752184800@chichesterbid.co.uk
SUMMARY:Open Mic Night at Trents
DESCRIPTION:Join Trents every Thursday 7.00-10.00pm for their weekly Open Mic Night with Adam Ede. \nAll abilities welcome\, no pre-booking. Just turn up\, put your name down and play!
URL:https://chichesterbid.co.uk/event/open-mic-night-at-trents/2025-07-10/
LOCATION:Trents\, 50 South Street\, Chichester\, West Sussex\, PO19 1DS
CATEGORIES:Alive after Five,Regular Events
ATTACH;FMTTYPE=image/png:https://chichesterbid.co.uk/wp-content/uploads/2024/10/Trents.png
END:VEVENT
BEGIN:VEVENT
DTSTART;TZID=UTC:20250710T200000
DTEND;TZID=UTC:20250710T200000
DTSTAMP:20260422T100211
CREATED:20230516T081132Z
LAST-MODIFIED:20240426T140925Z
UID:10013093-1752177600-1752177600@chichesterbid.co.uk
SUMMARY:Quiz Night at the Old Cross
DESCRIPTION:Join the Old Cross for their ever popular Quiz Night every Thursday from 8pm hosted by the fabulous Ross Presto. \nMax 6 per team\, £1 per person entry. \nWin Cash and other prizes! \nTables are in high demand so book early! Call 01243 536290 to book!
URL:https://chichesterbid.co.uk/event/quiz-night-at-the-old-cross/2025-07-10/
LOCATION:Old Cross Pub\, North Street\, Chichester\, West Sussex\, PO19 1LP
CATEGORIES:Alive after Five,Regular Events
ATTACH;FMTTYPE=image/jpeg:https://chichesterbid.co.uk/wp-content/uploads/2023/05/433972692_1442514786691843_1586512832932766491_n.jpg
END:VEVENT
BEGIN:VEVENT
DTSTART;TZID=UTC:20250713T193000
DTEND;TZID=UTC:20250713T193000
DTSTAMP:20260422T100211
CREATED:20250122T135512Z
LAST-MODIFIED:20250122T135512Z
UID:10021740-1752435000-1752435000@chichesterbid.co.uk
SUMMARY:Quiz Night at The Hole in the Wall
DESCRIPTION:Join The Hole in the Wall every Sunday* for their Quiz Night. \nFantastic prizes to be won for 1st and 2nd place winners. \n£2 entry per person. \nFrom 7.30pm. \nCall or pop in to book your table. \n*except Bank Holidays.
URL:https://chichesterbid.co.uk/event/quiz-night-at-the-hole-in-the-wall/2025-07-13/
LOCATION:The Hole in the Wall\, 1 St Martins Street\, Chichester\, West Sussex\, PO19 1NP
CATEGORIES:Alive after Five,Regular Events
ATTACH;FMTTYPE=image/jpeg:https://chichesterbid.co.uk/wp-content/uploads/2025/01/1000039800.jpg
END:VEVENT
BEGIN:VEVENT
DTSTART;TZID=UTC:20250714T193000
DTEND;TZID=UTC:20250714T193000
DTSTAMP:20260422T100211
CREATED:20231027T115511Z
LAST-MODIFIED:20240426T140047Z
UID:10012832-1752521400-1752521400@chichesterbid.co.uk
SUMMARY:QuizSing at The Chantry
DESCRIPTION:Join The Chantry every Monday from 7:30-9:30 for their quiz which then goes straight into karaoke till midnight!
URL:https://chichesterbid.co.uk/event/quiz-night-at-the-chantry/2025-07-14/
LOCATION:The Chantry\, 27-28 South Street\, Chichester\, West Sussex\, PO19 1ES
CATEGORIES:Alive after Five
ATTACH;FMTTYPE=image/jpeg:https://chichesterbid.co.uk/wp-content/uploads/2023/10/438670575_7491338324313177_4849260973365154993_n.jpg
END:VEVENT
BEGIN:VEVENT
DTSTART;TZID=UTC:20250715T200000
DTEND;TZID=UTC:20250715T200000
DTSTAMP:20260422T100211
CREATED:20250122T135926Z
LAST-MODIFIED:20250502T094438Z
UID:10022001-1752609600-1752609600@chichesterbid.co.uk
SUMMARY:Jam Night at The Hole in the Wall
DESCRIPTION:Join The Hole in the Wall every Tuesday for their weekly Live Band Jam Night. \nAll styles welcome. \n  \n 
URL:https://chichesterbid.co.uk/event/jam-night-at-the-hole-in-the-wall/2025-07-15/
LOCATION:The Hole in the Wall\, 1 St Martins Street\, Chichester\, West Sussex\, PO19 1NP
CATEGORIES:Alive after Five,Regular Events
ATTACH;FMTTYPE=image/jpeg:https://chichesterbid.co.uk/wp-content/uploads/2025/01/HITWJam-scaled.jpg
END:VEVENT
BEGIN:VEVENT
DTSTART;TZID=UTC:20250716T200000
DTEND;TZID=UTC:20250716T200000
DTSTAMP:20260422T100211
CREATED:20240213T144051Z
LAST-MODIFIED:20240213T144051Z
UID:10009994-1752696000-1752696000@chichesterbid.co.uk
SUMMARY:Quiz Night at The George and Dragon Inn
DESCRIPTION:Join the George and Dragon for their weekly Quiz Night. \nEvery Wednesday. \nFrom 8pm.
URL:https://chichesterbid.co.uk/event/quiz-night-at-the-george-and-dragon-inn/2025-07-16/
LOCATION:The George and Dragon Inn\, 51 North Street\, Chichester\, West Sussex\, PO19 1NQ\, United Kingdom
CATEGORIES:Alive after Five,Regular Events
ATTACH;FMTTYPE=image/jpeg:https://chichesterbid.co.uk/wp-content/uploads/2024/02/Screenshot_20240213_143425_Facebook.jpg
END:VEVENT
BEGIN:VEVENT
DTSTART;TZID=UTC:20250716T200000
DTEND;TZID=UTC:20250716T200000
DTSTAMP:20260422T100211
CREATED:20240507T105502Z
LAST-MODIFIED:20251016T114113Z
UID:10013360-1752696000-1752696000@chichesterbid.co.uk
SUMMARY:Open Mic Night at Havana
DESCRIPTION:Join Havana every Wednesday for their Open Mic Night with Toby Bain.
URL:https://chichesterbid.co.uk/event/open-mic-night-at-havana-2/2025-07-16/
LOCATION:The Havana\, 3 Little London\, Chichester\, PO19 1PH
CATEGORIES:Alive after Five,Regular Events
ATTACH;FMTTYPE=image/jpeg:https://chichesterbid.co.uk/wp-content/uploads/2024/05/IMG-20251001-WA0008.jpg
END:VEVENT
BEGIN:VEVENT
DTSTART;TZID=UTC:20250717T190000
DTEND;TZID=UTC:20250717T220000
DTSTAMP:20260422T100211
CREATED:20241024T122017Z
LAST-MODIFIED:20241024T122017Z
UID:10020627-1752778800-1752789600@chichesterbid.co.uk
SUMMARY:Open Mic Night at Trents
DESCRIPTION:Join Trents every Thursday 7.00-10.00pm for their weekly Open Mic Night with Adam Ede. \nAll abilities welcome\, no pre-booking. Just turn up\, put your name down and play!
URL:https://chichesterbid.co.uk/event/open-mic-night-at-trents/2025-07-17/
LOCATION:Trents\, 50 South Street\, Chichester\, West Sussex\, PO19 1DS
CATEGORIES:Alive after Five,Regular Events
ATTACH;FMTTYPE=image/png:https://chichesterbid.co.uk/wp-content/uploads/2024/10/Trents.png
END:VEVENT
BEGIN:VEVENT
DTSTART;TZID=UTC:20250717T200000
DTEND;TZID=UTC:20250717T200000
DTSTAMP:20260422T100211
CREATED:20230516T081132Z
LAST-MODIFIED:20240426T140925Z
UID:10013094-1752782400-1752782400@chichesterbid.co.uk
SUMMARY:Quiz Night at the Old Cross
DESCRIPTION:Join the Old Cross for their ever popular Quiz Night every Thursday from 8pm hosted by the fabulous Ross Presto. \nMax 6 per team\, £1 per person entry. \nWin Cash and other prizes! \nTables are in high demand so book early! Call 01243 536290 to book!
URL:https://chichesterbid.co.uk/event/quiz-night-at-the-old-cross/2025-07-17/
LOCATION:Old Cross Pub\, North Street\, Chichester\, West Sussex\, PO19 1LP
CATEGORIES:Alive after Five,Regular Events
ATTACH;FMTTYPE=image/jpeg:https://chichesterbid.co.uk/wp-content/uploads/2023/05/433972692_1442514786691843_1586512832932766491_n.jpg
END:VEVENT
BEGIN:VEVENT
DTSTART;TZID=UTC:20250719T190000
DTEND;TZID=UTC:20250719T190000
DTSTAMP:20260422T100211
CREATED:20250411T084506Z
LAST-MODIFIED:20251015T115746Z
UID:10023762-1752951600-1752951600@chichesterbid.co.uk
SUMMARY:Latin Night at The Havana
DESCRIPTION:Join the Havana for their monthly Latin Night on the third Saturday of each month.
URL:https://chichesterbid.co.uk/event/latin-night-at-the-havana/2025-07-19/
LOCATION:The Havana\, 3 Little London\, Chichester\, PO19 1PH
CATEGORIES:Alive after Five
END:VEVENT
BEGIN:VEVENT
DTSTART;TZID=UTC:20250720T193000
DTEND;TZID=UTC:20250720T193000
DTSTAMP:20260422T100211
CREATED:20250122T135512Z
LAST-MODIFIED:20250122T135512Z
UID:10021741-1753039800-1753039800@chichesterbid.co.uk
SUMMARY:Quiz Night at The Hole in the Wall
DESCRIPTION:Join The Hole in the Wall every Sunday* for their Quiz Night. \nFantastic prizes to be won for 1st and 2nd place winners. \n£2 entry per person. \nFrom 7.30pm. \nCall or pop in to book your table. \n*except Bank Holidays.
URL:https://chichesterbid.co.uk/event/quiz-night-at-the-hole-in-the-wall/2025-07-20/
LOCATION:The Hole in the Wall\, 1 St Martins Street\, Chichester\, West Sussex\, PO19 1NP
CATEGORIES:Alive after Five,Regular Events
ATTACH;FMTTYPE=image/jpeg:https://chichesterbid.co.uk/wp-content/uploads/2025/01/1000039800.jpg
END:VEVENT
BEGIN:VEVENT
DTSTART;TZID=UTC:20250721T193000
DTEND;TZID=UTC:20250721T193000
DTSTAMP:20260422T100211
CREATED:20231027T115511Z
LAST-MODIFIED:20240426T140047Z
UID:10012833-1753126200-1753126200@chichesterbid.co.uk
SUMMARY:QuizSing at The Chantry
DESCRIPTION:Join The Chantry every Monday from 7:30-9:30 for their quiz which then goes straight into karaoke till midnight!
URL:https://chichesterbid.co.uk/event/quiz-night-at-the-chantry/2025-07-21/
LOCATION:The Chantry\, 27-28 South Street\, Chichester\, West Sussex\, PO19 1ES
CATEGORIES:Alive after Five
ATTACH;FMTTYPE=image/jpeg:https://chichesterbid.co.uk/wp-content/uploads/2023/10/438670575_7491338324313177_4849260973365154993_n.jpg
END:VEVENT
BEGIN:VEVENT
DTSTART;TZID=UTC:20250722T200000
DTEND;TZID=UTC:20250722T200000
DTSTAMP:20260422T100211
CREATED:20250122T135926Z
LAST-MODIFIED:20250502T094438Z
UID:10022002-1753214400-1753214400@chichesterbid.co.uk
SUMMARY:Jam Night at The Hole in the Wall
DESCRIPTION:Join The Hole in the Wall every Tuesday for their weekly Live Band Jam Night. \nAll styles welcome. \n  \n 
URL:https://chichesterbid.co.uk/event/jam-night-at-the-hole-in-the-wall/2025-07-22/
LOCATION:The Hole in the Wall\, 1 St Martins Street\, Chichester\, West Sussex\, PO19 1NP
CATEGORIES:Alive after Five,Regular Events
ATTACH;FMTTYPE=image/jpeg:https://chichesterbid.co.uk/wp-content/uploads/2025/01/HITWJam-scaled.jpg
END:VEVENT
BEGIN:VEVENT
DTSTART;TZID=UTC:20250723T200000
DTEND;TZID=UTC:20250723T200000
DTSTAMP:20260422T100211
CREATED:20240213T144051Z
LAST-MODIFIED:20240213T144051Z
UID:10009995-1753300800-1753300800@chichesterbid.co.uk
SUMMARY:Quiz Night at The George and Dragon Inn
DESCRIPTION:Join the George and Dragon for their weekly Quiz Night. \nEvery Wednesday. \nFrom 8pm.
URL:https://chichesterbid.co.uk/event/quiz-night-at-the-george-and-dragon-inn/2025-07-23/
LOCATION:The George and Dragon Inn\, 51 North Street\, Chichester\, West Sussex\, PO19 1NQ\, United Kingdom
CATEGORIES:Alive after Five,Regular Events
ATTACH;FMTTYPE=image/jpeg:https://chichesterbid.co.uk/wp-content/uploads/2024/02/Screenshot_20240213_143425_Facebook.jpg
END:VEVENT
BEGIN:VEVENT
DTSTART;TZID=UTC:20250723T200000
DTEND;TZID=UTC:20250723T200000
DTSTAMP:20260422T100211
CREATED:20240507T105502Z
LAST-MODIFIED:20251016T114113Z
UID:10013361-1753300800-1753300800@chichesterbid.co.uk
SUMMARY:Open Mic Night at Havana
DESCRIPTION:Join Havana every Wednesday for their Open Mic Night with Toby Bain.
URL:https://chichesterbid.co.uk/event/open-mic-night-at-havana-2/2025-07-23/
LOCATION:The Havana\, 3 Little London\, Chichester\, PO19 1PH
CATEGORIES:Alive after Five,Regular Events
ATTACH;FMTTYPE=image/jpeg:https://chichesterbid.co.uk/wp-content/uploads/2024/05/IMG-20251001-WA0008.jpg
END:VEVENT
BEGIN:VEVENT
DTSTART;TZID=UTC:20250724T190000
DTEND;TZID=UTC:20250724T190000
DTSTAMP:20260422T100211
CREATED:20250404T125451Z
LAST-MODIFIED:20250404T125451Z
UID:10022623-1753383600-1753383600@chichesterbid.co.uk
SUMMARY:Board Games Nights at The Ghost
DESCRIPTION:Chichester Board Games Bite & Brews are rolling out the dice and bringing the community together for a cosy\, competitive\, and downright fun evening upstairs at The Ghost 🕯️ \nHosted fortnightly on Thursday evenings by Chichester Board Games Bites & Brews\, their Board Games Night is the perfect midweek escape — whether you’re a seasoned strategist or just in it for the snacks and vibes. \n🔁 Fortnightly Thursdays\n📍 Upstairs at The Ghost at the Feast\n🔗 Follow the link to the group’s Meetup page – spaces are limited! \nBring your game face\, grab a pint\, and let the good times roll 🎉
URL:https://chichesterbid.co.uk/event/board-games-nights-at-the-ghost-2/2025-07-24/
LOCATION:The Ghost at the Feast\, 33-34 North Street\, Chichester\, PO19 1LX
CATEGORIES:Alive after Five,Regular Events
ATTACH;FMTTYPE=image/jpeg:https://chichesterbid.co.uk/wp-content/uploads/2025/04/488223769_17872999740327629_8511497639711245843_n.jpg
END:VEVENT
BEGIN:VEVENT
DTSTART;TZID=UTC:20250724T190000
DTEND;TZID=UTC:20250724T220000
DTSTAMP:20260422T100211
CREATED:20241024T122017Z
LAST-MODIFIED:20241024T122017Z
UID:10020628-1753383600-1753394400@chichesterbid.co.uk
SUMMARY:Open Mic Night at Trents
DESCRIPTION:Join Trents every Thursday 7.00-10.00pm for their weekly Open Mic Night with Adam Ede. \nAll abilities welcome\, no pre-booking. Just turn up\, put your name down and play!
URL:https://chichesterbid.co.uk/event/open-mic-night-at-trents/2025-07-24/
LOCATION:Trents\, 50 South Street\, Chichester\, West Sussex\, PO19 1DS
CATEGORIES:Alive after Five,Regular Events
ATTACH;FMTTYPE=image/png:https://chichesterbid.co.uk/wp-content/uploads/2024/10/Trents.png
END:VEVENT
BEGIN:VEVENT
DTSTART;TZID=UTC:20250724T200000
DTEND;TZID=UTC:20250724T200000
DTSTAMP:20260422T100211
CREATED:20230516T081132Z
LAST-MODIFIED:20240426T140925Z
UID:10013095-1753387200-1753387200@chichesterbid.co.uk
SUMMARY:Quiz Night at the Old Cross
DESCRIPTION:Join the Old Cross for their ever popular Quiz Night every Thursday from 8pm hosted by the fabulous Ross Presto. \nMax 6 per team\, £1 per person entry. \nWin Cash and other prizes! \nTables are in high demand so book early! Call 01243 536290 to book!
URL:https://chichesterbid.co.uk/event/quiz-night-at-the-old-cross/2025-07-24/
LOCATION:Old Cross Pub\, North Street\, Chichester\, West Sussex\, PO19 1LP
CATEGORIES:Alive after Five,Regular Events
ATTACH;FMTTYPE=image/jpeg:https://chichesterbid.co.uk/wp-content/uploads/2023/05/433972692_1442514786691843_1586512832932766491_n.jpg
END:VEVENT
BEGIN:VEVENT
DTSTART;TZID=UTC:20250727T193000
DTEND;TZID=UTC:20250727T193000
DTSTAMP:20260422T100211
CREATED:20250122T135512Z
LAST-MODIFIED:20250122T135512Z
UID:10021742-1753644600-1753644600@chichesterbid.co.uk
SUMMARY:Quiz Night at The Hole in the Wall
DESCRIPTION:Join The Hole in the Wall every Sunday* for their Quiz Night. \nFantastic prizes to be won for 1st and 2nd place winners. \n£2 entry per person. \nFrom 7.30pm. \nCall or pop in to book your table. \n*except Bank Holidays.
URL:https://chichesterbid.co.uk/event/quiz-night-at-the-hole-in-the-wall/2025-07-27/
LOCATION:The Hole in the Wall\, 1 St Martins Street\, Chichester\, West Sussex\, PO19 1NP
CATEGORIES:Alive after Five,Regular Events
ATTACH;FMTTYPE=image/jpeg:https://chichesterbid.co.uk/wp-content/uploads/2025/01/1000039800.jpg
END:VEVENT
BEGIN:VEVENT
DTSTART;TZID=UTC:20250728T193000
DTEND;TZID=UTC:20250728T193000
DTSTAMP:20260422T100211
CREATED:20231027T115511Z
LAST-MODIFIED:20240426T140047Z
UID:10012834-1753731000-1753731000@chichesterbid.co.uk
SUMMARY:QuizSing at The Chantry
DESCRIPTION:Join The Chantry every Monday from 7:30-9:30 for their quiz which then goes straight into karaoke till midnight!
URL:https://chichesterbid.co.uk/event/quiz-night-at-the-chantry/2025-07-28/
LOCATION:The Chantry\, 27-28 South Street\, Chichester\, West Sussex\, PO19 1ES
CATEGORIES:Alive after Five
ATTACH;FMTTYPE=image/jpeg:https://chichesterbid.co.uk/wp-content/uploads/2023/10/438670575_7491338324313177_4849260973365154993_n.jpg
END:VEVENT
BEGIN:VEVENT
DTSTART;TZID=UTC:20250729T200000
DTEND;TZID=UTC:20250729T200000
DTSTAMP:20260422T100211
CREATED:20250122T135926Z
LAST-MODIFIED:20250502T094438Z
UID:10022003-1753819200-1753819200@chichesterbid.co.uk
SUMMARY:Jam Night at The Hole in the Wall
DESCRIPTION:Join The Hole in the Wall every Tuesday for their weekly Live Band Jam Night. \nAll styles welcome. \n  \n 
URL:https://chichesterbid.co.uk/event/jam-night-at-the-hole-in-the-wall/2025-07-29/
LOCATION:The Hole in the Wall\, 1 St Martins Street\, Chichester\, West Sussex\, PO19 1NP
CATEGORIES:Alive after Five,Regular Events
ATTACH;FMTTYPE=image/jpeg:https://chichesterbid.co.uk/wp-content/uploads/2025/01/HITWJam-scaled.jpg
END:VEVENT
BEGIN:VEVENT
DTSTART;TZID=UTC:20250730T180000
DTEND;TZID=UTC:20250730T220000
DTSTAMP:20260422T100211
CREATED:20250213T141340Z
LAST-MODIFIED:20250527T101948Z
UID:10024197-1753898400-1753912800@chichesterbid.co.uk
SUMMARY:Open Deck Night at Jam Cafe
DESCRIPTION:Supported by the boys from C-Side Sounds…learn how to to mix your favourite tracks or show off what you can do. \nUnder 18’s 6-8pm / Over 18’s 8-10pm \n 
URL:https://chichesterbid.co.uk/event/open-deck-at-jam-cafe/2025-07-30/
LOCATION:JAM Cafe\, 33 Southgate\, Chichester\, West Sussex\, PO19 1DP
CATEGORIES:Alive after Five,Live Music
ATTACH;FMTTYPE=image/webp:https://chichesterbid.co.uk/wp-content/uploads/2025/02/ed0e5c_0f05862f5556474d97640f7bffe40244mv2.webp
ORGANIZER;CN="JAM":MAILTO:info@creativebeatz.co.uk
END:VEVENT
BEGIN:VEVENT
DTSTART;TZID=UTC:20250730T200000
DTEND;TZID=UTC:20250730T200000
DTSTAMP:20260422T100211
CREATED:20240213T144051Z
LAST-MODIFIED:20240213T144051Z
UID:10009996-1753905600-1753905600@chichesterbid.co.uk
SUMMARY:Quiz Night at The George and Dragon Inn
DESCRIPTION:Join the George and Dragon for their weekly Quiz Night. \nEvery Wednesday. \nFrom 8pm.
URL:https://chichesterbid.co.uk/event/quiz-night-at-the-george-and-dragon-inn/2025-07-30/
LOCATION:The George and Dragon Inn\, 51 North Street\, Chichester\, West Sussex\, PO19 1NQ\, United Kingdom
CATEGORIES:Alive after Five,Regular Events
ATTACH;FMTTYPE=image/jpeg:https://chichesterbid.co.uk/wp-content/uploads/2024/02/Screenshot_20240213_143425_Facebook.jpg
END:VEVENT
BEGIN:VEVENT
DTSTART;TZID=UTC:20250730T200000
DTEND;TZID=UTC:20250730T200000
DTSTAMP:20260422T100211
CREATED:20240507T105502Z
LAST-MODIFIED:20251016T114113Z
UID:10013362-1753905600-1753905600@chichesterbid.co.uk
SUMMARY:Open Mic Night at Havana
DESCRIPTION:Join Havana every Wednesday for their Open Mic Night with Toby Bain.
URL:https://chichesterbid.co.uk/event/open-mic-night-at-havana-2/2025-07-30/
LOCATION:The Havana\, 3 Little London\, Chichester\, PO19 1PH
CATEGORIES:Alive after Five,Regular Events
ATTACH;FMTTYPE=image/jpeg:https://chichesterbid.co.uk/wp-content/uploads/2024/05/IMG-20251001-WA0008.jpg
END:VEVENT
BEGIN:VEVENT
DTSTART;TZID=UTC:20250731T190000
DTEND;TZID=UTC:20250731T220000
DTSTAMP:20260422T100211
CREATED:20241024T122017Z
LAST-MODIFIED:20241024T122017Z
UID:10020629-1753988400-1753999200@chichesterbid.co.uk
SUMMARY:Open Mic Night at Trents
DESCRIPTION:Join Trents every Thursday 7.00-10.00pm for their weekly Open Mic Night with Adam Ede. \nAll abilities welcome\, no pre-booking. Just turn up\, put your name down and play!
URL:https://chichesterbid.co.uk/event/open-mic-night-at-trents/2025-07-31/
LOCATION:Trents\, 50 South Street\, Chichester\, West Sussex\, PO19 1DS
CATEGORIES:Alive after Five,Regular Events
ATTACH;FMTTYPE=image/png:https://chichesterbid.co.uk/wp-content/uploads/2024/10/Trents.png
END:VEVENT
BEGIN:VEVENT
DTSTART;TZID=UTC:20250731T200000
DTEND;TZID=UTC:20250731T200000
DTSTAMP:20260422T100211
CREATED:20230516T081132Z
LAST-MODIFIED:20240426T140925Z
UID:10013096-1753992000-1753992000@chichesterbid.co.uk
SUMMARY:Quiz Night at the Old Cross
DESCRIPTION:Join the Old Cross for their ever popular Quiz Night every Thursday from 8pm hosted by the fabulous Ross Presto. \nMax 6 per team\, £1 per person entry. \nWin Cash and other prizes! \nTables are in high demand so book early! Call 01243 536290 to book!
URL:https://chichesterbid.co.uk/event/quiz-night-at-the-old-cross/2025-07-31/
LOCATION:Old Cross Pub\, North Street\, Chichester\, West Sussex\, PO19 1LP
CATEGORIES:Alive after Five,Regular Events
ATTACH;FMTTYPE=image/jpeg:https://chichesterbid.co.uk/wp-content/uploads/2023/05/433972692_1442514786691843_1586512832932766491_n.jpg
END:VEVENT
BEGIN:VEVENT
DTSTART;TZID=UTC:20250802T200000
DTEND;TZID=UTC:20250802T200000
DTSTAMP:20260422T100211
CREATED:20250411T084913Z
LAST-MODIFIED:20250411T085154Z
UID:10023822-1754164800-1754164800@chichesterbid.co.uk
SUMMARY:Chi's Got Grooves at The Havana
DESCRIPTION:Join The Havana on the first Saturday of the month for their monthly Chi’s Got Grooves. \nFree Entry \nC-Side Sounds \n 
URL:https://chichesterbid.co.uk/event/chis-got-grooves-at-the-havana/2025-08-02/
LOCATION:The Havana\, 3 Little London\, Chichester\, PO19 1PH
CATEGORIES:Alive after Five
ATTACH;FMTTYPE=image/avif:https://chichesterbid.co.uk/wp-content/uploads/2025/04/n2qT4fwYIWLpVWlJTpGsnNl6Ns-1.avif
END:VEVENT
END:VCALENDAR