BEGIN:VCALENDAR
VERSION:2.0
PRODID:-//Chichester BID - ECPv6.15.20//NONSGML v1.0//EN
CALSCALE:GREGORIAN
METHOD:PUBLISH
X-WR-CALNAME:Chichester BID
X-ORIGINAL-URL:https://chichesterbid.co.uk
X-WR-CALDESC:Events for Chichester BID
REFRESH-INTERVAL;VALUE=DURATION:PT1H
X-Robots-Tag:noindex
X-PUBLISHED-TTL:PT1H
BEGIN:VTIMEZONE
TZID:UTC
BEGIN:STANDARD
TZOFFSETFROM:+0000
TZOFFSETTO:+0000
TZNAME:UTC
DTSTART:20240101T000000
END:STANDARD
END:VTIMEZONE
BEGIN:VEVENT
DTSTART;TZID=UTC:20250121T100000
DTEND;TZID=UTC:20250216T160000
DTSTAMP:20260422T175441
CREATED:20250110T102547Z
LAST-MODIFIED:20250110T102644Z
UID:10021116-1737453600-1739721600@chichesterbid.co.uk
SUMMARY:Art is for Everyone at Oxmarket Contemporary
DESCRIPTION:After Keith Haring proclaimed that ‘Art is for everybody’\, a generation of artists from the 60’s have been striving to make art relevant and accessible to all\, not just an elite few. Access to art is the vision on which Oxmarket Contemporary was conceived by its founders and by which we continue to operate. We believe artists come from all walks of life and art can be enjoyed and owned in its many forms\, by everyone. \nArt is for Everyone\, the exhibition where creativity meets accessibility!  It brings together a diverse range of talented artists and makers\, offering high-quality artwork at affordable prices. Our goal is to make art accessible to everyone\, whether you’re a seasoned collector or a first-time buyer. Our curated collection reflects the vibrant spectrum of artists in our community\, providing a platform to share their vision.  With a focus on emerging talent and unique artistic expressions\, we showcase a variety of mediums\, including paintings\, print\, photography\, sculpture\, ceramics\, jewellery and mixed media. \nJoin us in supporting the arts\, while celebrating affordability\, diversity and inclusion through art. \nDuring the exhibition we will be hosting courses run by artists and makers.  A chance for everyone to enjoy taking part in a creative activity.
URL:https://chichesterbid.co.uk/event/art-is-for-everyone-at-oxmarket-contemporary/
LOCATION:Oxmarket Contemporary\, St Andrew’s Court off East Street\, Chichester\, West Sussex\, PO19 1YH
CATEGORIES:Art,Exhibitions
ATTACH;FMTTYPE=image/jpeg:https://chichesterbid.co.uk/wp-content/uploads/2025/01/SteveGallagher-Golden-Tulip-Med-Res.jpg
ORGANIZER;CN="Oxmarket Contemporary":MAILTO:admin@oxmarket.org
END:VEVENT
BEGIN:VEVENT
DTSTART;TZID=UTC:20250204T180000
DTEND;TZID=UTC:20250204T190000
DTSTAMP:20260422T175441
CREATED:20250110T115817Z
LAST-MODIFIED:20250211T110835Z
UID:10021141-1738692000-1738695600@chichesterbid.co.uk
SUMMARY:Mindful Colouring Club at The Young People's Shop
DESCRIPTION:Join The Young People’s Shop for their weekly Mindful Colouring Club! \nGrab some colours\, pick a design\, and let the stress melt away one stroke at a time. It’s not about being perfect – it’s about feeling good. \n 
URL:https://chichesterbid.co.uk/event/mindful-colouring-club-at-the-young-peoples-shop/2025-02-04/
LOCATION:Young People’s Shop\, 29 South Street\, Chichester\, West Sussex\, PO19 1EL
CATEGORIES:Art,Regular Events
ATTACH;FMTTYPE=image/jpeg:https://chichesterbid.co.uk/wp-content/uploads/2025/01/Mindful-Colouring2.jpg
ORGANIZER;CN="Young People's Shop":MAILTO:contact@yps-south.org.uk
END:VEVENT
BEGIN:VEVENT
DTSTART;TZID=UTC:20250211T180000
DTEND;TZID=UTC:20250211T190000
DTSTAMP:20260422T175441
CREATED:20250110T115817Z
LAST-MODIFIED:20250211T110835Z
UID:10021142-1739296800-1739300400@chichesterbid.co.uk
SUMMARY:Mindful Colouring Club at The Young People's Shop
DESCRIPTION:Join The Young People’s Shop for their weekly Mindful Colouring Club! \nGrab some colours\, pick a design\, and let the stress melt away one stroke at a time. It’s not about being perfect – it’s about feeling good. \n 
URL:https://chichesterbid.co.uk/event/mindful-colouring-club-at-the-young-peoples-shop/2025-02-11/
LOCATION:Young People’s Shop\, 29 South Street\, Chichester\, West Sussex\, PO19 1EL
CATEGORIES:Art,Regular Events
ATTACH;FMTTYPE=image/jpeg:https://chichesterbid.co.uk/wp-content/uploads/2025/01/Mindful-Colouring2.jpg
ORGANIZER;CN="Young People's Shop":MAILTO:contact@yps-south.org.uk
END:VEVENT
BEGIN:VEVENT
DTSTART;TZID=UTC:20250222T100000
DTEND;TZID=UTC:20250222T120000
DTSTAMP:20260422T175441
CREATED:20250109T121822Z
LAST-MODIFIED:20250109T121910Z
UID:10014571-1740218400-1740225600@chichesterbid.co.uk
SUMMARY:Saturday Art & Craft at Pallant House Gallery
DESCRIPTION:Join Pallant House Gallery for creative workshops suitable for all the family. \n\n\nBe inspired by our changing exhibitions throughout the year and take part in a creative and relaxed workshop session. Whether it is block printing or creating a collage\, these activities are suitable for all ages and abilities and make a wonderful addition to a family day out. \n\nJoin us for creative workshops suitable for all the family. \nBe inspired by our changing exhibitions throughout the year and take part in a creative and relaxed workshop session. Whether it is block printing or creating a collage\, these activities are suitable for all ages and abilities and make a wonderful addition to a family day out. \n\n\nThese workshops are suitable for children aged 5 and up\, but we can offer drawing materials for younger children. \nYou can drop-in and take part at any time between 11am and 1pm. \nYou can join the workshop for FREE. If you would also like to visit our exhibitions and collections\, any 2 accompanying adults can enjoy half price admission (under 18s enter for free). Just click on the Buy Tickets button above to book your place. Adults do not need tickets for children to take part in the workshop. \nUpcoming dates: \n22nd February\, 10am-12pm \n29th March\, 10am-12pm \nThere is no April Saturday Art and Craft as we will be delivering our Open Day on the 12th April \nPlease note that we will be admitting a maximum of 25 people per hour slot (slots start at 10am and 11am) into our space at any one time and parents or guardians must stay with the child throughout the session. All are welcome to wait in our café or explore our exhibitions if a queue develops.
URL:https://chichesterbid.co.uk/event/saturday-art-craft-at-pallant-house-gallery-2/2025-02-22/
LOCATION:Pallant House Gallery\, 9 North Pallant\, Chichester\, PO19 1TJ
CATEGORIES:Art,Family Friendly
ATTACH;FMTTYPE=image/jpeg:https://chichesterbid.co.uk/wp-content/uploads/2023/08/pallant-arts-and-crafts.jpg
END:VEVENT
END:VCALENDAR