BEGIN:VCALENDAR
VERSION:2.0
PRODID:-//Chichester BID - ECPv6.15.20//NONSGML v1.0//EN
CALSCALE:GREGORIAN
METHOD:PUBLISH
X-ORIGINAL-URL:https://chichesterbid.co.uk
X-WR-CALDESC:Events for Chichester BID
REFRESH-INTERVAL;VALUE=DURATION:PT1H
X-Robots-Tag:noindex
X-PUBLISHED-TTL:PT1H
BEGIN:VTIMEZONE
TZID:UTC
BEGIN:STANDARD
TZOFFSETFROM:+0000
TZOFFSETTO:+0000
TZNAME:UTC
DTSTART:20240101T000000
END:STANDARD
END:VTIMEZONE
BEGIN:VEVENT
DTSTART;TZID=UTC:20250329T100000
DTEND;TZID=UTC:20250329T120000
DTSTAMP:20260422T110230
CREATED:20250109T121822Z
LAST-MODIFIED:20250109T121910Z
UID:10021108-1743242400-1743249600@chichesterbid.co.uk
SUMMARY:Saturday Art & Craft at Pallant House Gallery
DESCRIPTION:Join Pallant House Gallery for creative workshops suitable for all the family. \n\n\nBe inspired by our changing exhibitions throughout the year and take part in a creative and relaxed workshop session. Whether it is block printing or creating a collage\, these activities are suitable for all ages and abilities and make a wonderful addition to a family day out. \n\nJoin us for creative workshops suitable for all the family. \nBe inspired by our changing exhibitions throughout the year and take part in a creative and relaxed workshop session. Whether it is block printing or creating a collage\, these activities are suitable for all ages and abilities and make a wonderful addition to a family day out. \n\n\nThese workshops are suitable for children aged 5 and up\, but we can offer drawing materials for younger children. \nYou can drop-in and take part at any time between 11am and 1pm. \nYou can join the workshop for FREE. If you would also like to visit our exhibitions and collections\, any 2 accompanying adults can enjoy half price admission (under 18s enter for free). Just click on the Buy Tickets button above to book your place. Adults do not need tickets for children to take part in the workshop. \nUpcoming dates: \n22nd February\, 10am-12pm \n29th March\, 10am-12pm \nThere is no April Saturday Art and Craft as we will be delivering our Open Day on the 12th April \nPlease note that we will be admitting a maximum of 25 people per hour slot (slots start at 10am and 11am) into our space at any one time and parents or guardians must stay with the child throughout the session. All are welcome to wait in our café or explore our exhibitions if a queue develops.
URL:https://chichesterbid.co.uk/event/saturday-art-craft-at-pallant-house-gallery-2/2025-03-29/
LOCATION:Pallant House Gallery\, 9 North Pallant\, Chichester\, PO19 1TJ
CATEGORIES:Art,Family Friendly
ATTACH;FMTTYPE=image/jpeg:https://chichesterbid.co.uk/wp-content/uploads/2023/08/pallant-arts-and-crafts.jpg
END:VEVENT
END:VCALENDAR