BEGIN:VCALENDAR
VERSION:2.0
PRODID:-//Chichester BID - ECPv6.15.17.1//NONSGML v1.0//EN
CALSCALE:GREGORIAN
METHOD:PUBLISH
X-WR-CALNAME:Chichester BID
X-ORIGINAL-URL:https://chichesterbid.co.uk
X-WR-CALDESC:Events for Chichester BID
REFRESH-INTERVAL;VALUE=DURATION:PT1H
X-Robots-Tag:noindex
X-PUBLISHED-TTL:PT1H
BEGIN:VTIMEZONE
TZID:UTC
BEGIN:STANDARD
TZOFFSETFROM:+0000
TZOFFSETTO:+0000
TZNAME:UTC
DTSTART:20250101T000000
END:STANDARD
END:VTIMEZONE
BEGIN:VEVENT
DTSTART;TZID=UTC:20261205T110000
DTEND;TZID=UTC:20261205T120000
DTSTAMP:20260419T130521
CREATED:20260416T120129Z
LAST-MODIFIED:20260416T120129Z
UID:10027084-1796468400-1796472000@chichesterbid.co.uk
SUMMARY:Highlights of the Collection Tour at Pallant House Gallery
DESCRIPTION:Join one of our experienced Guides for a tour of the collection in the historic house. \n\n\nExplore Pallant House Gallery with one of our guides and let them share their knowledge and passion for the artists and works in our collection. They will take you on a journey through Modern British art from 1900 to the present day and give you the opportunity to experience highlights of the collection on display\, such as Barbara Hepworth’s Figure (Walnut) (1964) and Michael Andrews’s Thames Painting: The Estuary (1994–5). \nTours will last approximately 40 minutes and there is a limit of 15 participants.  \nThe tour will not cover the temporary exhibitions. \nFree with admission. \nEvery Saturday.
URL:https://chichesterbid.co.uk/event/highlights-of-the-collection-tour-at-pallant-house-gallery/2026-12-05/
LOCATION:Pallant House Gallery\, 9 North Pallant\, Chichester\, PO19 1TJ
CATEGORIES:Art
ATTACH;FMTTYPE=image/jpeg:https://chichesterbid.co.uk/wp-content/uploads/2026/04/ISON_250412_PHG_3870-960x600-1.jpg
END:VEVENT
BEGIN:VEVENT
DTSTART;TZID=UTC:20261208T183000
DTEND;TZID=UTC:20261208T203000
DTSTAMP:20260419T130521
CREATED:20250924T122525Z
LAST-MODIFIED:20250924T122525Z
UID:10025221-1796754600-1796761800@chichesterbid.co.uk
SUMMARY:A Creative Space at The Ghost at the Feast
DESCRIPTION:A Creative Community Group Get-Together for Arts & Crafts. \nA free to attend community group get-together for those who like arts and crafts. Bring your own project\, start something new using our resources\, or simply connect with others for inspiration for your next creative piece! \nMeeting on the 2nd and 4th Tuesday of the month starting October 2025 at The Ghost at the Feast. \nFree to attend but please do support the host\, The Ghost at the Feast. \nBook your space here.
URL:https://chichesterbid.co.uk/event/a-creative-space-at-the-ghost-at-the-feast/2026-12-08/
LOCATION:The Ghost at the Feast\, 33-34 North Street\, Chichester\, PO19 1LX
CATEGORIES:Art,Regular Events
ATTACH;FMTTYPE=image/jpeg:https://chichesterbid.co.uk/wp-content/uploads/2025/09/https___cdn.evbuc_.com_images_1116562713_2891757141871_1_original.jpg
END:VEVENT
BEGIN:VEVENT
DTSTART;TZID=UTC:20261212T110000
DTEND;TZID=UTC:20261212T120000
DTSTAMP:20260419T130521
CREATED:20260416T120129Z
LAST-MODIFIED:20260416T120129Z
UID:10027085-1797073200-1797076800@chichesterbid.co.uk
SUMMARY:Highlights of the Collection Tour at Pallant House Gallery
DESCRIPTION:Join one of our experienced Guides for a tour of the collection in the historic house. \n\n\nExplore Pallant House Gallery with one of our guides and let them share their knowledge and passion for the artists and works in our collection. They will take you on a journey through Modern British art from 1900 to the present day and give you the opportunity to experience highlights of the collection on display\, such as Barbara Hepworth’s Figure (Walnut) (1964) and Michael Andrews’s Thames Painting: The Estuary (1994–5). \nTours will last approximately 40 minutes and there is a limit of 15 participants.  \nThe tour will not cover the temporary exhibitions. \nFree with admission. \nEvery Saturday.
URL:https://chichesterbid.co.uk/event/highlights-of-the-collection-tour-at-pallant-house-gallery/2026-12-12/
LOCATION:Pallant House Gallery\, 9 North Pallant\, Chichester\, PO19 1TJ
CATEGORIES:Art
ATTACH;FMTTYPE=image/jpeg:https://chichesterbid.co.uk/wp-content/uploads/2026/04/ISON_250412_PHG_3870-960x600-1.jpg
END:VEVENT
BEGIN:VEVENT
DTSTART;TZID=UTC:20261219T110000
DTEND;TZID=UTC:20261219T120000
DTSTAMP:20260419T130521
CREATED:20260416T120129Z
LAST-MODIFIED:20260416T120129Z
UID:10027086-1797678000-1797681600@chichesterbid.co.uk
SUMMARY:Highlights of the Collection Tour at Pallant House Gallery
DESCRIPTION:Join one of our experienced Guides for a tour of the collection in the historic house. \n\n\nExplore Pallant House Gallery with one of our guides and let them share their knowledge and passion for the artists and works in our collection. They will take you on a journey through Modern British art from 1900 to the present day and give you the opportunity to experience highlights of the collection on display\, such as Barbara Hepworth’s Figure (Walnut) (1964) and Michael Andrews’s Thames Painting: The Estuary (1994–5). \nTours will last approximately 40 minutes and there is a limit of 15 participants.  \nThe tour will not cover the temporary exhibitions. \nFree with admission. \nEvery Saturday.
URL:https://chichesterbid.co.uk/event/highlights-of-the-collection-tour-at-pallant-house-gallery/2026-12-19/
LOCATION:Pallant House Gallery\, 9 North Pallant\, Chichester\, PO19 1TJ
CATEGORIES:Art
ATTACH;FMTTYPE=image/jpeg:https://chichesterbid.co.uk/wp-content/uploads/2026/04/ISON_250412_PHG_3870-960x600-1.jpg
END:VEVENT
BEGIN:VEVENT
DTSTART;TZID=UTC:20261222T183000
DTEND;TZID=UTC:20261222T203000
DTSTAMP:20260419T130521
CREATED:20250924T122605Z
LAST-MODIFIED:20250924T122623Z
UID:10025341-1797964200-1797971400@chichesterbid.co.uk
SUMMARY:A Creative Space at The Ghost at the Feast
DESCRIPTION:A Creative Community Group Get-Together for Arts & Crafts. \nA free to attend community group get-together for those who like arts and crafts. Bring your own project\, start something new using our resources\, or simply connect with others for inspiration for your next creative piece! \nMeeting on the 2nd and 4th Tuesday of the month starting October 2025 at The Ghost at the Feast. \nFree to attend but please do support the host\, The Ghost at the Feast. \nBook your space here.
URL:https://chichesterbid.co.uk/event/a-creative-space-at-the-ghost-at-the-feast-2/2026-12-22/
LOCATION:The Ghost at the Feast\, 33-34 North Street\, Chichester\, PO19 1LX
CATEGORIES:Art,Regular Events
ATTACH;FMTTYPE=image/jpeg:https://chichesterbid.co.uk/wp-content/uploads/2025/09/https___cdn.evbuc_.com_images_1116562713_2891757141871_1_original.jpg
END:VEVENT
BEGIN:VEVENT
DTSTART;TZID=UTC:20261226T110000
DTEND;TZID=UTC:20261226T120000
DTSTAMP:20260419T130521
CREATED:20260416T120129Z
LAST-MODIFIED:20260416T120129Z
UID:10027087-1798282800-1798286400@chichesterbid.co.uk
SUMMARY:Highlights of the Collection Tour at Pallant House Gallery
DESCRIPTION:Join one of our experienced Guides for a tour of the collection in the historic house. \n\n\nExplore Pallant House Gallery with one of our guides and let them share their knowledge and passion for the artists and works in our collection. They will take you on a journey through Modern British art from 1900 to the present day and give you the opportunity to experience highlights of the collection on display\, such as Barbara Hepworth’s Figure (Walnut) (1964) and Michael Andrews’s Thames Painting: The Estuary (1994–5). \nTours will last approximately 40 minutes and there is a limit of 15 participants.  \nThe tour will not cover the temporary exhibitions. \nFree with admission. \nEvery Saturday.
URL:https://chichesterbid.co.uk/event/highlights-of-the-collection-tour-at-pallant-house-gallery/2026-12-26/
LOCATION:Pallant House Gallery\, 9 North Pallant\, Chichester\, PO19 1TJ
CATEGORIES:Art
ATTACH;FMTTYPE=image/jpeg:https://chichesterbid.co.uk/wp-content/uploads/2026/04/ISON_250412_PHG_3870-960x600-1.jpg
END:VEVENT
END:VCALENDAR