BEGIN:VCALENDAR
VERSION:2.0
PRODID:-//Chichester BID - ECPv6.15.17.1//NONSGML v1.0//EN
CALSCALE:GREGORIAN
METHOD:PUBLISH
X-WR-CALNAME:Chichester BID
X-ORIGINAL-URL:https://chichesterbid.co.uk
X-WR-CALDESC:Events for Chichester BID
REFRESH-INTERVAL;VALUE=DURATION:PT1H
X-Robots-Tag:noindex
X-PUBLISHED-TTL:PT1H
BEGIN:VTIMEZONE
TZID:UTC
BEGIN:STANDARD
TZOFFSETFROM:+0000
TZOFFSETTO:+0000
TZNAME:UTC
DTSTART:20240101T000000
END:STANDARD
END:VTIMEZONE
BEGIN:VEVENT
DTSTART;TZID=UTC:20250604T180000
DTEND;TZID=UTC:20250604T200000
DTSTAMP:20260419T184345
CREATED:20250314T141145Z
LAST-MODIFIED:20250314T141145Z
UID:10022593-1749060000-1749067200@chichesterbid.co.uk
SUMMARY:Drink and Draw Club at The Ghost at the Feast
DESCRIPTION:Come and join Chichester’s best monthly drawing club with a fantastic evening of creativity and conversation. \nWhat’s included? \n\n\nA guided drawing session with expert instruction \n\n\nAll materials you need (but please feel free to bring your own too) \n\n\nA complimentary drink of your choice: \n\n\nA pint from Fauna Brewery \n\n\nA glass of wine from Anatomical Wines \n\n\nA refreshing soft drink \n\n\n\n\n🎟 Limited tickets available – only 15 spots! \n£15 pp and book your space here! \n🔞 Over 18s only \nPlease bring your receipt either on your phone or printed to help us tick you easily tick you off the list. \nNote: event is in the upstairs bar accessed via stairs\, unfortunately there is currently no lift access. \n📍 Fauna Brewery upstairs Bar\, The Ghost at the Feast
URL:https://chichesterbid.co.uk/event/drink-and-draw-club-at-the-ghost-at-the-feast-3/
LOCATION:The Ghost at the Feast\, 33-34 North Street\, Chichester\, PO19 1LX
CATEGORIES:Art,Regular Events
ATTACH;FMTTYPE=image/png:https://chichesterbid.co.uk/wp-content/uploads/2025/03/June.png
ORGANIZER;CN="Weald Contemporary":MAILTO:info@wealdcontemporary.co.uk
END:VEVENT
END:VCALENDAR