BEGIN:VCALENDAR
VERSION:2.0
PRODID:-//Chichester BID - ECPv6.15.20//NONSGML v1.0//EN
CALSCALE:GREGORIAN
METHOD:PUBLISH
X-ORIGINAL-URL:https://chichesterbid.co.uk
X-WR-CALDESC:Events for Chichester BID
REFRESH-INTERVAL;VALUE=DURATION:PT1H
X-Robots-Tag:noindex
X-PUBLISHED-TTL:PT1H
BEGIN:VTIMEZONE
TZID:UTC
BEGIN:STANDARD
TZOFFSETFROM:+0000
TZOFFSETTO:+0000
TZNAME:UTC
DTSTART:20240101T000000
END:STANDARD
END:VTIMEZONE
BEGIN:VEVENT
DTSTART;TZID=UTC:20250407T090000
DTEND;TZID=UTC:20251115T170000
DTSTAMP:20260421T231752
CREATED:20250613T130247Z
LAST-MODIFIED:20250613T130247Z
UID:10024289-1744016400-1763226000@chichesterbid.co.uk
SUMMARY:Wilfrid the Seal Trail at Chichester Cathedral
DESCRIPTION:Inspired by St. Wilfrid’s historic journey from Selsey to Chichester\, Wilfrid will lead young explorers on an adventure through the Cathedral\, uncovering treasures and fascinating history. \nFamilies are invited to seek out artefacts\, such as flowers pressed by a soldier between the pages of a Bible in the trenches of WWI and 800-year-old rings worn by Bishops during the 12th century. Led by Wilfrid the Seal\, children and their adults will delight in uncovering the rich and vibrant tales behind these historic items. \nIdeal for all ages\, for younger children there is an eye spy game\, and everyone will enjoy making (and eating) the 18th century rice pudding recipe once back home. \nOnce you’ve completed your trail don’t forget to head to our shop or speak to a member of staff to retrieve your sticker prize! \nThe trail can be collected from the Visitors’ Desk or at points around the Cathedral and will be running from 7th April – 15th November 2025.
URL:https://chichesterbid.co.uk/event/wilfrid-the-seal-trail-at-chichester-cathedral/
LOCATION:Chichester Cathedral\, West Street\, Chichester\, PO19 1PX
CATEGORIES:Family Friendly
ATTACH;FMTTYPE=image/webp:https://chichesterbid.co.uk/wp-content/uploads/2025/06/xWebsiteP20HeaderP20P20Cover.jpgqitokCz-SGHPj.pagespeed.ic_.13j8TvXIi2.webp
END:VEVENT
BEGIN:VEVENT
DTSTART;VALUE=DATE:20251028
DTEND;VALUE=DATE:20251103
DTSTAMP:20260421T231752
CREATED:20250930T125932Z
LAST-MODIFIED:20250930T125932Z
UID:10025408-1761609600-1762127999@chichesterbid.co.uk
SUMMARY:Create Your Own Cathedral Window at Pallant House Gallery
DESCRIPTION:Create your own colourful cathedral window\nIn collaboration with Chichester Cathedral\, Pallant House Gallery invites you to create your own colourful cathedral window in this FREE self-led studio activity. \nInspired by Chichester950 Light Experience we will be celebrating the wonderful effects of light and colour\, using a selection of Chichester’s finest historic windows as inspiration\, including Chichester Cathedral’s Marc Chagall window and Pallant House Gallery’s wonderful picture window. Make your own beautiful window out of craft materials which you can then add to our Studio’s mini-exhibition\, enhanced with our very own special lighting effects! \nWant to get some inspiration? Why not visit Chichester Cathedral’s Chichester950 Light Experience installation by Luxmuralis before dropping into the Pallant House Gallery Studio for this self-led activity available all day. Feel free to visit anytime to create your artwork using the materials and templates provided. You can take it home or leave it with us to display. \nFree Drop-in
URL:https://chichesterbid.co.uk/event/create-your-own-cathedral-window-at-pallant-house-gallery/
LOCATION:Pallant House Gallery\, 9 North Pallant\, Chichester\, PO19 1TJ
CATEGORIES:Family Friendly
ATTACH;FMTTYPE=image/jpeg:https://chichesterbid.co.uk/wp-content/uploads/2025/09/ISON_250412_PHG_3978-scaled-1.jpg
END:VEVENT
BEGIN:VEVENT
DTSTART;TZID=UTC:20251115T190000
DTEND;TZID=UTC:20251115T190000
DTSTAMP:20260421T231752
CREATED:20240508T090539Z
LAST-MODIFIED:20240508T090710Z
UID:10013643-1763233200-1763233200@chichesterbid.co.uk
SUMMARY:Listeners Lounge at Jam Cafe
DESCRIPTION:Join Jam Cafe every third Saturday of the month for their listeners lounge where they’ll have 3 talented artists performing. \nDoors at 7pm \nTickets- \nAdults – £3 \nUnder 18s- Free
URL:https://chichesterbid.co.uk/event/listeners-lounge-at-jam-cafe/2025-11-15/
LOCATION:JAM Cafe\, 33 Southgate\, Chichester\, West Sussex\, PO19 1DP
CATEGORIES:Family Friendly
ATTACH;FMTTYPE=image/png:https://chichesterbid.co.uk/wp-content/uploads/2024/01/Creative-Beatz-3.png
ORGANIZER;CN="JAM":MAILTO:info@creativebeatz.co.uk
END:VEVENT
BEGIN:VEVENT
DTSTART;TZID=UTC:20251122T090000
DTEND;TZID=UTC:20251122T160000
DTSTAMP:20260421T231752
CREATED:20230803T091739Z
LAST-MODIFIED:20240126T133225Z
UID:10004583-1763802000-1763827200@chichesterbid.co.uk
SUMMARY:Board Games for Families at Chichester Library
DESCRIPTION:Drop in to play board games with other families every 2nd and 4th Saturday of the month\, 9.00am-4.00pm. \nPlease contact Chichester Library for more details.
URL:https://chichesterbid.co.uk/event/board-games-for-families-at-chichester-library-2/2025-11-22/
LOCATION:Chichester Library\, Tower Street\, Chichester\, West Sussex\, PO191QJ
CATEGORIES:Family Friendly
ATTACH;FMTTYPE=image/jpeg:https://chichesterbid.co.uk/wp-content/uploads/2023/08/Board-Games.jpg
END:VEVENT
BEGIN:VEVENT
DTSTART;TZID=UTC:20251122T130000
DTEND;TZID=UTC:20251122T160000
DTSTAMP:20260421T231752
CREATED:20251112T120311Z
LAST-MODIFIED:20251112T120311Z
UID:10025558-1763816400-1763827200@chichesterbid.co.uk
SUMMARY:Chichester Starlight Trail
DESCRIPTION:Kick off your Christmas festivities at the Starlight Trail Chichester. \nJoin The Novium Museum\, Pallant House Gallery\, Chichester Library and Chichester Cathedral for a festive family afternoon of craft and fun. \nTaking place on Saturday 22 November 2025 from 1pm to 4:15pm. Book your place and get a Starlight Trail passport and make your way to the different venues where you can create a lantern to light your route and take part in festive crafts and activities. \nChoose where to start your afternoon and then visit the other venues. Starting points and crafts are: \n\nThe Novium Museum – Christmas wreath\nChichester Library – Peg doll angels and elves\nChichester Cathedral – Stained glass window\nPallant House Gallery – Foil tree decorations.\n\nYou will have 1 hour at your chosen starting point to make a lantern and craft. You will then have 45 minutes at each of the other venues to complete a festive craft. \n\n\nTickets cost £10 per child and can be booked here.
URL:https://chichesterbid.co.uk/event/chichester-starlight-trail/
LOCATION:Chichester City Centre
CATEGORIES:Christmas,Family Friendly
ATTACH;FMTTYPE=image/jpeg:https://chichesterbid.co.uk/wp-content/uploads/2025/11/Starlight_walk_Twitter_678205460.jpg
END:VEVENT
BEGIN:VEVENT
DTSTART;TZID=UTC:20251130T100000
DTEND;TZID=UTC:20251130T100000
DTSTAMP:20260421T231753
CREATED:20251014T124658Z
LAST-MODIFIED:20251014T124658Z
UID:10025430-1764496800-1764496800@chichesterbid.co.uk
SUMMARY:Children's Magic Show and Festive Disco at The Guildhall
DESCRIPTION:Join Adam the ‘Magic Man’ for a 45-minute festive show of magic and mayhem! Afterwards\, kids and grown-ups can show off their best dance moves during a fun one-hour Christmassy disco.
URL:https://chichesterbid.co.uk/event/childrens-magic-show-and-festive-disco-at-the-guildhall/2025-11-30/1/
LOCATION:The Guildhall in Priory Park\, 1NS\, Priory Rd\, Chichester\, PO19 1NS
CATEGORIES:Christmas,Family Friendly
ATTACH;FMTTYPE=image/jpeg:https://chichesterbid.co.uk/wp-content/uploads/2025/10/original-2.jpg
END:VEVENT
BEGIN:VEVENT
DTSTART;TZID=UTC:20251130T130000
DTEND;TZID=UTC:20251130T130000
DTSTAMP:20260421T231753
CREATED:20251014T124658Z
LAST-MODIFIED:20251014T124658Z
UID:10025431-1764507600-1764507600@chichesterbid.co.uk
SUMMARY:Children's Magic Show and Festive Disco at The Guildhall
DESCRIPTION:Join Adam the ‘Magic Man’ for a 45-minute festive show of magic and mayhem! Afterwards\, kids and grown-ups can show off their best dance moves during a fun one-hour Christmassy disco.
URL:https://chichesterbid.co.uk/event/childrens-magic-show-and-festive-disco-at-the-guildhall/2025-11-30/2/
LOCATION:The Guildhall in Priory Park\, 1NS\, Priory Rd\, Chichester\, PO19 1NS
CATEGORIES:Christmas,Family Friendly
ATTACH;FMTTYPE=image/jpeg:https://chichesterbid.co.uk/wp-content/uploads/2025/10/original-2.jpg
END:VEVENT
END:VCALENDAR