BEGIN:VCALENDAR
VERSION:2.0
PRODID:-//Chichester BID - ECPv6.15.20//NONSGML v1.0//EN
CALSCALE:GREGORIAN
METHOD:PUBLISH
X-WR-CALNAME:Chichester BID
X-ORIGINAL-URL:https://chichesterbid.co.uk
X-WR-CALDESC:Events for Chichester BID
REFRESH-INTERVAL;VALUE=DURATION:PT1H
X-Robots-Tag:noindex
X-PUBLISHED-TTL:PT1H
BEGIN:VTIMEZONE
TZID:UTC
BEGIN:STANDARD
TZOFFSETFROM:+0000
TZOFFSETTO:+0000
TZNAME:UTC
DTSTART:20240101T000000
END:STANDARD
END:VTIMEZONE
BEGIN:VEVENT
DTSTART;TZID=UTC:20251202T130000
DTEND;TZID=UTC:20251202T130000
DTSTAMP:20260421T200322
CREATED:20251013T130725Z
LAST-MODIFIED:20251013T130725Z
UID:10025421-1764680400-1764680400@chichesterbid.co.uk
SUMMARY:Mini Movers Christmas Party at Chichester Festival Theatre
DESCRIPTION:Join our Early Years team as we throw a Christmas party! Expect to sing and dance to Christmas favourites\, bubbles and lots of bonding time with your little ones. Each child needs a grown-up partner to enjoy the session with so be prepared to join in. \nMini Movers is part of our Mini Makers & Shakers series of classes for Early Years. At this one you’ll enjoy a fun\, active movement class for little ones with a themed story to share each week. \n\n\n\n\n\nThis class costs £8 per child\, adults go free. Book your space here.
URL:https://chichesterbid.co.uk/event/mini-movers-christmas-party-at-chichester-festival-theatre/
LOCATION:Chichester Festival Theatre\, Oaklands Park\, Chichester\, PO19 6AP
CATEGORIES:Christmas,Family Friendly
ATTACH;FMTTYPE=image/png:https://chichesterbid.co.uk/wp-content/uploads/2025/10/Mini-Xmas-partyW25_Productions_PortraitCard_600x832.png
END:VEVENT
BEGIN:VEVENT
DTSTART;VALUE=DATE:20251205
DTEND;VALUE=DATE:20251208
DTSTAMP:20260421T200322
CREATED:20251104T123436Z
LAST-MODIFIED:20251104T123506Z
UID:10025549-1764892800-1765151999@chichesterbid.co.uk
SUMMARY:Priory Park Panto Experience
DESCRIPTION:At Santa’s Chichester HQ the team are ahead of schedule. Everything has been wrapped\, packed and labelled – they are all ready for the big Christmas Eve delivery. \nWith some unexpected time on their hands\, the friends decide to put on a Christmas show\, but things quickly take a turn that could mean that Santa\, once again\, is at risk of being unable to do his seasonal duty. Can Fairy Sparkle save the day? Will Norman get to wear a crown? And will Mrs Santa ever get five minutes peace and quiet? \nDelivered by seasoned panto professionals\, The Priory Park Panto Experience is a 1-hour magical experience full of all the traditional pantomime ingredients. \nAt each performance there will be a short meet and greet and a chance to take photos. Children are also welcome to bring their letters to Santa and deliver them to him in person. \nTickets cost £10 for Adults and £7.50 for Children and can be booked here. \nInformation about the performance \n\nDoors will open 20-30 minutes before the start of the show.\nShow length: 45 minutes with 15-minute meet and greet\nSeating is unreserved.\nAudience members are asked to wrap up warm as The Guildhall can get a little chilly.\nCushions for little ones will be available on a first-come\, first-served basis.\nDrinks and snacks will be available to purchase in The Guildhall.\nAccess packs available on request.\nPublic toilets are located in Priory Park.\n\n\n\n\nDate\nTime\n\n\nFriday 5th December\n16:30 & 18:30\n\n\nSaturday 6th December\n11:00\, 13:30\, 15:30\n\n\nSunday 7th December\n11:00*\, 13:30\, 15:30 \n*relaxed performance\n\n\nFriday 12th December\n16:30 & 18:30\n\n\nSaturday 13th December\n11:00\, 13:30\, 15:30\, 18:00\n\n\nSunday 14th December\n11:00\, 13:30\, 15:30
URL:https://chichesterbid.co.uk/event/priory-park-panto-experience/
LOCATION:The Guildhall in Priory Park\, 1NS\, Priory Rd\, Chichester\, PO19 1NS
CATEGORIES:Christmas,Family Friendly
ATTACH;FMTTYPE=image/png:https://chichesterbid.co.uk/wp-content/uploads/2025/11/panto_poster_1024x10242x.png
END:VEVENT
BEGIN:VEVENT
DTSTART;VALUE=DATE:20251206
DTEND;VALUE=DATE:20251229
DTSTAMP:20260421T200322
CREATED:20251013T132814Z
LAST-MODIFIED:20251013T132814Z
UID:10025424-1764979200-1766966399@chichesterbid.co.uk
SUMMARY:The Three Little Pigs at Chichester Festival Theatre
DESCRIPTION:From the award-winning Stiles and Drewe (The Three Billy Goats Gruff\, Honk!\, Half a Sixpence) comes The Three Little Pigs – a ‘very curly musical tail’ that is perfect for the whole family this Christmas! \nThis charming and witty adventure is full of catchy songs and clever rhymes which will have you squealing with glee as three superstar piglets set about defeating the Big Bad Wolf. \nDevoted Mother Pig is raising her three little pigs – sporty Bar\, nature-loving Bee and bookworm Q – after Father Pig was gobbled by the Big Bad Wolf. But when their home starts looking like a really messy pigsty\, Mother encourages her fast-growing youngsters to make their own way in the big wide world. \nBar\, Bee and Q set about building their own houses from straw\, sticks and bricks. But can they get the better of the huffing\, puffing\, always hungry (and a bit misunderstood) Big Bad Wolf? \nA co-production with the Unicorn Theatre\, this hugely entertaining adaptation of the classic tale is a perfect musical Christmas treat for young families. \nPerformed by arrangement with Music Theatre International. \nTickets are from £10 and can be booked here.
URL:https://chichesterbid.co.uk/event/the-three-little-pigs-at-chichester-festival-theatre/
LOCATION:Chichester Festival Theatre\, Oaklands Park\, Chichester\, PO19 6AP
CATEGORIES:Christmas,Family Friendly
ATTACH;FMTTYPE=image/png:https://chichesterbid.co.uk/wp-content/uploads/2025/10/CFT25_10_3LP_08_WebPortraitCard_600x832px.png
END:VEVENT
BEGIN:VEVENT
DTSTART;VALUE=DATE:20251206
DTEND;VALUE=DATE:20260104
DTSTAMP:20260421T200322
CREATED:20251104T124420Z
LAST-MODIFIED:20251104T124420Z
UID:10025551-1764979200-1767484799@chichesterbid.co.uk
SUMMARY:Festive Gonk Trail at The Novium Museum
DESCRIPTION:The Gonks are back! The museum’s cheeky festive gonks are back and hiding all around the museum with stolen Christmas ornaments — can you find out which ornament each has stolen? Track down all the gonks and claim your festive prize! \n£2 per trail\, including a prize\, no need to book – just drop in!
URL:https://chichesterbid.co.uk/event/festive-gonk-trail-at-the-novium-museum/
LOCATION:Novium Musuem\, 1 Tower Street\, Chichester\, PO19 1QH\, United Kingdom
CATEGORIES:Christmas,Family Friendly
ATTACH;FMTTYPE=image/png:https://chichesterbid.co.uk/wp-content/uploads/2025/11/original.png
END:VEVENT
BEGIN:VEVENT
DTSTART;TZID=UTC:20251206T100000
DTEND;TZID=UTC:20251206T183000
DTSTAMP:20260421T200322
CREATED:20251013T131237Z
LAST-MODIFIED:20251013T131237Z
UID:10025422-1765015200-1765045800@chichesterbid.co.uk
SUMMARY:Santa's Grotto at Chichester Festival Theatre
DESCRIPTION:Join our theatre Elves for an exclusive behind-the-scenes tour of their enchanting workshop before believers meet Father Christmas himself. You can take an ‘elfie and little ones receive an early Christmas present to place under the tree. Our elves can’t wait to greet you. \nFather Christmas had such a magical time in Chichester\, he’s bringing his Grotto (full of Christmas spirit and theatrical magic) back to CFT! \nTickets are from £14 per child and can be booked here.
URL:https://chichesterbid.co.uk/event/santas-grotto-at-chichester-festival-theatre/
LOCATION:Chichester Festival Theatre\, Oaklands Park\, Chichester\, PO19 6AP
CATEGORIES:Christmas,Family Friendly
ATTACH;FMTTYPE=image/png:https://chichesterbid.co.uk/wp-content/uploads/2025/10/Grotto-Website-Portrait-Card-_-600-x-832px.png
END:VEVENT
BEGIN:VEVENT
DTSTART;TZID=UTC:20251208T163000
DTEND;TZID=UTC:20251221T193000
DTSTAMP:20260421T200322
CREATED:20251031T094829Z
LAST-MODIFIED:20251106T134237Z
UID:10025537-1765211400-1766345400@chichesterbid.co.uk
SUMMARY:Let It Glow – Chichester’s Magical Winter Illumination
DESCRIPTION:📅 8–21 December 2025\n📍 Cathedral Green\, Chichester\n🕔 Weekdays: 5.00pm–7.00pm | Weekends: 4.30pm–7.30pm\n💫 Free Entry \nStep into a world of light and colour this Christmas as Chichester Cathedral’s historic Bell Tower is transformed in Let It Glow: Chichester’s Magical Winter Illumination. \nCreated by MakeAmplify\, this free\, interactive experience invites visitors of all ages to ‘paint with light’\, projecting their creations onto the Cathedral’s walls before exploring glowing installations and festive displays across the Green. \nPresented by Chichester BID\, Chichester City Council\, and Chichester District Council\, with support from Chichester Cathedral\, sponsorship from Mayo Wynne Baxter\, and part-funding from the UK Government through the UK Shared Prosperity Fund (UKSPF).
URL:https://chichesterbid.co.uk/event/let-it-glow-chichesters-magical-winter-illumination/
LOCATION:Chichester Cathedral Green\, West Street\, Chichester\, West Sussex
CATEGORIES:Christmas,Family Friendly
ATTACH;FMTTYPE=image/jpeg:https://chichesterbid.co.uk/wp-content/uploads/2025/11/2F8A8703.jpg
ORGANIZER;CN="Chichester BID":MAILTO:office@chichesterbid.co.uk
END:VEVENT
BEGIN:VEVENT
DTSTART;TZID=UTC:20251209T103000
DTEND;TZID=UTC:20251209T103000
DTSTAMP:20260421T200322
CREATED:20251113T111158Z
LAST-MODIFIED:20251113T111158Z
UID:10025565-1765276200-1765276200@chichesterbid.co.uk
SUMMARY:Festive Storytelling at The Guildhall
DESCRIPTION:Local storyteller Chris North will bring to life a variety of well-loved Christmas stories for little ones with plenty of interactive opportunities to join in including helping make the voices and sound effects! \nStories will include ‘One Snowy Night’ with Percy the Park Keeper; The Snowman; and Chris’ own story\, ‘The Christmas Star in the Woods’. \nThere will also be a game of ‘We’re going on a polar bear hunt’ inspired by the well-known book plus some Christmas songs. \nYour little ones will have lots of fun using their imagination and being part of the stories. \n£3.50 per child.  \nPart of Chichester District Council’s festive events programme in Priory Park. \n 
URL:https://chichesterbid.co.uk/event/festive-storytelling-at-the-guildhall/
LOCATION:The Guildhall in Priory Park\, 1NS\, Priory Rd\, Chichester\, PO19 1NS
CATEGORIES:Christmas,Family Friendly
ATTACH;FMTTYPE=image/png:https://chichesterbid.co.uk/wp-content/uploads/2025/11/ChrisNorth-storytelling_1024x10242x.png
END:VEVENT
BEGIN:VEVENT
DTSTART;TZID=UTC:20251210T163000
DTEND;TZID=UTC:20251210T163000
DTSTAMP:20260421T200322
CREATED:20251113T111406Z
LAST-MODIFIED:20251113T111406Z
UID:10025566-1765384200-1765384200@chichesterbid.co.uk
SUMMARY:Festive Storytelling at The Guildhall
DESCRIPTION:Local storyteller Chris North will bring to life a variety of well-loved Christmas stories for little ones with plenty of interactive opportunities to join in including helping make the voices and sound effects! \nStories will include ‘One Snowy Night’ with Percy the Park Keeper; The Snowman; and Chris’ own story\, ‘The Christmas Star in the Woods’. \nThere will also be a game of ‘We’re going on a polar bear hunt’ inspired by the well-known book plus some Christmas songs. \nYour little ones will have lots of fun using their imagination and being part of the stories. \n£3.50 per child.  \nPart of Chichester District Council’s festive events programme in Priory Park.
URL:https://chichesterbid.co.uk/event/festive-storytelling-at-the-guildhall-2/
LOCATION:The Guildhall in Priory Park\, 1NS\, Priory Rd\, Chichester\, PO19 1NS
CATEGORIES:Christmas,Family Friendly
ATTACH;FMTTYPE=image/png:https://chichesterbid.co.uk/wp-content/uploads/2025/11/ChrisNorth-storytelling_1024x10242x.png
ORGANIZER;CN="The Guildhall in Priory Park":MAILTO:theguildhall@chichester.gov.uk
END:VEVENT
BEGIN:VEVENT
DTSTART;VALUE=DATE:20251212
DTEND;VALUE=DATE:20251215
DTSTAMP:20260421T200322
CREATED:20251104T123539Z
LAST-MODIFIED:20251104T123556Z
UID:10025550-1765497600-1765756799@chichesterbid.co.uk
SUMMARY:Priory Park Panto Experience
DESCRIPTION:At Santa’s Chichester HQ the team are ahead of schedule. Everything has been wrapped\, packed and labelled – they are all ready for the big Christmas Eve delivery. \nWith some unexpected time on their hands\, the friends decide to put on a Christmas show\, but things quickly take a turn that could mean that Santa\, once again\, is at risk of being unable to do his seasonal duty. Can Fairy Sparkle save the day? Will Norman get to wear a crown? And will Mrs Santa ever get five minutes peace and quiet? \nDelivered by seasoned panto professionals\, The Priory Park Panto Experience is a 1-hour magical experience full of all the traditional pantomime ingredients. \nAt each performance there will be a short meet and greet and a chance to take photos. Children are also welcome to bring their letters to Santa and deliver them to him in person. \nTickets cost £10 for Adults and £7.50 for Children and can be booked here. \nInformation about the performance \n\nDoors will open 20-30 minutes before the start of the show.\nShow length: 45 minutes with 15-minute meet and greet\nSeating is unreserved.\nAudience members are asked to wrap up warm as The Guildhall can get a little chilly.\nCushions for little ones will be available on a first-come\, first-served basis.\nDrinks and snacks will be available to purchase in The Guildhall.\nAccess packs available on request.\nPublic toilets are located in Priory Park.\n\n\n\n\nDate\nTime\n\n\nFriday 5th December\n16:30 & 18:30\n\n\nSaturday 6th December\n11:00\, 13:30\, 15:30\n\n\nSunday 7th December\n11:00*\, 13:30\, 15:30 \n*relaxed performance\n\n\nFriday 12th December\n16:30 & 18:30\n\n\nSaturday 13th December\n11:00\, 13:30\, 15:30\, 18:00\n\n\nSunday 14th December\n11:00\, 13:30\, 15:30
URL:https://chichesterbid.co.uk/event/priory-park-panto-experience-2/
LOCATION:The Guildhall in Priory Park\, 1NS\, Priory Rd\, Chichester\, PO19 1NS
CATEGORIES:Christmas,Family Friendly
ATTACH;FMTTYPE=image/png:https://chichesterbid.co.uk/wp-content/uploads/2025/11/panto_poster_1024x10242x.png
END:VEVENT
BEGIN:VEVENT
DTSTART;TZID=UTC:20251213T110000
DTEND;TZID=UTC:20251213T160000
DTSTAMP:20260421T200322
CREATED:20251031T095638Z
LAST-MODIFIED:20251031T095638Z
UID:10025539-1765623600-1765641600@chichesterbid.co.uk
SUMMARY:Festive Family Day
DESCRIPTION:📅 13 December 2025\n📍 Across the city\n🕔 11.00am – 4.00pm\n💫 Free  \nBetween 11am and 4.00pm\, Chichester’s streets will sparkle with festive joy during the Festive Family Day. \nEnjoy free activities\, storytelling\, crafts and live entertainment across the city centre\, including creative workshops\, festive characters\, and plenty of opportunities to get involved. Families can also take part in the Festive Family Trail – collect stamps from participating locations and redeem a special treat from V2 Radio on East Street. \nThis joyful day is all about celebrating community\, creativity\, and Christmas spirit in the heart of Chichester. \nClick here to discover more and to download your Festive Family Day passport.
URL:https://chichesterbid.co.uk/event/festive-family-day/
LOCATION:Chichester City Centre
CATEGORIES:Christmas,Family Friendly
ATTACH;FMTTYPE=image/jpeg:https://chichesterbid.co.uk/wp-content/uploads/2025/10/Stilt-Walkers-edited.jpg
ORGANIZER;CN="Chichester BID":MAILTO:office@chichesterbid.co.uk
END:VEVENT
BEGIN:VEVENT
DTSTART;VALUE=DATE:20251215
DTEND;VALUE=DATE:20260101
DTSTAMP:20260421T200322
CREATED:20251014T121635Z
LAST-MODIFIED:20251014T121635Z
UID:10025426-1765756800-1767225599@chichesterbid.co.uk
SUMMARY:A Boy Called Christmas at Chichester Festival Theatre
DESCRIPTION:To see something\, you have to believe in it. Really believe it. That’s the first elf rule. You can’t see something you don’t believe in. \nAn enthralling\, charming and magical tale that tells the true story of Father Christmas. \nFor 11-year-old Nikolas\, whose nickname is Christmas because he was born on 25 December\, life isn’t easy. With only a doll made out of a turnip to keep him company\, he believes in happiness but isn’t happy very often. Until the day he sets out – with his pet mouse Miika and a reindeer called Blitzen – on an extraordinary quest to follow his father and to find Elfhelm\, the fabled village of the elves. \nJoin Nikolas on this life-changing adventure\, full of fantastic characters and beautiful moments\, and watch how one little boy comes to be the very symbol of Christmas itself. Full to bursting with festive wonder\, this story from the award-winning writer Matt Haig – adapted for the stage by Philip Wilson (Cinderella\, Grimm Tales)\, with original live music and songs by Tom Brady (Pinocchio\, The Butterfly Lion) – will warm the hearts of audiences young and old. \nIn their 40th anniversary year\, Chichester Festival Youth Theatre bring their magical gifts for storytelling to another captivating Christmas production\, directed by Dale Rooks (The Wind in the Willows\, Hey! Christmas Tree). \nTickets from £10 and can be booked here.
URL:https://chichesterbid.co.uk/event/a-boy-called-christmas-at-chichester-festival-theatre/
LOCATION:Chichester Festival Theatre\, Oaklands Park\, Chichester\, PO19 6AP
CATEGORIES:Christmas,Family Friendly
ATTACH;FMTTYPE=image/png:https://chichesterbid.co.uk/wp-content/uploads/2025/10/CFTAug25_018_W25_Productions_PortraitCard_600x832_8.png
END:VEVENT
BEGIN:VEVENT
DTSTART;TZID=UTC:20251216T103000
DTEND;TZID=UTC:20251216T103000
DTSTAMP:20260421T200322
CREATED:20251113T112311Z
LAST-MODIFIED:20251113T112311Z
UID:10025567-1765881000-1765881000@chichesterbid.co.uk
SUMMARY:Festive Storytelling at The Guildhall
DESCRIPTION:Local storyteller Chris North will bring to life a variety of well-loved Christmas stories for little ones with plenty of interactive opportunities to join in including helping make the voices and sound effects! \nStories will include ‘One Snowy Night’ with Percy the Park Keeper; The Snowman; and Chris’ own story\, ‘The Christmas Star in the Woods’. \nThere will also be a game of ‘We’re going on a polar bear hunt’ inspired by the well-known book plus some Christmas songs. \nYour little ones will have lots of fun using their imagination and being part of the stories. \n£3.50 per child.  \nPart of Chichester District Council’s festive events programme in Priory Park.
URL:https://chichesterbid.co.uk/event/festive-storytelling-at-the-guildhall-3/
LOCATION:The Guildhall in Priory Park\, 1NS\, Priory Rd\, Chichester\, PO19 1NS
CATEGORIES:Christmas,Family Friendly
ATTACH;FMTTYPE=image/png:https://chichesterbid.co.uk/wp-content/uploads/2025/11/ChrisNorth-storytelling_1024x10242x.png
ORGANIZER;CN="The Guildhall in Priory Park":MAILTO:theguildhall@chichester.gov.uk
END:VEVENT
BEGIN:VEVENT
DTSTART;TZID=UTC:20251218T103000
DTEND;TZID=UTC:20251218T103000
DTSTAMP:20260421T200322
CREATED:20251113T112648Z
LAST-MODIFIED:20251113T112648Z
UID:10025568-1766053800-1766053800@chichesterbid.co.uk
SUMMARY:Festive Storytelling at The Guildhall
DESCRIPTION:Local storyteller Chris North will bring to life a variety of well-loved Christmas stories for little ones with plenty of interactive opportunities to join in including helping make the voices and sound effects! \nStories will include ‘One Snowy Night’ with Percy the Park Keeper; The Snowman; and Chris’ own story\, ‘The Christmas Star in the Woods’. \nThere will also be a game of ‘We’re going on a polar bear hunt’ inspired by the well-known book plus some Christmas songs. \nYour little ones will have lots of fun using their imagination and being part of the stories. \n£3.50 per child.  \nPart of Chichester District Council’s festive events programme in Priory Park.
URL:https://chichesterbid.co.uk/event/festive-storytelling-at-the-guildhall-4/
LOCATION:The Guildhall in Priory Park\, 1NS\, Priory Rd\, Chichester\, PO19 1NS
CATEGORIES:Christmas,Family Friendly
ATTACH;FMTTYPE=image/png:https://chichesterbid.co.uk/wp-content/uploads/2025/11/ChrisNorth-storytelling_1024x10242x.png
ORGANIZER;CN="The Guildhall in Priory Park":MAILTO:theguildhall@chichester.gov.uk
END:VEVENT
BEGIN:VEVENT
DTSTART;TZID=UTC:20251220T100000
DTEND;TZID=UTC:20251220T120000
DTSTAMP:20260421T200322
CREATED:20250613T105229Z
LAST-MODIFIED:20251031T135349Z
UID:10025544-1766224800-1766232000@chichesterbid.co.uk
SUMMARY:Saturday Art and Craft at Pallant House Gallery
DESCRIPTION:Join us for creative workshops suitable for all the family. \n\n\nTake part in a creative and relaxed workshop session inspired by art from our collections and exhibitions. Whether it is block printing or creating a collage\, these activities are suitable for all ages and abilities and make a wonderful addition to a family day out! \nOur Saturday art and craft workshops are most suited to children aged 5+ and drawing materials are available for younger children. \nThis drop-in family workshop is FREE for children and accompanying adults. Just click on the Buy Tickets button above to book your place. \nIf you would also like to visit our exhibitions and collections\, any two adults accompanying children booked on to Saturday Art and Craft can enjoy half price admission (under 18s enter for free). Please ask our Welcome Desk for more details. \nUpcoming dates: \n\n25 October\, 10am-12pm\nJoin us for a fun and creative art activity in our studio. \nNovember \nThe Starlight Trail replaces Saturday Art and Craft this month. See here for more details of this ticketed event. \n20th Dec \nOf course\, we’ll be doing a Christmas themed activity to get us in the festive spirit! \n31st Jan \nIt’s cold outside so have some fun crafting in our warm and cosy studio. \n28th Feb \nJoin us for a fun\, creative session designed to keep little (and big) people busy! \nMarch \nNo Saturday Art and Craft this month. Why not join us at our FREE Open Day instead? \n25th April \nJoin us for a fun\, creative session designed to keep little (and big) people busy! \n30th May \nIt’s Chichester’s annual Roman Week! Come and take part in a creative activity that celebrates all things Roman! \nPlease note: \nBooking recommended!
URL:https://chichesterbid.co.uk/event/saturday-art-and-craft-at-pallant-house-gallery/2025-12-20/
LOCATION:Pallant House Gallery\, 9 North Pallant\, Chichester\, PO19 1TJ
CATEGORIES:Family Friendly
ATTACH;FMTTYPE=image/jpeg:https://chichesterbid.co.uk/wp-content/uploads/2025/06/SSP_0023-960x600-1.jpg
END:VEVENT
BEGIN:VEVENT
DTSTART;TZID=UTC:20251220T190000
DTEND;TZID=UTC:20251220T190000
DTSTAMP:20260421T200322
CREATED:20240508T090539Z
LAST-MODIFIED:20240508T090710Z
UID:10013644-1766257200-1766257200@chichesterbid.co.uk
SUMMARY:Listeners Lounge at Jam Cafe
DESCRIPTION:Join Jam Cafe every third Saturday of the month for their listeners lounge where they’ll have 3 talented artists performing. \nDoors at 7pm \nTickets- \nAdults – £3 \nUnder 18s- Free
URL:https://chichesterbid.co.uk/event/listeners-lounge-at-jam-cafe/2025-12-20/
LOCATION:JAM Cafe\, 33 Southgate\, Chichester\, West Sussex\, PO19 1DP
CATEGORIES:Family Friendly
ATTACH;FMTTYPE=image/png:https://chichesterbid.co.uk/wp-content/uploads/2024/01/Creative-Beatz-3.png
ORGANIZER;CN="JAM":MAILTO:info@creativebeatz.co.uk
END:VEVENT
BEGIN:VEVENT
DTSTART;VALUE=DATE:20251224
DTEND;VALUE=DATE:20251225
DTSTAMP:20260421T200322
CREATED:20251014T122419Z
LAST-MODIFIED:20251014T122419Z
UID:10025427-1766534400-1766620799@chichesterbid.co.uk
SUMMARY:The Elves Christmas Party at Chichester Festival Theatre
DESCRIPTION:Once the sleigh is all packed up and Santa’s on his way\, Sprout\, Stitch and the other Elves get up to mischief – and you’re invited to join them! Explore the workshop\, take an ‘elfie and pick a lucky dip present. \nTickets cost £7 per child and can be booked here. \n 
URL:https://chichesterbid.co.uk/event/the-elves-christmas-party-at-chichester-festival-theatre/
LOCATION:Chichester Festival Theatre\, Oaklands Park\, Chichester\, PO19 6AP
CATEGORIES:Chichester 950,Family Friendly
ATTACH;FMTTYPE=image/png:https://chichesterbid.co.uk/wp-content/uploads/2025/10/Elves-Party-Website-Portrait-Card-_-600-x-832px.png
END:VEVENT
BEGIN:VEVENT
DTSTART;TZID=UTC:20251227T090000
DTEND;TZID=UTC:20251227T160000
DTSTAMP:20260421T200322
CREATED:20230803T091739Z
LAST-MODIFIED:20240126T133225Z
UID:10004584-1766826000-1766851200@chichesterbid.co.uk
SUMMARY:Board Games for Families at Chichester Library
DESCRIPTION:Drop in to play board games with other families every 2nd and 4th Saturday of the month\, 9.00am-4.00pm. \nPlease contact Chichester Library for more details.
URL:https://chichesterbid.co.uk/event/board-games-for-families-at-chichester-library-2/2025-12-27/
LOCATION:Chichester Library\, Tower Street\, Chichester\, West Sussex\, PO191QJ
CATEGORIES:Family Friendly
ATTACH;FMTTYPE=image/jpeg:https://chichesterbid.co.uk/wp-content/uploads/2023/08/Board-Games.jpg
END:VEVENT
END:VCALENDAR