BEGIN:VCALENDAR
VERSION:2.0
PRODID:-//Chichester BID - ECPv6.15.20//NONSGML v1.0//EN
CALSCALE:GREGORIAN
METHOD:PUBLISH
X-ORIGINAL-URL:https://chichesterbid.co.uk
X-WR-CALDESC:Events for Chichester BID
REFRESH-INTERVAL;VALUE=DURATION:PT1H
X-Robots-Tag:noindex
X-PUBLISHED-TTL:PT1H
BEGIN:VTIMEZONE
TZID:UTC
BEGIN:STANDARD
TZOFFSETFROM:+0000
TZOFFSETTO:+0000
TZNAME:UTC
DTSTART:20250101T000000
END:STANDARD
END:VTIMEZONE
BEGIN:VEVENT
DTSTART;TZID=UTC:20260321T103000
DTEND;TZID=UTC:20260321T110000
DTSTAMP:20260421T134020
CREATED:20260204T112043Z
LAST-MODIFIED:20260204T112043Z
UID:10026624-1774089000-1774090800@chichesterbid.co.uk
SUMMARY:Story Magic at Chichester Library
DESCRIPTION:Drop into a multi-sensory storytime session specially for children and young people with additional needs\, on the third Saturday of the month 10.45 - 11.15am.  \nPlease contact Chichester Library for more details. \nFind out more about attending a Story Magic session.
URL:https://chichesterbid.co.uk/event/story-magic-at-chichester-library/2026-03-21/
LOCATION:Chichester Library\, Tower Street\, Chichester\, West Sussex\, PO191QJ
CATEGORIES:Family Friendly,National Year of Reading
ATTACH;FMTTYPE=image/jpeg:https://chichesterbid.co.uk/wp-content/uploads/2026/02/ViewImage-2.jpg
END:VEVENT
BEGIN:VEVENT
DTSTART;TZID=UTC:20260321T190000
DTEND;TZID=UTC:20260321T190000
DTSTAMP:20260421T134020
CREATED:20240508T090539Z
LAST-MODIFIED:20240508T090710Z
UID:10013647-1774119600-1774119600@chichesterbid.co.uk
SUMMARY:Listeners Lounge at Jam Cafe
DESCRIPTION:Join Jam Cafe every third Saturday of the month for their listeners lounge where they’ll have 3 talented artists performing. \nDoors at 7pm \nTickets- \nAdults – £3 \nUnder 18s- Free
URL:https://chichesterbid.co.uk/event/listeners-lounge-at-jam-cafe/2026-03-21/
LOCATION:JAM Cafe\, 33 Southgate\, Chichester\, West Sussex\, PO19 1DP
CATEGORIES:Family Friendly
ATTACH;FMTTYPE=image/png:https://chichesterbid.co.uk/wp-content/uploads/2024/01/Creative-Beatz-3.png
ORGANIZER;CN="JAM":MAILTO:info@creativebeatz.co.uk
END:VEVENT
BEGIN:VEVENT
DTSTART;VALUE=DATE:20260328
DTEND;VALUE=DATE:20260329
DTSTAMP:20260421T134020
CREATED:20260227T143407Z
LAST-MODIFIED:20260312T104814Z
UID:10026769-1774656000-1774742399@chichesterbid.co.uk
SUMMARY:BFG Family Trail
DESCRIPTION:While The BFG is on stage at Chichester Festival Theatre\, the story spills out into the city from 28 March – 11 April with Chichester BID’s phizz-whizzing BFG Family Trail.\n\nChiddlers are invited to explore the city of Chichester in search of colourful dream jars hiding in eight windows. Each dream jar features a wonderfully splendiferous word – with a letter highlighted. All you need to do is collect the letters from each word and unscramble them to create a new gobblefunk-inspired word to complete the trail.\n\nEntries will be entered into a prize draw to win a £50 CFT Voucher and Roald Dahl goodies.\n\nWhere to start your adventure\nPick up a printed trail map from the CFT Box Office\, participating city centre businesses\, or download a copy here and print one at home to use on your adventure.\n\nHow to crack the code\nOnce you’ve completed the trail and noted all the letters\, unscramble them to make an 8-letter gobblefunk word.\n\nHow to enter\nEnter online at here or drop your printed trail form into the CFT Box Office or take a photo of your completed paper trail and send to office@chichesterbid.co.uk. Closing date: 11 April 2026 at 5pm. T&Cs Apply.\n\nWhat’s up for grabs\nOne lucky winner will receive a £50 CFT voucher and a bag of goodies. Plus five runners-up will win a Roald Dahl book\, courtesy of Children’s BookFest.\nCelebrating stories together\n \n\nThe BFG Family Trail forms part of Chichester’s Year of Reading: Go All In campaign\, spearheaded by Children’s BookFest with Chichester Festival Theatre and Chichester BID. \nBest of luck! \nTerms and Conditions: Competition closes 11 April at 5pm; one entry per person; the winner will be randomly chosen using an online generator; winner will be notified by email or phone (if given) by 17 April; prize is non-transferable and there is no cash alternative. 
URL:https://chichesterbid.co.uk/event/bfg-family-trail/2026-03-28/
LOCATION:Chichester City Centre
CATEGORIES:Family Friendly,National Year of Reading
ATTACH;FMTTYPE=image/jpeg:https://chichesterbid.co.uk/wp-content/uploads/2026/03/Untitled-design-2.jpg
ORGANIZER;CN="Chichester BID":MAILTO:office@chichesterbid.co.uk
END:VEVENT
BEGIN:VEVENT
DTSTART;TZID=UTC:20260328T090000
DTEND;TZID=UTC:20260328T160000
DTSTAMP:20260421T134020
CREATED:20230803T091739Z
LAST-MODIFIED:20240126T133225Z
UID:10004587-1774688400-1774713600@chichesterbid.co.uk
SUMMARY:Board Games for Families at Chichester Library
DESCRIPTION:Drop in to play board games with other families every 2nd and 4th Saturday of the month\, 9.00am-4.00pm. \nPlease contact Chichester Library for more details.
URL:https://chichesterbid.co.uk/event/board-games-for-families-at-chichester-library-2/2026-03-28/
LOCATION:Chichester Library\, Tower Street\, Chichester\, West Sussex\, PO191QJ
CATEGORIES:Family Friendly
ATTACH;FMTTYPE=image/jpeg:https://chichesterbid.co.uk/wp-content/uploads/2023/08/Board-Games.jpg
END:VEVENT
BEGIN:VEVENT
DTSTART;VALUE=DATE:20260329
DTEND;VALUE=DATE:20260330
DTSTAMP:20260421T134020
CREATED:20260227T143407Z
LAST-MODIFIED:20260312T104814Z
UID:10026770-1774742400-1774828799@chichesterbid.co.uk
SUMMARY:BFG Family Trail
DESCRIPTION:While The BFG is on stage at Chichester Festival Theatre\, the story spills out into the city from 28 March – 11 April with Chichester BID’s phizz-whizzing BFG Family Trail.\n\nChiddlers are invited to explore the city of Chichester in search of colourful dream jars hiding in eight windows. Each dream jar features a wonderfully splendiferous word – with a letter highlighted. All you need to do is collect the letters from each word and unscramble them to create a new gobblefunk-inspired word to complete the trail.\n\nEntries will be entered into a prize draw to win a £50 CFT Voucher and Roald Dahl goodies.\n\nWhere to start your adventure\nPick up a printed trail map from the CFT Box Office\, participating city centre businesses\, or download a copy here and print one at home to use on your adventure.\n\nHow to crack the code\nOnce you’ve completed the trail and noted all the letters\, unscramble them to make an 8-letter gobblefunk word.\n\nHow to enter\nEnter online at here or drop your printed trail form into the CFT Box Office or take a photo of your completed paper trail and send to office@chichesterbid.co.uk. Closing date: 11 April 2026 at 5pm. T&Cs Apply.\n\nWhat’s up for grabs\nOne lucky winner will receive a £50 CFT voucher and a bag of goodies. Plus five runners-up will win a Roald Dahl book\, courtesy of Children’s BookFest.\nCelebrating stories together\n \n\nThe BFG Family Trail forms part of Chichester’s Year of Reading: Go All In campaign\, spearheaded by Children’s BookFest with Chichester Festival Theatre and Chichester BID. \nBest of luck! \nTerms and Conditions: Competition closes 11 April at 5pm; one entry per person; the winner will be randomly chosen using an online generator; winner will be notified by email or phone (if given) by 17 April; prize is non-transferable and there is no cash alternative. 
URL:https://chichesterbid.co.uk/event/bfg-family-trail/2026-03-29/
LOCATION:Chichester City Centre
CATEGORIES:Family Friendly,National Year of Reading
ATTACH;FMTTYPE=image/jpeg:https://chichesterbid.co.uk/wp-content/uploads/2026/03/Untitled-design-2.jpg
ORGANIZER;CN="Chichester BID":MAILTO:office@chichesterbid.co.uk
END:VEVENT
BEGIN:VEVENT
DTSTART;VALUE=DATE:20260330
DTEND;VALUE=DATE:20260331
DTSTAMP:20260421T134020
CREATED:20260227T143407Z
LAST-MODIFIED:20260312T104814Z
UID:10026771-1774828800-1774915199@chichesterbid.co.uk
SUMMARY:BFG Family Trail
DESCRIPTION:While The BFG is on stage at Chichester Festival Theatre\, the story spills out into the city from 28 March – 11 April with Chichester BID’s phizz-whizzing BFG Family Trail.\n\nChiddlers are invited to explore the city of Chichester in search of colourful dream jars hiding in eight windows. Each dream jar features a wonderfully splendiferous word – with a letter highlighted. All you need to do is collect the letters from each word and unscramble them to create a new gobblefunk-inspired word to complete the trail.\n\nEntries will be entered into a prize draw to win a £50 CFT Voucher and Roald Dahl goodies.\n\nWhere to start your adventure\nPick up a printed trail map from the CFT Box Office\, participating city centre businesses\, or download a copy here and print one at home to use on your adventure.\n\nHow to crack the code\nOnce you’ve completed the trail and noted all the letters\, unscramble them to make an 8-letter gobblefunk word.\n\nHow to enter\nEnter online at here or drop your printed trail form into the CFT Box Office or take a photo of your completed paper trail and send to office@chichesterbid.co.uk. Closing date: 11 April 2026 at 5pm. T&Cs Apply.\n\nWhat’s up for grabs\nOne lucky winner will receive a £50 CFT voucher and a bag of goodies. Plus five runners-up will win a Roald Dahl book\, courtesy of Children’s BookFest.\nCelebrating stories together\n \n\nThe BFG Family Trail forms part of Chichester’s Year of Reading: Go All In campaign\, spearheaded by Children’s BookFest with Chichester Festival Theatre and Chichester BID. \nBest of luck! \nTerms and Conditions: Competition closes 11 April at 5pm; one entry per person; the winner will be randomly chosen using an online generator; winner will be notified by email or phone (if given) by 17 April; prize is non-transferable and there is no cash alternative. 
URL:https://chichesterbid.co.uk/event/bfg-family-trail/2026-03-30/
LOCATION:Chichester City Centre
CATEGORIES:Family Friendly,National Year of Reading
ATTACH;FMTTYPE=image/jpeg:https://chichesterbid.co.uk/wp-content/uploads/2026/03/Untitled-design-2.jpg
ORGANIZER;CN="Chichester BID":MAILTO:office@chichesterbid.co.uk
END:VEVENT
BEGIN:VEVENT
DTSTART;VALUE=DATE:20260331
DTEND;VALUE=DATE:20260401
DTSTAMP:20260421T134020
CREATED:20260227T143407Z
LAST-MODIFIED:20260312T104814Z
UID:10026772-1774915200-1775001599@chichesterbid.co.uk
SUMMARY:BFG Family Trail
DESCRIPTION:While The BFG is on stage at Chichester Festival Theatre\, the story spills out into the city from 28 March – 11 April with Chichester BID’s phizz-whizzing BFG Family Trail.\n\nChiddlers are invited to explore the city of Chichester in search of colourful dream jars hiding in eight windows. Each dream jar features a wonderfully splendiferous word – with a letter highlighted. All you need to do is collect the letters from each word and unscramble them to create a new gobblefunk-inspired word to complete the trail.\n\nEntries will be entered into a prize draw to win a £50 CFT Voucher and Roald Dahl goodies.\n\nWhere to start your adventure\nPick up a printed trail map from the CFT Box Office\, participating city centre businesses\, or download a copy here and print one at home to use on your adventure.\n\nHow to crack the code\nOnce you’ve completed the trail and noted all the letters\, unscramble them to make an 8-letter gobblefunk word.\n\nHow to enter\nEnter online at here or drop your printed trail form into the CFT Box Office or take a photo of your completed paper trail and send to office@chichesterbid.co.uk. Closing date: 11 April 2026 at 5pm. T&Cs Apply.\n\nWhat’s up for grabs\nOne lucky winner will receive a £50 CFT voucher and a bag of goodies. Plus five runners-up will win a Roald Dahl book\, courtesy of Children’s BookFest.\nCelebrating stories together\n \n\nThe BFG Family Trail forms part of Chichester’s Year of Reading: Go All In campaign\, spearheaded by Children’s BookFest with Chichester Festival Theatre and Chichester BID. \nBest of luck! \nTerms and Conditions: Competition closes 11 April at 5pm; one entry per person; the winner will be randomly chosen using an online generator; winner will be notified by email or phone (if given) by 17 April; prize is non-transferable and there is no cash alternative. 
URL:https://chichesterbid.co.uk/event/bfg-family-trail/2026-03-31/
LOCATION:Chichester City Centre
CATEGORIES:Family Friendly,National Year of Reading
ATTACH;FMTTYPE=image/jpeg:https://chichesterbid.co.uk/wp-content/uploads/2026/03/Untitled-design-2.jpg
ORGANIZER;CN="Chichester BID":MAILTO:office@chichesterbid.co.uk
END:VEVENT
END:VCALENDAR