BEGIN:VCALENDAR
VERSION:2.0
PRODID:-//Chichester BID - ECPv6.15.20//NONSGML v1.0//EN
CALSCALE:GREGORIAN
METHOD:PUBLISH
X-ORIGINAL-URL:https://chichesterbid.co.uk
X-WR-CALDESC:Events for Chichester BID
REFRESH-INTERVAL;VALUE=DURATION:PT1H
X-Robots-Tag:noindex
X-PUBLISHED-TTL:PT1H
BEGIN:VTIMEZONE
TZID:UTC
BEGIN:STANDARD
TZOFFSETFROM:+0000
TZOFFSETTO:+0000
TZNAME:UTC
DTSTART:20240101T000000
END:STANDARD
END:VTIMEZONE
BEGIN:VEVENT
DTSTART;TZID=UTC:20250407T090000
DTEND;TZID=UTC:20251115T170000
DTSTAMP:20260423T011922
CREATED:20250613T130247Z
LAST-MODIFIED:20250613T130247Z
UID:10024289-1744016400-1763226000@chichesterbid.co.uk
SUMMARY:Wilfrid the Seal Trail at Chichester Cathedral
DESCRIPTION:Inspired by St. Wilfrid’s historic journey from Selsey to Chichester\, Wilfrid will lead young explorers on an adventure through the Cathedral\, uncovering treasures and fascinating history. \nFamilies are invited to seek out artefacts\, such as flowers pressed by a soldier between the pages of a Bible in the trenches of WWI and 800-year-old rings worn by Bishops during the 12th century. Led by Wilfrid the Seal\, children and their adults will delight in uncovering the rich and vibrant tales behind these historic items. \nIdeal for all ages\, for younger children there is an eye spy game\, and everyone will enjoy making (and eating) the 18th century rice pudding recipe once back home. \nOnce you’ve completed your trail don’t forget to head to our shop or speak to a member of staff to retrieve your sticker prize! \nThe trail can be collected from the Visitors’ Desk or at points around the Cathedral and will be running from 7th April – 15th November 2025.
URL:https://chichesterbid.co.uk/event/wilfrid-the-seal-trail-at-chichester-cathedral/
LOCATION:Chichester Cathedral\, West Street\, Chichester\, PO19 1PX
CATEGORIES:Family Friendly
ATTACH;FMTTYPE=image/webp:https://chichesterbid.co.uk/wp-content/uploads/2025/06/xWebsiteP20HeaderP20P20Cover.jpgqitokCz-SGHPj.pagespeed.ic_.13j8TvXIi2.webp
END:VEVENT
BEGIN:VEVENT
DTSTART;TZID=UTC:20250920T110000
DTEND;TZID=UTC:20250920T150000
DTSTAMP:20260423T011922
CREATED:20250613T101744Z
LAST-MODIFIED:20250825T092335Z
UID:10024255-1758366000-1758380400@chichesterbid.co.uk
SUMMARY:Shippam's Family Day at The Novium Museum
DESCRIPTION:Celebrate the story of one of Chichester’s most iconic businesses at our Shippam’s Family Day – a fun\, hands-on event suitable for all ages. \nChildren can enjoy themed craft activities inspired by the Shippam’s brand\, while grown-ups can explore fascinating stories and share memories of a local company that left a lasting impression on generations. \nHandle real objects from the Shippam’s archive\, dive into family-friendly heritage trails\, and take part in memory-sharing sessions that bring the past to life. No need to book – just drop in and join the fun! \n11am – 3pm | Free | Drop In
URL:https://chichesterbid.co.uk/event/shippams-family-day-at-the-novium-museum/
LOCATION:Novium Musuem\, 1 Tower Street\, Chichester\, PO19 1QH\, United Kingdom
CATEGORIES:Exhibitions,Family Friendly
ATTACH;FMTTYPE=image/png:https://chichesterbid.co.uk/wp-content/uploads/2025/06/original-1.png
END:VEVENT
BEGIN:VEVENT
DTSTART;TZID=UTC:20250920T190000
DTEND;TZID=UTC:20250920T190000
DTSTAMP:20260423T011922
CREATED:20240508T090539Z
LAST-MODIFIED:20240508T090710Z
UID:10013641-1758394800-1758394800@chichesterbid.co.uk
SUMMARY:Listeners Lounge at Jam Cafe
DESCRIPTION:Join Jam Cafe every third Saturday of the month for their listeners lounge where they’ll have 3 talented artists performing. \nDoors at 7pm \nTickets- \nAdults – £3 \nUnder 18s- Free
URL:https://chichesterbid.co.uk/event/listeners-lounge-at-jam-cafe/2025-09-20/
LOCATION:JAM Cafe\, 33 Southgate\, Chichester\, West Sussex\, PO19 1DP
CATEGORIES:Family Friendly
ATTACH;FMTTYPE=image/png:https://chichesterbid.co.uk/wp-content/uploads/2024/01/Creative-Beatz-3.png
ORGANIZER;CN="JAM":MAILTO:info@creativebeatz.co.uk
END:VEVENT
END:VCALENDAR