BEGIN:VCALENDAR
VERSION:2.0
PRODID:-//Chichester BID - ECPv6.15.20//NONSGML v1.0//EN
CALSCALE:GREGORIAN
METHOD:PUBLISH
X-ORIGINAL-URL:https://chichesterbid.co.uk
X-WR-CALDESC:Events for Chichester BID
REFRESH-INTERVAL;VALUE=DURATION:PT1H
X-Robots-Tag:noindex
X-PUBLISHED-TTL:PT1H
BEGIN:VTIMEZONE
TZID:UTC
BEGIN:STANDARD
TZOFFSETFROM:+0000
TZOFFSETTO:+0000
TZNAME:UTC
DTSTART:20250101T000000
END:STANDARD
END:VTIMEZONE
BEGIN:VEVENT
DTSTART;TZID=UTC:20260216T100000
DTEND;TZID=UTC:20260220T153000
DTSTAMP:20260421T201647
CREATED:20260204T104644Z
LAST-MODIFIED:20260204T104644Z
UID:10025632-1771236000-1771601400@chichesterbid.co.uk
SUMMARY:Half Term Crafting at Jam Cafe
DESCRIPTION:Join Jam Cafe for a week full of crafting fun! Sessions suitable for all ages. \nAll children under 11 must be accompanied by an adult. \nBook your space here.
URL:https://chichesterbid.co.uk/event/half-term-crafting-at-jam-cafe/
LOCATION:JAM Cafe\, 33 Southgate\, Chichester\, West Sussex\, PO19 1DP
CATEGORIES:Family Friendly
ATTACH;FMTTYPE=image/jpeg:https://chichesterbid.co.uk/wp-content/uploads/2026/02/617080795_122245101230137479_7617029100714908679_n.jpg
ORGANIZER;CN="JAM":MAILTO:info@creativebeatz.co.uk
END:VEVENT
END:VCALENDAR