BEGIN:VCALENDAR
VERSION:2.0
PRODID:-//Chichester BID - ECPv6.15.20//NONSGML v1.0//EN
CALSCALE:GREGORIAN
METHOD:PUBLISH
X-WR-CALNAME:Chichester BID
X-ORIGINAL-URL:https://chichesterbid.co.uk
X-WR-CALDESC:Events for Chichester BID
REFRESH-INTERVAL;VALUE=DURATION:PT1H
X-Robots-Tag:noindex
X-PUBLISHED-TTL:PT1H
BEGIN:VTIMEZONE
TZID:UTC
BEGIN:STANDARD
TZOFFSETFROM:+0000
TZOFFSETTO:+0000
TZNAME:UTC
DTSTART:20270101T000000
END:STANDARD
END:VTIMEZONE
BEGIN:VEVENT
DTSTART;TZID=UTC:20280422T090000
DTEND;TZID=UTC:20280422T160000
DTSTAMP:20260423T070606
CREATED:20230803T091739Z
LAST-MODIFIED:20240126T133225Z
UID:10004612-1840006800-1840032000@chichesterbid.co.uk
SUMMARY:Board Games for Families at Chichester Library
DESCRIPTION:Drop in to play board games with other families every 2nd and 4th Saturday of the month\, 9.00am-4.00pm. \nPlease contact Chichester Library for more details.
URL:https://chichesterbid.co.uk/event/board-games-for-families-at-chichester-library-2/2028-04-22/
LOCATION:Chichester Library\, Tower Street\, Chichester\, West Sussex\, PO191QJ
CATEGORIES:Family Friendly
ATTACH;FMTTYPE=image/jpeg:https://chichesterbid.co.uk/wp-content/uploads/2023/08/Board-Games.jpg
END:VEVENT
BEGIN:VEVENT
DTSTART;TZID=UTC:20280520T103000
DTEND;TZID=UTC:20280520T110000
DTSTAMP:20260423T070606
CREATED:20260204T112043Z
LAST-MODIFIED:20260204T112043Z
UID:10026650-1842431400-1842433200@chichesterbid.co.uk
SUMMARY:Story Magic at Chichester Library
DESCRIPTION:Drop into a multi-sensory storytime session specially for children and young people with additional needs\, on the third Saturday of the month 10.45 - 11.15am.  \nPlease contact Chichester Library for more details. \nFind out more about attending a Story Magic session.
URL:https://chichesterbid.co.uk/event/story-magic-at-chichester-library/2028-05-20/
LOCATION:Chichester Library\, Tower Street\, Chichester\, West Sussex\, PO191QJ
CATEGORIES:Family Friendly,National Year of Reading
ATTACH;FMTTYPE=image/jpeg:https://chichesterbid.co.uk/wp-content/uploads/2026/02/ViewImage-2.jpg
END:VEVENT
BEGIN:VEVENT
DTSTART;TZID=UTC:20280520T190000
DTEND;TZID=UTC:20280520T190000
DTSTAMP:20260423T070606
CREATED:20240508T090539Z
LAST-MODIFIED:20240508T090710Z
UID:10013673-1842462000-1842462000@chichesterbid.co.uk
SUMMARY:Listeners Lounge at Jam Cafe
DESCRIPTION:Join Jam Cafe every third Saturday of the month for their listeners lounge where they’ll have 3 talented artists performing. \nDoors at 7pm \nTickets- \nAdults – £3 \nUnder 18s- Free
URL:https://chichesterbid.co.uk/event/listeners-lounge-at-jam-cafe/2028-05-20/
LOCATION:JAM Cafe\, 33 Southgate\, Chichester\, West Sussex\, PO19 1DP
CATEGORIES:Family Friendly
ATTACH;FMTTYPE=image/png:https://chichesterbid.co.uk/wp-content/uploads/2024/01/Creative-Beatz-3.png
ORGANIZER;CN="JAM":MAILTO:info@creativebeatz.co.uk
END:VEVENT
BEGIN:VEVENT
DTSTART;TZID=UTC:20280527T090000
DTEND;TZID=UTC:20280527T160000
DTSTAMP:20260423T070606
CREATED:20230803T091739Z
LAST-MODIFIED:20240126T133225Z
UID:10004613-1843030800-1843056000@chichesterbid.co.uk
SUMMARY:Board Games for Families at Chichester Library
DESCRIPTION:Drop in to play board games with other families every 2nd and 4th Saturday of the month\, 9.00am-4.00pm. \nPlease contact Chichester Library for more details.
URL:https://chichesterbid.co.uk/event/board-games-for-families-at-chichester-library-2/2028-05-27/
LOCATION:Chichester Library\, Tower Street\, Chichester\, West Sussex\, PO191QJ
CATEGORIES:Family Friendly
ATTACH;FMTTYPE=image/jpeg:https://chichesterbid.co.uk/wp-content/uploads/2023/08/Board-Games.jpg
END:VEVENT
BEGIN:VEVENT
DTSTART;TZID=UTC:20280617T103000
DTEND;TZID=UTC:20280617T110000
DTSTAMP:20260423T070606
CREATED:20260204T112043Z
LAST-MODIFIED:20260204T112043Z
UID:10026651-1844850600-1844852400@chichesterbid.co.uk
SUMMARY:Story Magic at Chichester Library
DESCRIPTION:Drop into a multi-sensory storytime session specially for children and young people with additional needs\, on the third Saturday of the month 10.45 - 11.15am.  \nPlease contact Chichester Library for more details. \nFind out more about attending a Story Magic session.
URL:https://chichesterbid.co.uk/event/story-magic-at-chichester-library/2028-06-17/
LOCATION:Chichester Library\, Tower Street\, Chichester\, West Sussex\, PO191QJ
CATEGORIES:Family Friendly,National Year of Reading
ATTACH;FMTTYPE=image/jpeg:https://chichesterbid.co.uk/wp-content/uploads/2026/02/ViewImage-2.jpg
END:VEVENT
BEGIN:VEVENT
DTSTART;TZID=UTC:20280617T190000
DTEND;TZID=UTC:20280617T190000
DTSTAMP:20260423T070606
CREATED:20240508T090539Z
LAST-MODIFIED:20240508T090710Z
UID:10013674-1844881200-1844881200@chichesterbid.co.uk
SUMMARY:Listeners Lounge at Jam Cafe
DESCRIPTION:Join Jam Cafe every third Saturday of the month for their listeners lounge where they’ll have 3 talented artists performing. \nDoors at 7pm \nTickets- \nAdults – £3 \nUnder 18s- Free
URL:https://chichesterbid.co.uk/event/listeners-lounge-at-jam-cafe/2028-06-17/
LOCATION:JAM Cafe\, 33 Southgate\, Chichester\, West Sussex\, PO19 1DP
CATEGORIES:Family Friendly
ATTACH;FMTTYPE=image/png:https://chichesterbid.co.uk/wp-content/uploads/2024/01/Creative-Beatz-3.png
ORGANIZER;CN="JAM":MAILTO:info@creativebeatz.co.uk
END:VEVENT
BEGIN:VEVENT
DTSTART;TZID=UTC:20280624T090000
DTEND;TZID=UTC:20280624T160000
DTSTAMP:20260423T070606
CREATED:20230803T091739Z
LAST-MODIFIED:20240126T133225Z
UID:10004614-1845450000-1845475200@chichesterbid.co.uk
SUMMARY:Board Games for Families at Chichester Library
DESCRIPTION:Drop in to play board games with other families every 2nd and 4th Saturday of the month\, 9.00am-4.00pm. \nPlease contact Chichester Library for more details.
URL:https://chichesterbid.co.uk/event/board-games-for-families-at-chichester-library-2/2028-06-24/
LOCATION:Chichester Library\, Tower Street\, Chichester\, West Sussex\, PO191QJ
CATEGORIES:Family Friendly
ATTACH;FMTTYPE=image/jpeg:https://chichesterbid.co.uk/wp-content/uploads/2023/08/Board-Games.jpg
END:VEVENT
BEGIN:VEVENT
DTSTART;TZID=UTC:20280715T103000
DTEND;TZID=UTC:20280715T110000
DTSTAMP:20260423T070606
CREATED:20260204T112043Z
LAST-MODIFIED:20260204T112043Z
UID:10026652-1847269800-1847271600@chichesterbid.co.uk
SUMMARY:Story Magic at Chichester Library
DESCRIPTION:Drop into a multi-sensory storytime session specially for children and young people with additional needs\, on the third Saturday of the month 10.45 - 11.15am.  \nPlease contact Chichester Library for more details. \nFind out more about attending a Story Magic session.
URL:https://chichesterbid.co.uk/event/story-magic-at-chichester-library/2028-07-15/
LOCATION:Chichester Library\, Tower Street\, Chichester\, West Sussex\, PO191QJ
CATEGORIES:Family Friendly,National Year of Reading
ATTACH;FMTTYPE=image/jpeg:https://chichesterbid.co.uk/wp-content/uploads/2026/02/ViewImage-2.jpg
END:VEVENT
BEGIN:VEVENT
DTSTART;TZID=UTC:20280715T190000
DTEND;TZID=UTC:20280715T190000
DTSTAMP:20260423T070606
CREATED:20240508T090539Z
LAST-MODIFIED:20240508T090710Z
UID:10013675-1847300400-1847300400@chichesterbid.co.uk
SUMMARY:Listeners Lounge at Jam Cafe
DESCRIPTION:Join Jam Cafe every third Saturday of the month for their listeners lounge where they’ll have 3 talented artists performing. \nDoors at 7pm \nTickets- \nAdults – £3 \nUnder 18s- Free
URL:https://chichesterbid.co.uk/event/listeners-lounge-at-jam-cafe/2028-07-15/
LOCATION:JAM Cafe\, 33 Southgate\, Chichester\, West Sussex\, PO19 1DP
CATEGORIES:Family Friendly
ATTACH;FMTTYPE=image/png:https://chichesterbid.co.uk/wp-content/uploads/2024/01/Creative-Beatz-3.png
ORGANIZER;CN="JAM":MAILTO:info@creativebeatz.co.uk
END:VEVENT
BEGIN:VEVENT
DTSTART;TZID=UTC:20280722T090000
DTEND;TZID=UTC:20280722T160000
DTSTAMP:20260423T070606
CREATED:20230803T091739Z
LAST-MODIFIED:20240126T133225Z
UID:10004615-1847869200-1847894400@chichesterbid.co.uk
SUMMARY:Board Games for Families at Chichester Library
DESCRIPTION:Drop in to play board games with other families every 2nd and 4th Saturday of the month\, 9.00am-4.00pm. \nPlease contact Chichester Library for more details.
URL:https://chichesterbid.co.uk/event/board-games-for-families-at-chichester-library-2/2028-07-22/
LOCATION:Chichester Library\, Tower Street\, Chichester\, West Sussex\, PO191QJ
CATEGORIES:Family Friendly
ATTACH;FMTTYPE=image/jpeg:https://chichesterbid.co.uk/wp-content/uploads/2023/08/Board-Games.jpg
END:VEVENT
BEGIN:VEVENT
DTSTART;TZID=UTC:20280819T103000
DTEND;TZID=UTC:20280819T110000
DTSTAMP:20260423T070606
CREATED:20260204T112043Z
LAST-MODIFIED:20260204T112043Z
UID:10026653-1850293800-1850295600@chichesterbid.co.uk
SUMMARY:Story Magic at Chichester Library
DESCRIPTION:Drop into a multi-sensory storytime session specially for children and young people with additional needs\, on the third Saturday of the month 10.45 - 11.15am.  \nPlease contact Chichester Library for more details. \nFind out more about attending a Story Magic session.
URL:https://chichesterbid.co.uk/event/story-magic-at-chichester-library/2028-08-19/
LOCATION:Chichester Library\, Tower Street\, Chichester\, West Sussex\, PO191QJ
CATEGORIES:Family Friendly,National Year of Reading
ATTACH;FMTTYPE=image/jpeg:https://chichesterbid.co.uk/wp-content/uploads/2026/02/ViewImage-2.jpg
END:VEVENT
BEGIN:VEVENT
DTSTART;TZID=UTC:20280819T190000
DTEND;TZID=UTC:20280819T190000
DTSTAMP:20260423T070606
CREATED:20240508T090539Z
LAST-MODIFIED:20240508T090710Z
UID:10013676-1850324400-1850324400@chichesterbid.co.uk
SUMMARY:Listeners Lounge at Jam Cafe
DESCRIPTION:Join Jam Cafe every third Saturday of the month for their listeners lounge where they’ll have 3 talented artists performing. \nDoors at 7pm \nTickets- \nAdults – £3 \nUnder 18s- Free
URL:https://chichesterbid.co.uk/event/listeners-lounge-at-jam-cafe/2028-08-19/
LOCATION:JAM Cafe\, 33 Southgate\, Chichester\, West Sussex\, PO19 1DP
CATEGORIES:Family Friendly
ATTACH;FMTTYPE=image/png:https://chichesterbid.co.uk/wp-content/uploads/2024/01/Creative-Beatz-3.png
ORGANIZER;CN="JAM":MAILTO:info@creativebeatz.co.uk
END:VEVENT
BEGIN:VEVENT
DTSTART;TZID=UTC:20280826T090000
DTEND;TZID=UTC:20280826T160000
DTSTAMP:20260423T070606
CREATED:20230803T091739Z
LAST-MODIFIED:20240126T133225Z
UID:10005414-1850893200-1850918400@chichesterbid.co.uk
SUMMARY:Board Games for Families at Chichester Library
DESCRIPTION:Drop in to play board games with other families every 2nd and 4th Saturday of the month\, 9.00am-4.00pm. \nPlease contact Chichester Library for more details.
URL:https://chichesterbid.co.uk/event/board-games-for-families-at-chichester-library-2/2028-08-26/
LOCATION:Chichester Library\, Tower Street\, Chichester\, West Sussex\, PO191QJ
CATEGORIES:Family Friendly
ATTACH;FMTTYPE=image/jpeg:https://chichesterbid.co.uk/wp-content/uploads/2023/08/Board-Games.jpg
END:VEVENT
BEGIN:VEVENT
DTSTART;TZID=UTC:20280916T103000
DTEND;TZID=UTC:20280916T110000
DTSTAMP:20260423T070606
CREATED:20260204T112043Z
LAST-MODIFIED:20260204T112043Z
UID:10026654-1852713000-1852714800@chichesterbid.co.uk
SUMMARY:Story Magic at Chichester Library
DESCRIPTION:Drop into a multi-sensory storytime session specially for children and young people with additional needs\, on the third Saturday of the month 10.45 - 11.15am.  \nPlease contact Chichester Library for more details. \nFind out more about attending a Story Magic session.
URL:https://chichesterbid.co.uk/event/story-magic-at-chichester-library/2028-09-16/
LOCATION:Chichester Library\, Tower Street\, Chichester\, West Sussex\, PO191QJ
CATEGORIES:Family Friendly,National Year of Reading
ATTACH;FMTTYPE=image/jpeg:https://chichesterbid.co.uk/wp-content/uploads/2026/02/ViewImage-2.jpg
END:VEVENT
BEGIN:VEVENT
DTSTART;TZID=UTC:20280916T190000
DTEND;TZID=UTC:20280916T190000
DTSTAMP:20260423T070606
CREATED:20240508T090539Z
LAST-MODIFIED:20240508T090710Z
UID:10013677-1852743600-1852743600@chichesterbid.co.uk
SUMMARY:Listeners Lounge at Jam Cafe
DESCRIPTION:Join Jam Cafe every third Saturday of the month for their listeners lounge where they’ll have 3 talented artists performing. \nDoors at 7pm \nTickets- \nAdults – £3 \nUnder 18s- Free
URL:https://chichesterbid.co.uk/event/listeners-lounge-at-jam-cafe/2028-09-16/
LOCATION:JAM Cafe\, 33 Southgate\, Chichester\, West Sussex\, PO19 1DP
CATEGORIES:Family Friendly
ATTACH;FMTTYPE=image/png:https://chichesterbid.co.uk/wp-content/uploads/2024/01/Creative-Beatz-3.png
ORGANIZER;CN="JAM":MAILTO:info@creativebeatz.co.uk
END:VEVENT
BEGIN:VEVENT
DTSTART;TZID=UTC:20280923T090000
DTEND;TZID=UTC:20280923T160000
DTSTAMP:20260423T070606
CREATED:20230803T091739Z
LAST-MODIFIED:20240126T133225Z
UID:10005415-1853312400-1853337600@chichesterbid.co.uk
SUMMARY:Board Games for Families at Chichester Library
DESCRIPTION:Drop in to play board games with other families every 2nd and 4th Saturday of the month\, 9.00am-4.00pm. \nPlease contact Chichester Library for more details.
URL:https://chichesterbid.co.uk/event/board-games-for-families-at-chichester-library-2/2028-09-23/
LOCATION:Chichester Library\, Tower Street\, Chichester\, West Sussex\, PO191QJ
CATEGORIES:Family Friendly
ATTACH;FMTTYPE=image/jpeg:https://chichesterbid.co.uk/wp-content/uploads/2023/08/Board-Games.jpg
END:VEVENT
BEGIN:VEVENT
DTSTART;TZID=UTC:20281021T103000
DTEND;TZID=UTC:20281021T110000
DTSTAMP:20260423T070606
CREATED:20260204T112043Z
LAST-MODIFIED:20260204T112043Z
UID:10026655-1855737000-1855738800@chichesterbid.co.uk
SUMMARY:Story Magic at Chichester Library
DESCRIPTION:Drop into a multi-sensory storytime session specially for children and young people with additional needs\, on the third Saturday of the month 10.45 - 11.15am.  \nPlease contact Chichester Library for more details. \nFind out more about attending a Story Magic session.
URL:https://chichesterbid.co.uk/event/story-magic-at-chichester-library/2028-10-21/
LOCATION:Chichester Library\, Tower Street\, Chichester\, West Sussex\, PO191QJ
CATEGORIES:Family Friendly,National Year of Reading
ATTACH;FMTTYPE=image/jpeg:https://chichesterbid.co.uk/wp-content/uploads/2026/02/ViewImage-2.jpg
END:VEVENT
BEGIN:VEVENT
DTSTART;TZID=UTC:20281021T190000
DTEND;TZID=UTC:20281021T190000
DTSTAMP:20260423T070606
CREATED:20240508T090539Z
LAST-MODIFIED:20240508T090710Z
UID:10013678-1855767600-1855767600@chichesterbid.co.uk
SUMMARY:Listeners Lounge at Jam Cafe
DESCRIPTION:Join Jam Cafe every third Saturday of the month for their listeners lounge where they’ll have 3 talented artists performing. \nDoors at 7pm \nTickets- \nAdults – £3 \nUnder 18s- Free
URL:https://chichesterbid.co.uk/event/listeners-lounge-at-jam-cafe/2028-10-21/
LOCATION:JAM Cafe\, 33 Southgate\, Chichester\, West Sussex\, PO19 1DP
CATEGORIES:Family Friendly
ATTACH;FMTTYPE=image/png:https://chichesterbid.co.uk/wp-content/uploads/2024/01/Creative-Beatz-3.png
ORGANIZER;CN="JAM":MAILTO:info@creativebeatz.co.uk
END:VEVENT
BEGIN:VEVENT
DTSTART;TZID=UTC:20281028T090000
DTEND;TZID=UTC:20281028T160000
DTSTAMP:20260423T070606
CREATED:20230803T091739Z
LAST-MODIFIED:20240126T133225Z
UID:10006589-1856336400-1856361600@chichesterbid.co.uk
SUMMARY:Board Games for Families at Chichester Library
DESCRIPTION:Drop in to play board games with other families every 2nd and 4th Saturday of the month\, 9.00am-4.00pm. \nPlease contact Chichester Library for more details.
URL:https://chichesterbid.co.uk/event/board-games-for-families-at-chichester-library-2/2028-10-28/
LOCATION:Chichester Library\, Tower Street\, Chichester\, West Sussex\, PO191QJ
CATEGORIES:Family Friendly
ATTACH;FMTTYPE=image/jpeg:https://chichesterbid.co.uk/wp-content/uploads/2023/08/Board-Games.jpg
END:VEVENT
BEGIN:VEVENT
DTSTART;TZID=UTC:20281118T103000
DTEND;TZID=UTC:20281118T110000
DTSTAMP:20260423T070606
CREATED:20260204T112043Z
LAST-MODIFIED:20260204T112043Z
UID:10026656-1858156200-1858158000@chichesterbid.co.uk
SUMMARY:Story Magic at Chichester Library
DESCRIPTION:Drop into a multi-sensory storytime session specially for children and young people with additional needs\, on the third Saturday of the month 10.45 - 11.15am.  \nPlease contact Chichester Library for more details. \nFind out more about attending a Story Magic session.
URL:https://chichesterbid.co.uk/event/story-magic-at-chichester-library/2028-11-18/
LOCATION:Chichester Library\, Tower Street\, Chichester\, West Sussex\, PO191QJ
CATEGORIES:Family Friendly,National Year of Reading
ATTACH;FMTTYPE=image/jpeg:https://chichesterbid.co.uk/wp-content/uploads/2026/02/ViewImage-2.jpg
END:VEVENT
BEGIN:VEVENT
DTSTART;TZID=UTC:20281118T190000
DTEND;TZID=UTC:20281118T190000
DTSTAMP:20260423T070606
CREATED:20240508T090539Z
LAST-MODIFIED:20240508T090710Z
UID:10013679-1858186800-1858186800@chichesterbid.co.uk
SUMMARY:Listeners Lounge at Jam Cafe
DESCRIPTION:Join Jam Cafe every third Saturday of the month for their listeners lounge where they’ll have 3 talented artists performing. \nDoors at 7pm \nTickets- \nAdults – £3 \nUnder 18s- Free
URL:https://chichesterbid.co.uk/event/listeners-lounge-at-jam-cafe/2028-11-18/
LOCATION:JAM Cafe\, 33 Southgate\, Chichester\, West Sussex\, PO19 1DP
CATEGORIES:Family Friendly
ATTACH;FMTTYPE=image/png:https://chichesterbid.co.uk/wp-content/uploads/2024/01/Creative-Beatz-3.png
ORGANIZER;CN="JAM":MAILTO:info@creativebeatz.co.uk
END:VEVENT
BEGIN:VEVENT
DTSTART;TZID=UTC:20281125T090000
DTEND;TZID=UTC:20281125T160000
DTSTAMP:20260423T070607
CREATED:20230803T091739Z
LAST-MODIFIED:20240126T133225Z
UID:10006590-1858755600-1858780800@chichesterbid.co.uk
SUMMARY:Board Games for Families at Chichester Library
DESCRIPTION:Drop in to play board games with other families every 2nd and 4th Saturday of the month\, 9.00am-4.00pm. \nPlease contact Chichester Library for more details.
URL:https://chichesterbid.co.uk/event/board-games-for-families-at-chichester-library-2/2028-11-25/
LOCATION:Chichester Library\, Tower Street\, Chichester\, West Sussex\, PO191QJ
CATEGORIES:Family Friendly
ATTACH;FMTTYPE=image/jpeg:https://chichesterbid.co.uk/wp-content/uploads/2023/08/Board-Games.jpg
END:VEVENT
BEGIN:VEVENT
DTSTART;TZID=UTC:20281216T103000
DTEND;TZID=UTC:20281216T110000
DTSTAMP:20260423T070607
CREATED:20260204T112043Z
LAST-MODIFIED:20260204T112043Z
UID:10026657-1860575400-1860577200@chichesterbid.co.uk
SUMMARY:Story Magic at Chichester Library
DESCRIPTION:Drop into a multi-sensory storytime session specially for children and young people with additional needs\, on the third Saturday of the month 10.45 - 11.15am.  \nPlease contact Chichester Library for more details. \nFind out more about attending a Story Magic session.
URL:https://chichesterbid.co.uk/event/story-magic-at-chichester-library/2028-12-16/
LOCATION:Chichester Library\, Tower Street\, Chichester\, West Sussex\, PO191QJ
CATEGORIES:Family Friendly,National Year of Reading
ATTACH;FMTTYPE=image/jpeg:https://chichesterbid.co.uk/wp-content/uploads/2026/02/ViewImage-2.jpg
END:VEVENT
BEGIN:VEVENT
DTSTART;TZID=UTC:20281216T190000
DTEND;TZID=UTC:20281216T190000
DTSTAMP:20260423T070607
CREATED:20240508T090539Z
LAST-MODIFIED:20240508T090710Z
UID:10013680-1860606000-1860606000@chichesterbid.co.uk
SUMMARY:Listeners Lounge at Jam Cafe
DESCRIPTION:Join Jam Cafe every third Saturday of the month for their listeners lounge where they’ll have 3 talented artists performing. \nDoors at 7pm \nTickets- \nAdults – £3 \nUnder 18s- Free
URL:https://chichesterbid.co.uk/event/listeners-lounge-at-jam-cafe/2028-12-16/
LOCATION:JAM Cafe\, 33 Southgate\, Chichester\, West Sussex\, PO19 1DP
CATEGORIES:Family Friendly
ATTACH;FMTTYPE=image/png:https://chichesterbid.co.uk/wp-content/uploads/2024/01/Creative-Beatz-3.png
ORGANIZER;CN="JAM":MAILTO:info@creativebeatz.co.uk
END:VEVENT
BEGIN:VEVENT
DTSTART;TZID=UTC:20281223T090000
DTEND;TZID=UTC:20281223T160000
DTSTAMP:20260423T070607
CREATED:20230803T091739Z
LAST-MODIFIED:20240126T133225Z
UID:10006591-1861174800-1861200000@chichesterbid.co.uk
SUMMARY:Board Games for Families at Chichester Library
DESCRIPTION:Drop in to play board games with other families every 2nd and 4th Saturday of the month\, 9.00am-4.00pm. \nPlease contact Chichester Library for more details.
URL:https://chichesterbid.co.uk/event/board-games-for-families-at-chichester-library-2/2028-12-23/
LOCATION:Chichester Library\, Tower Street\, Chichester\, West Sussex\, PO191QJ
CATEGORIES:Family Friendly
ATTACH;FMTTYPE=image/jpeg:https://chichesterbid.co.uk/wp-content/uploads/2023/08/Board-Games.jpg
END:VEVENT
BEGIN:VEVENT
DTSTART;TZID=UTC:20290120T103000
DTEND;TZID=UTC:20290120T110000
DTSTAMP:20260423T070607
CREATED:20260204T112043Z
LAST-MODIFIED:20260204T112043Z
UID:10026658-1863599400-1863601200@chichesterbid.co.uk
SUMMARY:Story Magic at Chichester Library
DESCRIPTION:Drop into a multi-sensory storytime session specially for children and young people with additional needs\, on the third Saturday of the month 10.45 - 11.15am.  \nPlease contact Chichester Library for more details. \nFind out more about attending a Story Magic session.
URL:https://chichesterbid.co.uk/event/story-magic-at-chichester-library/2029-01-20/
LOCATION:Chichester Library\, Tower Street\, Chichester\, West Sussex\, PO191QJ
CATEGORIES:Family Friendly,National Year of Reading
ATTACH;FMTTYPE=image/jpeg:https://chichesterbid.co.uk/wp-content/uploads/2026/02/ViewImage-2.jpg
END:VEVENT
BEGIN:VEVENT
DTSTART;TZID=UTC:20290120T190000
DTEND;TZID=UTC:20290120T190000
DTSTAMP:20260423T070607
CREATED:20240508T090539Z
LAST-MODIFIED:20240508T090710Z
UID:10013681-1863630000-1863630000@chichesterbid.co.uk
SUMMARY:Listeners Lounge at Jam Cafe
DESCRIPTION:Join Jam Cafe every third Saturday of the month for their listeners lounge where they’ll have 3 talented artists performing. \nDoors at 7pm \nTickets- \nAdults – £3 \nUnder 18s- Free
URL:https://chichesterbid.co.uk/event/listeners-lounge-at-jam-cafe/2029-01-20/
LOCATION:JAM Cafe\, 33 Southgate\, Chichester\, West Sussex\, PO19 1DP
CATEGORIES:Family Friendly
ATTACH;FMTTYPE=image/png:https://chichesterbid.co.uk/wp-content/uploads/2024/01/Creative-Beatz-3.png
ORGANIZER;CN="JAM":MAILTO:info@creativebeatz.co.uk
END:VEVENT
BEGIN:VEVENT
DTSTART;TZID=UTC:20290217T103000
DTEND;TZID=UTC:20290217T110000
DTSTAMP:20260423T070607
CREATED:20260204T112043Z
LAST-MODIFIED:20260204T112043Z
UID:10026659-1866018600-1866020400@chichesterbid.co.uk
SUMMARY:Story Magic at Chichester Library
DESCRIPTION:Drop into a multi-sensory storytime session specially for children and young people with additional needs\, on the third Saturday of the month 10.45 - 11.15am.  \nPlease contact Chichester Library for more details. \nFind out more about attending a Story Magic session.
URL:https://chichesterbid.co.uk/event/story-magic-at-chichester-library/2029-02-17/
LOCATION:Chichester Library\, Tower Street\, Chichester\, West Sussex\, PO191QJ
CATEGORIES:Family Friendly,National Year of Reading
ATTACH;FMTTYPE=image/jpeg:https://chichesterbid.co.uk/wp-content/uploads/2026/02/ViewImage-2.jpg
END:VEVENT
BEGIN:VEVENT
DTSTART;TZID=UTC:20290217T190000
DTEND;TZID=UTC:20290217T190000
DTSTAMP:20260423T070607
CREATED:20240508T090539Z
LAST-MODIFIED:20240508T090710Z
UID:10013682-1866049200-1866049200@chichesterbid.co.uk
SUMMARY:Listeners Lounge at Jam Cafe
DESCRIPTION:Join Jam Cafe every third Saturday of the month for their listeners lounge where they’ll have 3 talented artists performing. \nDoors at 7pm \nTickets- \nAdults – £3 \nUnder 18s- Free
URL:https://chichesterbid.co.uk/event/listeners-lounge-at-jam-cafe/2029-02-17/
LOCATION:JAM Cafe\, 33 Southgate\, Chichester\, West Sussex\, PO19 1DP
CATEGORIES:Family Friendly
ATTACH;FMTTYPE=image/png:https://chichesterbid.co.uk/wp-content/uploads/2024/01/Creative-Beatz-3.png
ORGANIZER;CN="JAM":MAILTO:info@creativebeatz.co.uk
END:VEVENT
BEGIN:VEVENT
DTSTART;TZID=UTC:20290317T103000
DTEND;TZID=UTC:20290317T110000
DTSTAMP:20260423T070607
CREATED:20260204T112043Z
LAST-MODIFIED:20260204T112043Z
UID:10026660-1868437800-1868439600@chichesterbid.co.uk
SUMMARY:Story Magic at Chichester Library
DESCRIPTION:Drop into a multi-sensory storytime session specially for children and young people with additional needs\, on the third Saturday of the month 10.45 - 11.15am.  \nPlease contact Chichester Library for more details. \nFind out more about attending a Story Magic session.
URL:https://chichesterbid.co.uk/event/story-magic-at-chichester-library/2029-03-17/
LOCATION:Chichester Library\, Tower Street\, Chichester\, West Sussex\, PO191QJ
CATEGORIES:Family Friendly,National Year of Reading
ATTACH;FMTTYPE=image/jpeg:https://chichesterbid.co.uk/wp-content/uploads/2026/02/ViewImage-2.jpg
END:VEVENT
END:VCALENDAR