BEGIN:VCALENDAR
VERSION:2.0
PRODID:-//Chichester BID - ECPv6.15.20//NONSGML v1.0//EN
CALSCALE:GREGORIAN
METHOD:PUBLISH
X-ORIGINAL-URL:https://chichesterbid.co.uk
X-WR-CALDESC:Events for Chichester BID
REFRESH-INTERVAL;VALUE=DURATION:PT1H
X-Robots-Tag:noindex
X-PUBLISHED-TTL:PT1H
BEGIN:VTIMEZONE
TZID:UTC
BEGIN:STANDARD
TZOFFSETFROM:+0000
TZOFFSETTO:+0000
TZNAME:UTC
DTSTART:20240101T000000
END:STANDARD
END:VTIMEZONE
BEGIN:VEVENT
DTSTART;TZID=UTC:20250124T120000
DTEND;TZID=UTC:20250124T130000
DTSTAMP:20260421T080428
CREATED:20250109T121338Z
LAST-MODIFIED:20250109T121338Z
UID:10021105-1737720000-1737723600@chichesterbid.co.uk
SUMMARY:Pallant Proms at Pallant House Gallery
DESCRIPTION:Join us for a celebration of exceptional music and talent from students from the Royal College of Music. \n\n\nWe are thrilled to announce the much-anticipated return of “Pallant Proms” at Pallant House Gallery—a celebration of exceptional music and talent. Join us for three captivating daytime concerts\, featuring young pianists from the Royal College of Music\, performing on the illustrious Bosendorfer grand piano generously bequeathed by former Cathedral Organist Dr. John Birch. \nPerformances:\n24 January | Sophia Lim \n21 February | Fangwei Zhao \n21 March | Berniya Hamie \nIncluded with admission.
URL:https://chichesterbid.co.uk/event/pallant-proms-at-pallant-house-gallery/2025-01-24/
LOCATION:Pallant House Gallery\, 9 North Pallant\, Chichester\, PO19 1TJ
CATEGORIES:Live Music
ATTACH;FMTTYPE=image/jpeg:https://chichesterbid.co.uk/wp-content/uploads/2025/01/Pallant-Proms-Header-Image-960x600-1.jpg
END:VEVENT
BEGIN:VEVENT
DTSTART;TZID=UTC:20250124T190000
DTEND;TZID=UTC:20250124T210000
DTSTAMP:20260421T080428
CREATED:20250110T124503Z
LAST-MODIFIED:20250110T124503Z
UID:10021680-1737745200-1737752400@chichesterbid.co.uk
SUMMARY:MP3/DnB/UKG featuring Word Of Mouth at Jam Cafe
DESCRIPTION:Celebrate our FIRST birthday with our first Under 18 DJ event! Tickets limited to 25 so grab yours quick! With special live performances from Portsmouth Hip Hop Collective Word.Of.Mouth! \nRSVP here.
URL:https://chichesterbid.co.uk/event/mp3-dnb-ukg-featuring-word-of-mouth-at-jam-cafe/
LOCATION:JAM Cafe\, 33 Southgate\, Chichester\, West Sussex\, PO19 1DP
CATEGORIES:Live Music
ATTACH;FMTTYPE=image/webp:https://chichesterbid.co.uk/wp-content/uploads/2025/01/ed0e5c_a197108a7b3544048bcd9dcd4e0789a5mv2.webp
ORGANIZER;CN="JAM":MAILTO:info@creativebeatz.co.uk
END:VEVENT
END:VCALENDAR