BEGIN:VCALENDAR
VERSION:2.0
PRODID:-//Chichester BID - ECPv6.15.17.1//NONSGML v1.0//EN
CALSCALE:GREGORIAN
METHOD:PUBLISH
X-ORIGINAL-URL:https://chichesterbid.co.uk
X-WR-CALDESC:Events for Chichester BID
REFRESH-INTERVAL;VALUE=DURATION:PT1H
X-Robots-Tag:noindex
X-PUBLISHED-TTL:PT1H
BEGIN:VTIMEZONE
TZID:UTC
BEGIN:STANDARD
TZOFFSETFROM:+0000
TZOFFSETTO:+0000
TZNAME:UTC
DTSTART:20240101T000000
END:STANDARD
END:VTIMEZONE
BEGIN:VEVENT
DTSTART;TZID=UTC:20250410T190000
DTEND;TZID=UTC:20250410T213000
DTSTAMP:20260420T060900
CREATED:20250228T101037Z
LAST-MODIFIED:20250228T101037Z
UID:10022273-1744311600-1744320600@chichesterbid.co.uk
SUMMARY:ASMF & Anthony Roth Costanzo at Chichester Cathedral
DESCRIPTION:One of the world’s greatest orchestras\, the Academy of St Martin in the Fields directed by Tomo Keller will visit beautiful Chichester cathedral with superstar countertenor Anthony Roth Costanzo. The title role star of Philip Glass’ Akhnaten\, and recognised as one of the world’s leading performers of new music\, Roth Costanzo will sing a programme combining some of the most beautiful and contemplative traditional Easter music from Handel’s Messiah with new music written specially for him\, the European Premiere of Laika by Golijov. \nThe programme will also include Hadyn’s Symphony No. 26 ‘Lamentatione’\, which was written for Easter week\, incorporating a melody derived from an old plainsong of the Passion of Christ with this lament is woven across the movements. \n“This performance had the energy to power the National Grid” 5 stars\, The Observer \nPROGRAMME : \nHaydn Symphony No 26 ‘Lamentatione’ \nGolijov LAIꓘA (European premiere) \nHandel Messiah (excerpts): \nHe was despised\nThou art gone up on high\nI Know That My Redeemer Liveth \nCouperin Troisieme Leçon de Tenebrae excerpt for harpsichord\, cello and countertenor \nGolijov Tenebrae \n*Please note that when you book your tickets\, you will automatically be assigned the “best available seats” in your chosen price band. You cannot select your own seats.* \nIf you require a wheelchair space or have any access requirements\, please email tickets@asmf.org and we would be delighted to help you. \nTickets – £20 – £60. Book here.
URL:https://chichesterbid.co.uk/event/asmf-anthony-roth-costanzo-at-chichester-cathedral/
LOCATION:Chichester Cathedral\, West Street\, Chichester\, PO19 1PX
CATEGORIES:Live Music
ATTACH;FMTTYPE=image/avif:https://chichesterbid.co.uk/wp-content/uploads/2025/02/https___cdn.evbuc_.com_images_935235823_1815924277183_1_original.avif
END:VEVENT
BEGIN:VEVENT
DTSTART;TZID=UTC:20250411T193000
DTEND;TZID=UTC:20250411T220000
DTSTAMP:20260420T060900
CREATED:20250110T111650Z
LAST-MODIFIED:20250110T111650Z
UID:10021139-1744399800-1744408800@chichesterbid.co.uk
SUMMARY:Mayor of Chichester’s Charity Concert – The Selsey Shantymen
DESCRIPTION:Ahoy\, music lovers! \nGet ready to be transported to the high seas with the rousing and heart warming tunes of the Selsey Shantymen! This concert is being held in aid of the Mayor’s Charity\, The Chichester District Foodbank. \nTickets cost £20 include a fish and chip supper. We also cater for a gluten free alternative and a vegetarian option. \nExperience the rich tradition of sea shanties\, sung by the finest shantymen in the south. Whether you’re a seasoned sailor or a landlubber\, these timeless melodies will have you tapping your feet and singing along. \nDon’t miss out on this unique musical voyage! Grab your tickets now and set sail with us for a night of unforgettable fun and camaraderie. \nWe hope to sea you all there! \nBook your tickets online here or in person at The Council House reception.
URL:https://chichesterbid.co.uk/event/mayor-of-chichesters-charity-concert-the-selsey-shantymen/
LOCATION:The Assembly Rooms\, North Street\, Chichester\, Po191LQ
CATEGORIES:Live Music
ATTACH;FMTTYPE=image/png:https://chichesterbid.co.uk/wp-content/uploads/2025/01/Selsey-Shantymen-poster-v4.png
END:VEVENT
BEGIN:VEVENT
DTSTART;TZID=UTC:20250413T150000
DTEND;TZID=UTC:20250413T150000
DTSTAMP:20260420T060900
CREATED:20250411T082815Z
LAST-MODIFIED:20250411T082815Z
UID:10023480-1744556400-1744556400@chichesterbid.co.uk
SUMMARY:Folk Session Sunday
DESCRIPTION:Join The Havana for their Folk Session Sunday. On the second Sunday of each month.
URL:https://chichesterbid.co.uk/event/folk-session-sunday/2025-04-13/
LOCATION:The Havana\, 3 Little London\, Chichester\, PO19 1PH
CATEGORIES:Live Music
ATTACH;FMTTYPE=image/avif:https://chichesterbid.co.uk/wp-content/uploads/2025/04/ggr8pc6aJ3YAa5aG6xQPTF68b0.avif
END:VEVENT
END:VCALENDAR