BEGIN:VCALENDAR
VERSION:2.0
PRODID:-//Chichester BID - ECPv6.15.17.1//NONSGML v1.0//EN
CALSCALE:GREGORIAN
METHOD:PUBLISH
X-ORIGINAL-URL:https://chichesterbid.co.uk
X-WR-CALDESC:Events for Chichester BID
REFRESH-INTERVAL;VALUE=DURATION:PT1H
X-Robots-Tag:noindex
X-PUBLISHED-TTL:PT1H
BEGIN:VTIMEZONE
TZID:UTC
BEGIN:STANDARD
TZOFFSETFROM:+0000
TZOFFSETTO:+0000
TZNAME:UTC
DTSTART:20240101T000000
END:STANDARD
END:VTIMEZONE
BEGIN:VEVENT
DTSTART;TZID=UTC:20250507T190000
DTEND;TZID=UTC:20250507T190000
DTSTAMP:20260419T143610
CREATED:20250404T090826Z
LAST-MODIFIED:20250404T090826Z
UID:10022936-1746644400-1746644400@chichesterbid.co.uk
SUMMARY:Live Jazz at The Ivy Chichester
DESCRIPTION:Transform your Wednesday evenings with the soothing sounds of a live jazz performance. Unwind over dinner or cocktails made by our resident mixologists\, and experience the perfect harmony of music and cuisine. Complement your visit with your aperitif of choice\, such as a classic cocktail or glass of fine wine. \nFirst Wednesday of every month from 7pm.
URL:https://chichesterbid.co.uk/event/live-jazz-at-the-ivy-chichester/2025-05-07/
LOCATION:The Ivy\, 89-91 East Street\, Chichester\, West Sussex\, PO19 1HA
CATEGORIES:Live Music
ATTACH;FMTTYPE=image/png:https://chichesterbid.co.uk/wp-content/uploads/2025/04/goodwood-post-image.png
END:VEVENT
BEGIN:VEVENT
DTSTART;TZID=UTC:20250509T210000
DTEND;TZID=UTC:20250509T230000
DTSTAMP:20260419T143610
CREATED:20250429T131811Z
LAST-MODIFIED:20250429T131811Z
UID:10024158-1746824400-1746831600@chichesterbid.co.uk
SUMMARY:DEER-RAY / BLISS PIT - Originals Night at Room 12
DESCRIPTION:A night of original music from two up and coming artists! Alt-folk/pop from Deer-Ray and moody electronic new-wave from Bliss Pit! \nFREE entry!
URL:https://chichesterbid.co.uk/event/deer-ray-bliss-pit-originals-night-at-room-12/
LOCATION:Room 12\, Southgate\, Chichester\, West Sussex\, PO19 1ES
CATEGORIES:Alive after Five,Live Music
ATTACH;FMTTYPE=image/webp:https://chichesterbid.co.uk/wp-content/uploads/2025/04/8fcd2a_437c20d16c8f4b4b9c9b254b5aa4fb1bmv2.webp
END:VEVENT
BEGIN:VEVENT
DTSTART;TZID=UTC:20250511T150000
DTEND;TZID=UTC:20250511T150000
DTSTAMP:20260419T143610
CREATED:20250411T082815Z
LAST-MODIFIED:20250411T082815Z
UID:10023481-1746975600-1746975600@chichesterbid.co.uk
SUMMARY:Folk Session Sunday
DESCRIPTION:Join The Havana for their Folk Session Sunday. On the second Sunday of each month.
URL:https://chichesterbid.co.uk/event/folk-session-sunday/2025-05-11/
LOCATION:The Havana\, 3 Little London\, Chichester\, PO19 1PH
CATEGORIES:Live Music
ATTACH;FMTTYPE=image/avif:https://chichesterbid.co.uk/wp-content/uploads/2025/04/ggr8pc6aJ3YAa5aG6xQPTF68b0.avif
END:VEVENT
BEGIN:VEVENT
DTSTART;VALUE=DATE:20250517
DTEND;VALUE=DATE:20250518
DTSTAMP:20260419T143610
CREATED:20250108T111540Z
LAST-MODIFIED:20250108T112116Z
UID:10021092-1747440000-1747526399@chichesterbid.co.uk
SUMMARY:Chichester950 | Together in Unity
DESCRIPTION:A concert on the 60th anniversary of Leonard Bernstein’s Chichester Psalms\, including the unveiling of a new musical composition. \n\n\n\n\n\n\n\n\n\n\n\n\n\n\n\nIn honour of the Cathedral’s renowned musical heritage\, a special concert marking the 60th anniversary of Leonard Bernstein’s Chichester Psalms will take place. Together in Unity will also feature an exciting new choral composition which has been specially commissioned for the 950th anniversary. \nThis event forms part of Chichester950\, further details on this event will be released soon\, so keep an eye out for updates!
URL:https://chichesterbid.co.uk/event/chichester950-together-in-unity/
LOCATION:Chichester Cathedral\, West Street\, Chichester\, PO19 1PX
CATEGORIES:Chichester 950,Live Music
ATTACH;FMTTYPE=image/jpeg:https://chichesterbid.co.uk/wp-content/uploads/2025/01/Untitled-design-4_4.jpg
END:VEVENT
END:VCALENDAR