BEGIN:VCALENDAR
VERSION:2.0
PRODID:-//Chichester BID - ECPv6.15.17.1//NONSGML v1.0//EN
CALSCALE:GREGORIAN
METHOD:PUBLISH
X-ORIGINAL-URL:https://chichesterbid.co.uk
X-WR-CALDESC:Events for Chichester BID
REFRESH-INTERVAL;VALUE=DURATION:PT1H
X-Robots-Tag:noindex
X-PUBLISHED-TTL:PT1H
BEGIN:VTIMEZONE
TZID:UTC
BEGIN:STANDARD
TZOFFSETFROM:+0000
TZOFFSETTO:+0000
TZNAME:UTC
DTSTART:20240101T000000
END:STANDARD
END:VTIMEZONE
BEGIN:VEVENT
DTSTART;TZID=UTC:20250604T190000
DTEND;TZID=UTC:20250604T190000
DTSTAMP:20260419T130655
CREATED:20250404T090826Z
LAST-MODIFIED:20250404T090826Z
UID:10022937-1749063600-1749063600@chichesterbid.co.uk
SUMMARY:Live Jazz at The Ivy Chichester
DESCRIPTION:Transform your Wednesday evenings with the soothing sounds of a live jazz performance. Unwind over dinner or cocktails made by our resident mixologists\, and experience the perfect harmony of music and cuisine. Complement your visit with your aperitif of choice\, such as a classic cocktail or glass of fine wine. \nFirst Wednesday of every month from 7pm.
URL:https://chichesterbid.co.uk/event/live-jazz-at-the-ivy-chichester/2025-06-04/
LOCATION:The Ivy\, 89-91 East Street\, Chichester\, West Sussex\, PO19 1HA
CATEGORIES:Live Music
ATTACH;FMTTYPE=image/png:https://chichesterbid.co.uk/wp-content/uploads/2025/04/goodwood-post-image.png
END:VEVENT
BEGIN:VEVENT
DTSTART;TZID=UTC:20250608T150000
DTEND;TZID=UTC:20250608T150000
DTSTAMP:20260419T130655
CREATED:20250411T082815Z
LAST-MODIFIED:20250411T082815Z
UID:10023482-1749394800-1749394800@chichesterbid.co.uk
SUMMARY:Folk Session Sunday
DESCRIPTION:Join The Havana for their Folk Session Sunday. On the second Sunday of each month.
URL:https://chichesterbid.co.uk/event/folk-session-sunday/2025-06-08/
LOCATION:The Havana\, 3 Little London\, Chichester\, PO19 1PH
CATEGORIES:Live Music
ATTACH;FMTTYPE=image/avif:https://chichesterbid.co.uk/wp-content/uploads/2025/04/ggr8pc6aJ3YAa5aG6xQPTF68b0.avif
END:VEVENT
BEGIN:VEVENT
DTSTART;TZID=UTC:20250616T193000
DTEND;TZID=UTC:20250616T223000
DTSTAMP:20260419T130655
CREATED:20250527T115608Z
LAST-MODIFIED:20250527T115608Z
UID:10024204-1750102200-1750113000@chichesterbid.co.uk
SUMMARY:Chichester Music Collective - With Mike Fry at Room 12
DESCRIPTION:A BRAND NEW NIGHT HOSTED BY LOCAL LEGEND MIKE FRY! A night for musicians\, music lovers and creatives\, everyone welcome! Join Mike on a weekly journey through music and what it means to truly create something live and in the moment! Every Monday at Room 12.
URL:https://chichesterbid.co.uk/event/chichester-music-collective-with-mike-fry-at-room-12/2025-06-16/
LOCATION:Room 12\, Southgate\, Chichester\, West Sussex\, PO19 1ES
CATEGORIES:Live Music,Regular Events
ATTACH;FMTTYPE=image/webp:https://chichesterbid.co.uk/wp-content/uploads/2025/05/8fcd2a_2399c1e5060e4a61bd512295dee66424mv2.webp
END:VEVENT
BEGIN:VEVENT
DTSTART;TZID=UTC:20250623T193000
DTEND;TZID=UTC:20250623T223000
DTSTAMP:20260419T130655
CREATED:20250527T115608Z
LAST-MODIFIED:20250527T115608Z
UID:10024205-1750707000-1750717800@chichesterbid.co.uk
SUMMARY:Chichester Music Collective - With Mike Fry at Room 12
DESCRIPTION:A BRAND NEW NIGHT HOSTED BY LOCAL LEGEND MIKE FRY! A night for musicians\, music lovers and creatives\, everyone welcome! Join Mike on a weekly journey through music and what it means to truly create something live and in the moment! Every Monday at Room 12.
URL:https://chichesterbid.co.uk/event/chichester-music-collective-with-mike-fry-at-room-12/2025-06-23/
LOCATION:Room 12\, Southgate\, Chichester\, West Sussex\, PO19 1ES
CATEGORIES:Live Music,Regular Events
ATTACH;FMTTYPE=image/webp:https://chichesterbid.co.uk/wp-content/uploads/2025/05/8fcd2a_2399c1e5060e4a61bd512295dee66424mv2.webp
END:VEVENT
BEGIN:VEVENT
DTSTART;TZID=UTC:20250625T180000
DTEND;TZID=UTC:20250625T220000
DTSTAMP:20260419T130655
CREATED:20250213T141340Z
LAST-MODIFIED:20250527T101948Z
UID:10024196-1750874400-1750888800@chichesterbid.co.uk
SUMMARY:Open Deck Night at Jam Cafe
DESCRIPTION:Supported by the boys from C-Side Sounds…learn how to to mix your favourite tracks or show off what you can do. \nUnder 18’s 6-8pm / Over 18’s 8-10pm \n 
URL:https://chichesterbid.co.uk/event/open-deck-at-jam-cafe/2025-06-25/
LOCATION:JAM Cafe\, 33 Southgate\, Chichester\, West Sussex\, PO19 1DP
CATEGORIES:Alive after Five,Live Music
ATTACH;FMTTYPE=image/webp:https://chichesterbid.co.uk/wp-content/uploads/2025/02/ed0e5c_0f05862f5556474d97640f7bffe40244mv2.webp
ORGANIZER;CN="JAM":MAILTO:info@creativebeatz.co.uk
END:VEVENT
BEGIN:VEVENT
DTSTART;TZID=UTC:20250628T110000
DTEND;TZID=UTC:20250628T210000
DTSTAMP:20260419T130655
CREATED:20250411T082407Z
LAST-MODIFIED:20250411T082407Z
UID:10023479-1751108400-1751144400@chichesterbid.co.uk
SUMMARY:Chichester Gala 2025
DESCRIPTION:Get ready for a day and evening filled with fun\, entertainment\, and community spirit at the Chichester Gala! Join us as we come together to celebrate everything that makes our town special\, from local talent and businesses to delicious food and exciting activities. \nDaytime Delights: The daytime festivities promise something for everyone in the family! From thrilling funfair rides to delectable food stalls offering a variety of tasty treats\, there’s no shortage of excitement. Plenty of fun for mums\, dads and children.  Enjoy the lively atmosphere with music\, dancing\, and performances by local artists. \nEvening Entertainment: As dusk falls\, Priory Park will come alive with the sounds of music! Bands\, including one local favourite\, will take to the mainstage for an unforgettable evening of live performances. And to keep your energy up\, delicious food and drink will be provided by local suppliers. \n 
URL:https://chichesterbid.co.uk/event/chichester-gala-2025/
LOCATION:Priory Park\, Priory Park\, Chichester\, PO19 1NS
CATEGORIES:Family Friendly,Live Music
ATTACH;FMTTYPE=image/jpeg:https://chichesterbid.co.uk/wp-content/uploads/2025/04/484020700_122176932170274096_2918140815307254886_n.jpg
END:VEVENT
BEGIN:VEVENT
DTSTART;TZID=UTC:20250630T193000
DTEND;TZID=UTC:20250630T223000
DTSTAMP:20260419T130655
CREATED:20250527T115608Z
LAST-MODIFIED:20250527T115608Z
UID:10024206-1751311800-1751322600@chichesterbid.co.uk
SUMMARY:Chichester Music Collective - With Mike Fry at Room 12
DESCRIPTION:A BRAND NEW NIGHT HOSTED BY LOCAL LEGEND MIKE FRY! A night for musicians\, music lovers and creatives\, everyone welcome! Join Mike on a weekly journey through music and what it means to truly create something live and in the moment! Every Monday at Room 12.
URL:https://chichesterbid.co.uk/event/chichester-music-collective-with-mike-fry-at-room-12/2025-06-30/
LOCATION:Room 12\, Southgate\, Chichester\, West Sussex\, PO19 1ES
CATEGORIES:Live Music,Regular Events
ATTACH;FMTTYPE=image/webp:https://chichesterbid.co.uk/wp-content/uploads/2025/05/8fcd2a_2399c1e5060e4a61bd512295dee66424mv2.webp
END:VEVENT
END:VCALENDAR