BEGIN:VCALENDAR
VERSION:2.0
PRODID:-//Chichester BID - ECPv6.15.17.1//NONSGML v1.0//EN
CALSCALE:GREGORIAN
METHOD:PUBLISH
X-WR-CALNAME:Chichester BID
X-ORIGINAL-URL:https://chichesterbid.co.uk
X-WR-CALDESC:Events for Chichester BID
REFRESH-INTERVAL;VALUE=DURATION:PT1H
X-Robots-Tag:noindex
X-PUBLISHED-TTL:PT1H
BEGIN:VTIMEZONE
TZID:UTC
BEGIN:STANDARD
TZOFFSETFROM:+0000
TZOFFSETTO:+0000
TZNAME:UTC
DTSTART:20240101T000000
END:STANDARD
END:VTIMEZONE
BEGIN:VEVENT
DTSTART;TZID=UTC:20250702T190000
DTEND;TZID=UTC:20250702T190000
DTSTAMP:20260419T130636
CREATED:20250404T090826Z
LAST-MODIFIED:20250404T090826Z
UID:10022938-1751482800-1751482800@chichesterbid.co.uk
SUMMARY:Live Jazz at The Ivy Chichester
DESCRIPTION:Transform your Wednesday evenings with the soothing sounds of a live jazz performance. Unwind over dinner or cocktails made by our resident mixologists\, and experience the perfect harmony of music and cuisine. Complement your visit with your aperitif of choice\, such as a classic cocktail or glass of fine wine. \nFirst Wednesday of every month from 7pm.
URL:https://chichesterbid.co.uk/event/live-jazz-at-the-ivy-chichester/2025-07-02/
LOCATION:The Ivy\, 89-91 East Street\, Chichester\, West Sussex\, PO19 1HA
CATEGORIES:Live Music
ATTACH;FMTTYPE=image/png:https://chichesterbid.co.uk/wp-content/uploads/2025/04/goodwood-post-image.png
END:VEVENT
BEGIN:VEVENT
DTSTART;TZID=UTC:20250706T110000
DTEND;TZID=UTC:20250706T150000
DTSTAMP:20260419T130636
CREATED:20250625T104307Z
LAST-MODIFIED:20250701T104324Z
UID:10024305-1751799600-1751814000@chichesterbid.co.uk
SUMMARY:The Canopy on Crane Street Launch
DESCRIPTION:Join us for the official launch of The Canopy at Crane Street\, a brand new pop-up performance space celebrating Chichester’s creative spirit in one of its most characterful streets. \nThis exciting new initiative brings free live music\, spoken word and performance to the city centre – creating a vibrant cultural corner and supporting local talent in a relaxed\, alfresco setting.\nBrowse the shops\, grab a coffee or bite to eat\, and soak up the atmosphere while enjoying an eclectic line-up of local performers.\nLine-Up11:00am – Dawn’s Vintage Do11:30am – Volia Melody Choir12:00pm – Creative Beatz / Jam Café1:00pm – Words Out Loud1:30pm – Ovation Music2:00pm – Chichester Fringe2:30pm – Dawn’s Vintage Do\n\nPlus\, enjoy a warm welcome from Crane Street’s brilliant independent businesses:\nKutchenhaus & Turnwell will have an on-site chef serving up complimentary nibbles and drinks\nThe Guilty Cyclist will be offering traditional Ukrainian cake\nSpires Bakery and The Cornish Bakery will be serving refreshments and special offers on coffee and tray bakes throughout the day\nCome and experience this new creative space and support the incredible local talent making Chichester such a special place to be.\nThe project has been developed by Chichester BID. It has been part funded by the UK government through the UK Shared Prosperity Fund with additional funding secured from Chichester City Council\, a private landlord on Crane Street and Chichester BID
URL:https://chichesterbid.co.uk/event/the-canopy-on-crane-street-launch/
LOCATION:Crane Street\, Crane Street\, Chichester
CATEGORIES:Live Music
ATTACH;FMTTYPE=image/jpeg:https://chichesterbid.co.uk/wp-content/uploads/2025/06/510999403_1276893047771521_1075251470801721778_n.jpg
ORGANIZER;CN="Chichester BID":MAILTO:office@chichesterbid.co.uk
END:VEVENT
BEGIN:VEVENT
DTSTART;TZID=UTC:20250707T193000
DTEND;TZID=UTC:20250707T223000
DTSTAMP:20260419T130636
CREATED:20250527T115608Z
LAST-MODIFIED:20250527T115608Z
UID:10024207-1751916600-1751927400@chichesterbid.co.uk
SUMMARY:Chichester Music Collective - With Mike Fry at Room 12
DESCRIPTION:A BRAND NEW NIGHT HOSTED BY LOCAL LEGEND MIKE FRY! A night for musicians\, music lovers and creatives\, everyone welcome! Join Mike on a weekly journey through music and what it means to truly create something live and in the moment! Every Monday at Room 12.
URL:https://chichesterbid.co.uk/event/chichester-music-collective-with-mike-fry-at-room-12/2025-07-07/
LOCATION:Room 12\, Southgate\, Chichester\, West Sussex\, PO19 1ES
CATEGORIES:Live Music,Regular Events
ATTACH;FMTTYPE=image/webp:https://chichesterbid.co.uk/wp-content/uploads/2025/05/8fcd2a_2399c1e5060e4a61bd512295dee66424mv2.webp
END:VEVENT
BEGIN:VEVENT
DTSTART;TZID=UTC:20250713T150000
DTEND;TZID=UTC:20250713T150000
DTSTAMP:20260419T130636
CREATED:20250411T082815Z
LAST-MODIFIED:20250411T082815Z
UID:10023483-1752418800-1752418800@chichesterbid.co.uk
SUMMARY:Folk Session Sunday
DESCRIPTION:Join The Havana for their Folk Session Sunday. On the second Sunday of each month.
URL:https://chichesterbid.co.uk/event/folk-session-sunday/2025-07-13/
LOCATION:The Havana\, 3 Little London\, Chichester\, PO19 1PH
CATEGORIES:Live Music
ATTACH;FMTTYPE=image/avif:https://chichesterbid.co.uk/wp-content/uploads/2025/04/ggr8pc6aJ3YAa5aG6xQPTF68b0.avif
END:VEVENT
BEGIN:VEVENT
DTSTART;TZID=UTC:20250714T193000
DTEND;TZID=UTC:20250714T223000
DTSTAMP:20260419T130636
CREATED:20250527T115608Z
LAST-MODIFIED:20250527T115608Z
UID:10024208-1752521400-1752532200@chichesterbid.co.uk
SUMMARY:Chichester Music Collective - With Mike Fry at Room 12
DESCRIPTION:A BRAND NEW NIGHT HOSTED BY LOCAL LEGEND MIKE FRY! A night for musicians\, music lovers and creatives\, everyone welcome! Join Mike on a weekly journey through music and what it means to truly create something live and in the moment! Every Monday at Room 12.
URL:https://chichesterbid.co.uk/event/chichester-music-collective-with-mike-fry-at-room-12/2025-07-14/
LOCATION:Room 12\, Southgate\, Chichester\, West Sussex\, PO19 1ES
CATEGORIES:Live Music,Regular Events
ATTACH;FMTTYPE=image/webp:https://chichesterbid.co.uk/wp-content/uploads/2025/05/8fcd2a_2399c1e5060e4a61bd512295dee66424mv2.webp
END:VEVENT
BEGIN:VEVENT
DTSTART;TZID=UTC:20250721T193000
DTEND;TZID=UTC:20250721T223000
DTSTAMP:20260419T130636
CREATED:20250527T115608Z
LAST-MODIFIED:20250527T115608Z
UID:10024209-1753126200-1753137000@chichesterbid.co.uk
SUMMARY:Chichester Music Collective - With Mike Fry at Room 12
DESCRIPTION:A BRAND NEW NIGHT HOSTED BY LOCAL LEGEND MIKE FRY! A night for musicians\, music lovers and creatives\, everyone welcome! Join Mike on a weekly journey through music and what it means to truly create something live and in the moment! Every Monday at Room 12.
URL:https://chichesterbid.co.uk/event/chichester-music-collective-with-mike-fry-at-room-12/2025-07-21/
LOCATION:Room 12\, Southgate\, Chichester\, West Sussex\, PO19 1ES
CATEGORIES:Live Music,Regular Events
ATTACH;FMTTYPE=image/webp:https://chichesterbid.co.uk/wp-content/uploads/2025/05/8fcd2a_2399c1e5060e4a61bd512295dee66424mv2.webp
END:VEVENT
BEGIN:VEVENT
DTSTART;TZID=UTC:20250727T160000
DTEND;TZID=UTC:20250727T203000
DTSTAMP:20260419T130636
CREATED:20250627T093311Z
LAST-MODIFIED:20250627T093408Z
UID:10024309-1753632000-1753648200@chichesterbid.co.uk
SUMMARY:Chilled Summer BBQ at Purchases
DESCRIPTION:🍔 BBQ – 4pm till 6pm 🍔\n🍸 Drinks – 12pm till 8pm 🍸\nCome and join us in our lovely garden area for an afternoon of fantastic food and entertainment! \nKick back\, soak up the sun and tuck into a delicious BBQ menu curated by our talented kitchen team. \nWe are also very pleased to be joined by:\n🎶 DJ Zigs: 4pm – 6pm 🎶\n🎤 Joe Dunsford – 6:30pm – 8pm 🎤\nBoth making their debut Purchases debut \nEntry Tickets – £20pp
URL:https://chichesterbid.co.uk/event/chilled-summer-bbq-at-purchases/
LOCATION:Purchases\, 31 North Street\, Chichester\, PO19 1LY
CATEGORIES:Live Music
ATTACH;FMTTYPE=image/jpeg:https://chichesterbid.co.uk/wp-content/uploads/2025/06/510486900_1502639141159231_1949611908452700690_n.jpg
ORGANIZER;CN="Purchases":MAILTO:hello@purchasesrestaurant.co.uk
END:VEVENT
BEGIN:VEVENT
DTSTART;TZID=UTC:20250728T193000
DTEND;TZID=UTC:20250728T223000
DTSTAMP:20260419T130636
CREATED:20250527T115608Z
LAST-MODIFIED:20250527T115608Z
UID:10024210-1753731000-1753741800@chichesterbid.co.uk
SUMMARY:Chichester Music Collective - With Mike Fry at Room 12
DESCRIPTION:A BRAND NEW NIGHT HOSTED BY LOCAL LEGEND MIKE FRY! A night for musicians\, music lovers and creatives\, everyone welcome! Join Mike on a weekly journey through music and what it means to truly create something live and in the moment! Every Monday at Room 12.
URL:https://chichesterbid.co.uk/event/chichester-music-collective-with-mike-fry-at-room-12/2025-07-28/
LOCATION:Room 12\, Southgate\, Chichester\, West Sussex\, PO19 1ES
CATEGORIES:Live Music,Regular Events
ATTACH;FMTTYPE=image/webp:https://chichesterbid.co.uk/wp-content/uploads/2025/05/8fcd2a_2399c1e5060e4a61bd512295dee66424mv2.webp
END:VEVENT
BEGIN:VEVENT
DTSTART;TZID=UTC:20250730T180000
DTEND;TZID=UTC:20250730T220000
DTSTAMP:20260419T130636
CREATED:20250213T141340Z
LAST-MODIFIED:20250527T101948Z
UID:10024197-1753898400-1753912800@chichesterbid.co.uk
SUMMARY:Open Deck Night at Jam Cafe
DESCRIPTION:Supported by the boys from C-Side Sounds…learn how to to mix your favourite tracks or show off what you can do. \nUnder 18’s 6-8pm / Over 18’s 8-10pm \n 
URL:https://chichesterbid.co.uk/event/open-deck-at-jam-cafe/2025-07-30/
LOCATION:JAM Cafe\, 33 Southgate\, Chichester\, West Sussex\, PO19 1DP
CATEGORIES:Alive after Five,Live Music
ATTACH;FMTTYPE=image/webp:https://chichesterbid.co.uk/wp-content/uploads/2025/02/ed0e5c_0f05862f5556474d97640f7bffe40244mv2.webp
ORGANIZER;CN="JAM":MAILTO:info@creativebeatz.co.uk
END:VEVENT
END:VCALENDAR