BEGIN:VCALENDAR
VERSION:2.0
PRODID:-//Chichester BID - ECPv6.15.20//NONSGML v1.0//EN
CALSCALE:GREGORIAN
METHOD:PUBLISH
X-WR-CALNAME:Chichester BID
X-ORIGINAL-URL:https://chichesterbid.co.uk
X-WR-CALDESC:Events for Chichester BID
REFRESH-INTERVAL;VALUE=DURATION:PT1H
X-Robots-Tag:noindex
X-PUBLISHED-TTL:PT1H
BEGIN:VTIMEZONE
TZID:UTC
BEGIN:STANDARD
TZOFFSETFROM:+0000
TZOFFSETTO:+0000
TZNAME:UTC
DTSTART:20240101T000000
END:STANDARD
END:VTIMEZONE
BEGIN:VEVENT
DTSTART;TZID=UTC:20250816T110000
DTEND;TZID=UTC:20250816T150000
DTSTAMP:20260421T024837
CREATED:20250811T134338Z
LAST-MODIFIED:20250811T134707Z
UID:10024410-1755342000-1755356400@chichesterbid.co.uk
SUMMARY:Canopy on Crane Street | Creative Beatz / Jam Cafe Take Over
DESCRIPTION:Join Creative Beatz/Jam Cafe as they take over the Canopy on Crane Street on Saturday 16th August 11am to 3pm.\n\nCome and join us with live music from their Young Performers ahead of their performances at Victorious and also a chance to take part in crafting activities!\n\nLearn more about what’s going on in the city for young people and engage in positive activities!\n\nThere will even be an option for you to showcase your own talent as they host an open mic at 1pm!
URL:https://chichesterbid.co.uk/event/canopy-on-crane-street-creative-beatz-jam-cafe-take-over/
LOCATION:Crane Street\, Crane Street\, Chichester
CATEGORIES:Family Friendly,Live Music
ATTACH;FMTTYPE=image/jpeg:https://chichesterbid.co.uk/wp-content/uploads/2025/08/1.jpg
ORGANIZER;CN="JAM":MAILTO:info@creativebeatz.co.uk
END:VEVENT
END:VCALENDAR