BEGIN:VCALENDAR
VERSION:2.0
PRODID:-//Chichester BID - ECPv6.15.17.1//NONSGML v1.0//EN
CALSCALE:GREGORIAN
METHOD:PUBLISH
X-WR-CALNAME:Chichester BID
X-ORIGINAL-URL:https://chichesterbid.co.uk
X-WR-CALDESC:Events for Chichester BID
REFRESH-INTERVAL;VALUE=DURATION:PT1H
X-Robots-Tag:noindex
X-PUBLISHED-TTL:PT1H
BEGIN:VTIMEZONE
TZID:UTC
BEGIN:STANDARD
TZOFFSETFROM:+0000
TZOFFSETTO:+0000
TZNAME:UTC
DTSTART:20280101T000000
END:STANDARD
END:VTIMEZONE
BEGIN:VEVENT
DTSTART;TZID=UTC:20290531T190000
DTEND;TZID=UTC:20290531T220000
DTSTAMP:20260419T152234
CREATED:20241024T122017Z
LAST-MODIFIED:20241024T122017Z
UID:10020829-1874948400-1874959200@chichesterbid.co.uk
SUMMARY:Open Mic Night at Trents
DESCRIPTION:Join Trents every Thursday 7.00-10.00pm for their weekly Open Mic Night with Adam Ede. \nAll abilities welcome\, no pre-booking. Just turn up\, put your name down and play!
URL:https://chichesterbid.co.uk/event/open-mic-night-at-trents/2029-05-31/
LOCATION:Trents\, 50 South Street\, Chichester\, West Sussex\, PO19 1DS
CATEGORIES:Alive after Five,Regular Events
ATTACH;FMTTYPE=image/png:https://chichesterbid.co.uk/wp-content/uploads/2024/10/Trents.png
END:VEVENT
END:VCALENDAR