BEGIN:VCALENDAR
VERSION:2.0
PRODID:-//Chichester BID - ECPv6.15.20//NONSGML v1.0//EN
CALSCALE:GREGORIAN
METHOD:PUBLISH
X-WR-CALNAME:Chichester BID
X-ORIGINAL-URL:https://chichesterbid.co.uk
X-WR-CALDESC:Events for Chichester BID
REFRESH-INTERVAL;VALUE=DURATION:PT1H
X-Robots-Tag:noindex
X-PUBLISHED-TTL:PT1H
BEGIN:VTIMEZONE
TZID:UTC
BEGIN:STANDARD
TZOFFSETFROM:+0000
TZOFFSETTO:+0000
TZNAME:UTC
DTSTART:20280101T000000
END:STANDARD
END:VTIMEZONE
BEGIN:VEVENT
DTSTART;TZID=UTC:20290906T180000
DTEND;TZID=UTC:20290906T180000
DTSTAMP:20260421T061451
CREATED:20241003T111804Z
LAST-MODIFIED:20241003T111804Z
UID:10020430-1883412000-1883412000@chichesterbid.co.uk
SUMMARY:Greek Night at Rocking Horse
DESCRIPTION:Join the Rocking Horse on the First Thursday of the month\, for their Greek Night! \nEnjoy an evening of traditional Greek cuisine alongside a selection of cocktails inspired by the Aegean Isle. \nFood is provided by their neighbours\, Apla Souvlaki\, and cocktails are expertly crafted by the Rocking Horse mixologists! \nPre-booking is recommended. \nNo Deposit required. \nBook at the bar or call 07463 993408
URL:https://chichesterbid.co.uk/event/greek-night-at-rocking-horse/2029-09-06/
LOCATION:The Rocking Horse\, 30B Southgate\, Chichester\, PO19 1DT
CATEGORIES:Alive after Five,Regular Events
ATTACH;FMTTYPE=image/jpeg:https://chichesterbid.co.uk/wp-content/uploads/2024/10/FB_IMG_1727949068110.jpg
END:VEVENT
BEGIN:VEVENT
DTSTART;TZID=UTC:20290906T190000
DTEND;TZID=UTC:20290906T220000
DTSTAMP:20260421T061451
CREATED:20241024T122017Z
LAST-MODIFIED:20241024T122017Z
UID:10020843-1883415600-1883426400@chichesterbid.co.uk
SUMMARY:Open Mic Night at Trents
DESCRIPTION:Join Trents every Thursday 7.00-10.00pm for their weekly Open Mic Night with Adam Ede. \nAll abilities welcome\, no pre-booking. Just turn up\, put your name down and play!
URL:https://chichesterbid.co.uk/event/open-mic-night-at-trents/2029-09-06/
LOCATION:Trents\, 50 South Street\, Chichester\, West Sussex\, PO19 1DS
CATEGORIES:Alive after Five,Regular Events
ATTACH;FMTTYPE=image/png:https://chichesterbid.co.uk/wp-content/uploads/2024/10/Trents.png
END:VEVENT
END:VCALENDAR