BEGIN:VCALENDAR
VERSION:2.0
PRODID:-//Chichester BID - ECPv6.15.17.1//NONSGML v1.0//EN
CALSCALE:GREGORIAN
METHOD:PUBLISH
X-ORIGINAL-URL:https://chichesterbid.co.uk
X-WR-CALDESC:Events for Chichester BID
REFRESH-INTERVAL;VALUE=DURATION:PT1H
X-Robots-Tag:noindex
X-PUBLISHED-TTL:PT1H
BEGIN:VTIMEZONE
TZID:UTC
BEGIN:STANDARD
TZOFFSETFROM:+0000
TZOFFSETTO:+0000
TZNAME:UTC
DTSTART:20240101T000000
END:STANDARD
END:VTIMEZONE
BEGIN:VEVENT
DTSTART;TZID=UTC:20251002T180000
DTEND;TZID=UTC:20251002T190000
DTSTAMP:20260420T081021
CREATED:20250930T121329Z
LAST-MODIFIED:20250930T121329Z
UID:10025395-1759428000-1759431600@chichesterbid.co.uk
SUMMARY:The Female Subjects with Katy Hessel at Pallant House Gallery
DESCRIPTION:Join art historian Katy Hessel for a series of lectures dedicated to Biblical and mythological female subjects commonly depicted in western art history\, from witches to the Virgin Mary\, Medusa\, Eve to Aphrodite. Borrowing from the 1972 book and television series\, Ways of Seeing\, and its author John Berger’s idea “to start a process of questioning”\, Hessel will be delving into the evolution of these subjects: looking at their story of origin and how male artists from history ‘perceived’ them (perhaps perpetuating a certain narrative)\, and how\, if we look at them from the perspective of a woman artist\, we might just see them anew. \nThese talks are not to be recorded and are part of a working progress for an upcoming book project. \nEach talk will focus on a specific female subject from art history; \nThursday 2nd October 6-7pm – Virgin Mary \nTuesday 7th October 6-7pm – Aphrodite/Venus \nTuesday 28th October 6-7pm – Witches  \nThursday 12th February 6-7pm – Medusa \nThursday 26th February 6-7pm – Athena \nThursday 5th March 6-7pm – Eve & Lilith \nTickets cost £18.
URL:https://chichesterbid.co.uk/event/the-female-subjects-with-katy-hessel-at-pallant-house-gallery/2025-10-02/
LOCATION:Pallant House Gallery\, 9 North Pallant\, Chichester\, PO19 1TJ
CATEGORIES:Talks
ATTACH;FMTTYPE=image/jpeg:https://chichesterbid.co.uk/wp-content/uploads/2025/09/How-we-see-now-the-female-subjects-v2-640x400-1.jpg
END:VEVENT
BEGIN:VEVENT
DTSTART;TZID=UTC:20251007T180000
DTEND;TZID=UTC:20251007T190000
DTSTAMP:20260420T081021
CREATED:20250930T121329Z
LAST-MODIFIED:20250930T121329Z
UID:10025396-1759860000-1759863600@chichesterbid.co.uk
SUMMARY:The Female Subjects with Katy Hessel at Pallant House Gallery
DESCRIPTION:Join art historian Katy Hessel for a series of lectures dedicated to Biblical and mythological female subjects commonly depicted in western art history\, from witches to the Virgin Mary\, Medusa\, Eve to Aphrodite. Borrowing from the 1972 book and television series\, Ways of Seeing\, and its author John Berger’s idea “to start a process of questioning”\, Hessel will be delving into the evolution of these subjects: looking at their story of origin and how male artists from history ‘perceived’ them (perhaps perpetuating a certain narrative)\, and how\, if we look at them from the perspective of a woman artist\, we might just see them anew. \nThese talks are not to be recorded and are part of a working progress for an upcoming book project. \nEach talk will focus on a specific female subject from art history; \nThursday 2nd October 6-7pm – Virgin Mary \nTuesday 7th October 6-7pm – Aphrodite/Venus \nTuesday 28th October 6-7pm – Witches  \nThursday 12th February 6-7pm – Medusa \nThursday 26th February 6-7pm – Athena \nThursday 5th March 6-7pm – Eve & Lilith \nTickets cost £18.
URL:https://chichesterbid.co.uk/event/the-female-subjects-with-katy-hessel-at-pallant-house-gallery/2025-10-07/
LOCATION:Pallant House Gallery\, 9 North Pallant\, Chichester\, PO19 1TJ
CATEGORIES:Talks
ATTACH;FMTTYPE=image/jpeg:https://chichesterbid.co.uk/wp-content/uploads/2025/09/How-we-see-now-the-female-subjects-v2-640x400-1.jpg
END:VEVENT
BEGIN:VEVENT
DTSTART;TZID=UTC:20251011T143000
DTEND;TZID=UTC:20251011T160000
DTSTAMP:20260420T081021
CREATED:20250919T092026Z
LAST-MODIFIED:20250919T092026Z
UID:10025189-1760193000-1760198400@chichesterbid.co.uk
SUMMARY:An Afternoon With Monica Feria-Tinta at The Sussex Bookshop
DESCRIPTION:The Sussex Bookshop are welcoming renowned barrister and environmentalist Monica Feria-Tinta for a ticketed talk as well as a signing of her debut novel A Barrister for the Earth.  \nTickets are very limited but can be purchased here- https://www.ticketsource.co.uk/the-sussex-bookshop
URL:https://chichesterbid.co.uk/event/an-afternoon-with-monica-feria-tinta-at-the-sussex-bookshop/
LOCATION:The Sussex Bookshop\, 28 South St\, Chichester\, West Sussex\, PO19 1EL
CATEGORIES:Talks
ATTACH;FMTTYPE=image/jpeg:https://chichesterbid.co.uk/wp-content/uploads/2024/12/PHOTO-2025-09-12-14-34-17.jpg
END:VEVENT
BEGIN:VEVENT
DTSTART;TZID=UTC:20251028T180000
DTEND;TZID=UTC:20251028T190000
DTSTAMP:20260420T081021
CREATED:20250930T121329Z
LAST-MODIFIED:20250930T121329Z
UID:10025397-1761674400-1761678000@chichesterbid.co.uk
SUMMARY:The Female Subjects with Katy Hessel at Pallant House Gallery
DESCRIPTION:Join art historian Katy Hessel for a series of lectures dedicated to Biblical and mythological female subjects commonly depicted in western art history\, from witches to the Virgin Mary\, Medusa\, Eve to Aphrodite. Borrowing from the 1972 book and television series\, Ways of Seeing\, and its author John Berger’s idea “to start a process of questioning”\, Hessel will be delving into the evolution of these subjects: looking at their story of origin and how male artists from history ‘perceived’ them (perhaps perpetuating a certain narrative)\, and how\, if we look at them from the perspective of a woman artist\, we might just see them anew. \nThese talks are not to be recorded and are part of a working progress for an upcoming book project. \nEach talk will focus on a specific female subject from art history; \nThursday 2nd October 6-7pm – Virgin Mary \nTuesday 7th October 6-7pm – Aphrodite/Venus \nTuesday 28th October 6-7pm – Witches  \nThursday 12th February 6-7pm – Medusa \nThursday 26th February 6-7pm – Athena \nThursday 5th March 6-7pm – Eve & Lilith \nTickets cost £18.
URL:https://chichesterbid.co.uk/event/the-female-subjects-with-katy-hessel-at-pallant-house-gallery/2025-10-28/
LOCATION:Pallant House Gallery\, 9 North Pallant\, Chichester\, PO19 1TJ
CATEGORIES:Talks
ATTACH;FMTTYPE=image/jpeg:https://chichesterbid.co.uk/wp-content/uploads/2025/09/How-we-see-now-the-female-subjects-v2-640x400-1.jpg
END:VEVENT
END:VCALENDAR