BEGIN:VCALENDAR
VERSION:2.0
PRODID:-//Chichester BID - ECPv6.15.17.1//NONSGML v1.0//EN
CALSCALE:GREGORIAN
METHOD:PUBLISH
X-ORIGINAL-URL:https://chichesterbid.co.uk
X-WR-CALDESC:Events for Chichester BID
REFRESH-INTERVAL;VALUE=DURATION:PT1H
X-Robots-Tag:noindex
X-PUBLISHED-TTL:PT1H
BEGIN:VTIMEZONE
TZID:UTC
BEGIN:STANDARD
TZOFFSETFROM:+0000
TZOFFSETTO:+0000
TZNAME:UTC
DTSTART:20240101T000000
END:STANDARD
END:VTIMEZONE
BEGIN:VEVENT
DTSTART;VALUE=DATE:20250301
DTEND;VALUE=DATE:20250302
DTSTAMP:20260420T062114
CREATED:20250110T123412Z
LAST-MODIFIED:20250110T123521Z
UID:10021425-1740787200-1740873599@chichesterbid.co.uk
SUMMARY:Craft Club at Jam Cafe
DESCRIPTION:Join Jam Cafe every Saturday for their weekly Craft Club. \nEach week they will be making a variety of crafts from painting to collage to badges\, the options are endless. \nThere are 2 drop in sessions – \n10:30am-12:00pm \n1:00pm-3:00pm \nCost – From £5.00\, depending on activity and you can book your space here.
URL:https://chichesterbid.co.uk/event/craft-club-at-jam-cafe/2025-03-01/
LOCATION:JAM Cafe\, 33 Southgate\, Chichester\, West Sussex\, PO19 1DP
CATEGORIES:Regular Events,Workshops
ATTACH;FMTTYPE=image/avif:https://chichesterbid.co.uk/wp-content/uploads/2025/01/2.avif
ORGANIZER;CN="JAM":MAILTO:info@creativebeatz.co.uk
END:VEVENT
BEGIN:VEVENT
DTSTART;TZID=UTC:20250303T100000
DTEND;TZID=UTC:20250303T163000
DTSTAMP:20260420T062114
CREATED:20250117T140107Z
LAST-MODIFIED:20250117T140107Z
UID:10021714-1740996000-1741019400@chichesterbid.co.uk
SUMMARY:Box Pleated Lampshade Making Workshop at Clothkits
DESCRIPTION:Come and learn how to make a box pleated lampshade! In this workshop\, run by Jane Warren of The Lampshade Loft\, you will learn all the skills needed to make the loose cover box pleated lampshade\, currently hugely popular and a lovely addition to any room. \nYou will be guided through all the steps needed to make these lampshades\, and will learn the skills to go on to make more\, either for your own use or professionally. The shade will be unlined\, as once completed\, it will be positioned onto a ready-made hard lampshade with a base circumference of 20cm. \nAbout your Teacher: \nJane Warren runs her small business The Lampshade Loft\, and has been teaching lampshade making for over ten years. Her book The Complete Guide to Lampshade Making was published in 2024 (Crowood Press). \nMaterials: \nYou will need to bring £15 in cash on the day – payable to the Tutor for the lampshade and the fabric for making your Box Pleated lampshade cover. \nClass Size: \n\nMaximum class size of 4 \n\n\nSkills: \nAlthough you do not need extensive sewing experience\, it is advantageous to have experience of working with fabrics\, precision is key! \n\nThis workshop costs £120. To find out more and book your space\, click here. \nTo discover many more workshops at Clothkits\, see here.
URL:https://chichesterbid.co.uk/event/box-pleated-lampshade-making-workshop-at-clothkits-2/
LOCATION:Clothkits\, 16 The Hornet\, Chichester\, PO19 7JG
CATEGORIES:Workshops
ATTACH;FMTTYPE=image/webp:https://chichesterbid.co.uk/wp-content/uploads/2025/01/workshop-box-pleat-lampshade-1.webp
END:VEVENT
BEGIN:VEVENT
DTSTART;TZID=UTC:20250306T103000
DTEND;TZID=UTC:20250306T103000
DTSTAMP:20260420T062114
CREATED:20231027T123604Z
LAST-MODIFIED:20231027T123604Z
UID:10005824-1741257000-1741257000@chichesterbid.co.uk
SUMMARY:Creative Conversations at Pallant House Gallery
DESCRIPTION:Creative Conversations is an opportunity to look at and discuss selected art works at Pallant House Gallery.\n\nShare your thoughts and enjoy hearing other people’s responses. There are no right answers; all thoughts and ideas make a valuable contribution to the discussion. \nCreative Conversations is open to all and is dementia friendly. Sessions are organised in partnership with the Chichester Social Prescribing Service. \nFree entry. Book tickets here.
URL:https://chichesterbid.co.uk/event/creative-conversations-at-pallant-house-gallery/2025-03-06/
LOCATION:Pallant House Gallery\, 9 North Pallant\, Chichester\, PO19 1TJ
CATEGORIES:Workshops
ATTACH;FMTTYPE=image/jpeg:https://chichesterbid.co.uk/wp-content/uploads/2023/10/people-from-front-in-room-2-c-Chris-Ison-2018-960x600-1.jpg
END:VEVENT
BEGIN:VEVENT
DTSTART;VALUE=DATE:20250308
DTEND;VALUE=DATE:20250309
DTSTAMP:20260420T062114
CREATED:20250110T123412Z
LAST-MODIFIED:20250110T123521Z
UID:10021426-1741392000-1741478399@chichesterbid.co.uk
SUMMARY:Craft Club at Jam Cafe
DESCRIPTION:Join Jam Cafe every Saturday for their weekly Craft Club. \nEach week they will be making a variety of crafts from painting to collage to badges\, the options are endless. \nThere are 2 drop in sessions – \n10:30am-12:00pm \n1:00pm-3:00pm \nCost – From £5.00\, depending on activity and you can book your space here.
URL:https://chichesterbid.co.uk/event/craft-club-at-jam-cafe/2025-03-08/
LOCATION:JAM Cafe\, 33 Southgate\, Chichester\, West Sussex\, PO19 1DP
CATEGORIES:Regular Events,Workshops
ATTACH;FMTTYPE=image/avif:https://chichesterbid.co.uk/wp-content/uploads/2025/01/2.avif
ORGANIZER;CN="JAM":MAILTO:info@creativebeatz.co.uk
END:VEVENT
BEGIN:VEVENT
DTSTART;TZID=UTC:20250308T123000
DTEND;TZID=UTC:20250308T150000
DTSTAMP:20260420T062114
CREATED:20250226T141936Z
LAST-MODIFIED:20250226T141936Z
UID:10022271-1741437000-1741446000@chichesterbid.co.uk
SUMMARY:26&2 Workshop at Lano Yoga
DESCRIPTION:We’re hosting a special Hot Yoga workshop with Karl and Neil! \nJoin senior Hot Yoga teachers Karl and Neil to explore and unpack the 26 postures and 2 breathing exercises (previously known as Bikram Yoga). \nHeated intermittently throughout the learning and practice. \nGreat for you if: You’ve been coming to Hot 26&2 classes and want to better understand the poses. You want to progress in your Hot Yoga practice. You want to learn more about the fundamentals and how to apply them in your regular classes. \nDuring this session\, we will: Break down key postures. Learn the fundamentals of foundation and alignment. Unpack the 26&2 breathing practices. Explore ways to improve and progress. \nOpen to all levels and experiences. \n£25 / £20 for monthly club members – Book here.
URL:https://chichesterbid.co.uk/event/262-workshop-at-lano-yoga/
LOCATION:Lano Yoga\, 2nd Floor\, 1 Old Market Ave\, Chichester\, West Sussex\, PO19 1SP\, United Kingdom
CATEGORIES:Wellness,Workshops
ATTACH;FMTTYPE=image/png:https://chichesterbid.co.uk/wp-content/uploads/2025/02/303586511_508506767946398_2222817080802571921_n.png
END:VEVENT
BEGIN:VEVENT
DTSTART;TZID=UTC:20250311T183000
DTEND;TZID=UTC:20250311T213000
DTSTAMP:20260420T062114
CREATED:20250115T110819Z
LAST-MODIFIED:20250115T110819Z
UID:10021687-1741717800-1741728600@chichesterbid.co.uk
SUMMARY:Paint and Sip - Highland Cow at The Fountain
DESCRIPTION:Want something different from a night out? \nTry your hand at acrylic painting whilst enjoying a drink in the lovely Fountain Pub! \nAttendees will paint on a pre-drawn canvas guided by the instructor but with full creative freedom to make it their own! \nAny artistic ability welcome – I think you’ll be surprised at what you can achieve. \nYou’ll also get a drink included in the price to enjoy as you paint. \nThis time we’ll be painting a Highland Cow canvas to live happily on your walls. \n\n\n\nInstructions\n\nPlease arrive 10 minutes before ticket time to arrange for drinks and to get settled in. \nAll materials are provided including an apron to protect clothes. \nThis workshop costs £30.00 and it can be booked here. \n 
URL:https://chichesterbid.co.uk/event/paint-and-sip-highland-cow-at-the-fountain/
LOCATION:The Fountain\, 29 Southgate\, Chichester\, PO19 1ES
CATEGORIES:Workshops
ATTACH;FMTTYPE=image/jpeg:https://chichesterbid.co.uk/wp-content/uploads/2025/01/alt_ratio_16x9_1x_Highland_Cow.jpg
ORGANIZER;CN="Creation Station":MAILTO:melprice@thecreationstation.co.uk
END:VEVENT
BEGIN:VEVENT
DTSTART;TZID=UTC:20250311T190000
DTEND;TZID=UTC:20250311T210000
DTSTAMP:20260420T062114
CREATED:20250110T103723Z
LAST-MODIFIED:20250110T103852Z
UID:10021121-1741719600-1741726800@chichesterbid.co.uk
SUMMARY:Acrylic Alphabet Painting Workshop - March Wild City Craft Club at The Duke & Rye
DESCRIPTION:When typography comes to life! Make your own personalised 3D painted letter with us this March. All materials are provided\, and everyone is welcome. Discover the magic of play-based learning\, where nature and art come together in a relaxed\, people-focused environment. Refreshments are available from the bar throughout the session and all Wild City customers get 20% off alcoholic and non-alcoholic drinks all night! \n \nVenue: The Duke & Rye\, West Street\, Chichester\, PO19 1QU \n \nJoin our monthly play based workshops to explore your creativity and get your imagination fired up! These sessions are suitable for complete beginners or more experienced artists looking to explore nature based art. Each month features a different theme with a variety of interesting materials for you to experiment with. Wild City aims to bring communities together\, providing a friendly atmosphere where you have the freedom and support to make something to be proud of. \nThis workshop costs £20 and can be booked here.
URL:https://chichesterbid.co.uk/event/acrylic-alphabet-painting-workshop-march-wild-city-craft-club-at-the-duke-rye/
LOCATION:The Duke & Rye\, West Street\, Chichester\, West Sussex\, PO19 1QU
CATEGORIES:Workshops
ATTACH;FMTTYPE=image/webp:https://chichesterbid.co.uk/wp-content/uploads/2025/01/eb8d24_2f3553e76fb949bf9d3f43a52631f907mv2.webp
END:VEVENT
BEGIN:VEVENT
DTSTART;VALUE=DATE:20250315
DTEND;VALUE=DATE:20250316
DTSTAMP:20260420T062114
CREATED:20250110T123412Z
LAST-MODIFIED:20250110T123521Z
UID:10021427-1741996800-1742083199@chichesterbid.co.uk
SUMMARY:Craft Club at Jam Cafe
DESCRIPTION:Join Jam Cafe every Saturday for their weekly Craft Club. \nEach week they will be making a variety of crafts from painting to collage to badges\, the options are endless. \nThere are 2 drop in sessions – \n10:30am-12:00pm \n1:00pm-3:00pm \nCost – From £5.00\, depending on activity and you can book your space here.
URL:https://chichesterbid.co.uk/event/craft-club-at-jam-cafe/2025-03-15/
LOCATION:JAM Cafe\, 33 Southgate\, Chichester\, West Sussex\, PO19 1DP
CATEGORIES:Regular Events,Workshops
ATTACH;FMTTYPE=image/avif:https://chichesterbid.co.uk/wp-content/uploads/2025/01/2.avif
ORGANIZER;CN="JAM":MAILTO:info@creativebeatz.co.uk
END:VEVENT
BEGIN:VEVENT
DTSTART;TZID=UTC:20250315T160000
DTEND;TZID=UTC:20250315T160000
DTSTAMP:20260420T062114
CREATED:20250115T133628Z
LAST-MODIFIED:20250115T133628Z
UID:10021701-1742054400-1742054400@chichesterbid.co.uk
SUMMARY:Paper Daffodil Workshop at Jam Cafe
DESCRIPTION:Join Clare of Petal & Bird for a couple of hours paper creativity and learn to make your own paper daffodil. \nClare will take you through the process step by step\, no previous experience is required \n\nWorkshop starts at 4pm and runs for approximately 2 hours\nMaterials provided\n£35 per person\n\nWorkshop takes place upstairs in Jam cafe\, 33 Southgate\, Chichester\, PO19 1DP.\nRefreshments will be available to purchase. \nBook your place here.
URL:https://chichesterbid.co.uk/event/paper-daffodil-workshop-at-jam-cafe/
LOCATION:JAM Cafe\, 33 Southgate\, Chichester\, West Sussex\, PO19 1DP
CATEGORIES:Workshops
ATTACH;FMTTYPE=image/png:https://chichesterbid.co.uk/wp-content/uploads/2025/01/Daffodil-Workshop-Jam-2025.png
END:VEVENT
BEGIN:VEVENT
DTSTART;VALUE=DATE:20250322
DTEND;VALUE=DATE:20250323
DTSTAMP:20260420T062114
CREATED:20250110T123412Z
LAST-MODIFIED:20250110T123521Z
UID:10021428-1742601600-1742687999@chichesterbid.co.uk
SUMMARY:Craft Club at Jam Cafe
DESCRIPTION:Join Jam Cafe every Saturday for their weekly Craft Club. \nEach week they will be making a variety of crafts from painting to collage to badges\, the options are endless. \nThere are 2 drop in sessions – \n10:30am-12:00pm \n1:00pm-3:00pm \nCost – From £5.00\, depending on activity and you can book your space here.
URL:https://chichesterbid.co.uk/event/craft-club-at-jam-cafe/2025-03-22/
LOCATION:JAM Cafe\, 33 Southgate\, Chichester\, West Sussex\, PO19 1DP
CATEGORIES:Regular Events,Workshops
ATTACH;FMTTYPE=image/avif:https://chichesterbid.co.uk/wp-content/uploads/2025/01/2.avif
ORGANIZER;CN="JAM":MAILTO:info@creativebeatz.co.uk
END:VEVENT
BEGIN:VEVENT
DTSTART;TZID=UTC:20250326T190000
DTEND;TZID=UTC:20250326T210000
DTSTAMP:20260420T062114
CREATED:20250110T103843Z
LAST-MODIFIED:20250110T103843Z
UID:10021122-1743015600-1743022800@chichesterbid.co.uk
SUMMARY:Acrylic Alphabet Painting Workshop - March Wild City Craft Club at The Duke & Rye
DESCRIPTION:When typography comes to life! Make your own personalised 3D painted letter with us this March. All materials are provided\, and everyone is welcome. Discover the magic of play-based learning\, where nature and art come together in a relaxed\, people-focused environment. Refreshments are available from the bar throughout the session and all Wild City customers get 20% off alcoholic and non-alcoholic drinks all night! \n \nVenue: The Duke & Rye\, West Street\, Chichester\, PO19 1QU \n \nJoin our monthly play based workshops to explore your creativity and get your imagination fired up! These sessions are suitable for complete beginners or more experienced artists looking to explore nature based art. Each month features a different theme with a variety of interesting materials for you to experiment with. Wild City aims to bring communities together\, providing a friendly atmosphere where you have the freedom and support to make something to be proud of. \nThis workshop costs £20 and can be booked here.
URL:https://chichesterbid.co.uk/event/acrylic-alphabet-painting-workshop-march-wild-city-craft-club-at-the-duke-rye-2/
LOCATION:The Duke & Rye\, West Street\, Chichester\, West Sussex\, PO19 1QU
CATEGORIES:Workshops
ATTACH;FMTTYPE=image/webp:https://chichesterbid.co.uk/wp-content/uploads/2025/01/eb8d24_2f3553e76fb949bf9d3f43a52631f907mv2.webp
END:VEVENT
BEGIN:VEVENT
DTSTART;VALUE=DATE:20250329
DTEND;VALUE=DATE:20250330
DTSTAMP:20260420T062114
CREATED:20250110T123412Z
LAST-MODIFIED:20250110T123521Z
UID:10021429-1743206400-1743292799@chichesterbid.co.uk
SUMMARY:Craft Club at Jam Cafe
DESCRIPTION:Join Jam Cafe every Saturday for their weekly Craft Club. \nEach week they will be making a variety of crafts from painting to collage to badges\, the options are endless. \nThere are 2 drop in sessions – \n10:30am-12:00pm \n1:00pm-3:00pm \nCost – From £5.00\, depending on activity and you can book your space here.
URL:https://chichesterbid.co.uk/event/craft-club-at-jam-cafe/2025-03-29/
LOCATION:JAM Cafe\, 33 Southgate\, Chichester\, West Sussex\, PO19 1DP
CATEGORIES:Regular Events,Workshops
ATTACH;FMTTYPE=image/avif:https://chichesterbid.co.uk/wp-content/uploads/2025/01/2.avif
ORGANIZER;CN="JAM":MAILTO:info@creativebeatz.co.uk
END:VEVENT
BEGIN:VEVENT
DTSTART;TZID=UTC:20250329T100000
DTEND;TZID=UTC:20250329T130000
DTSTAMP:20260420T062114
CREATED:20250122T142641Z
LAST-MODIFIED:20250122T142641Z
UID:10022239-1743242400-1743253200@chichesterbid.co.uk
SUMMARY:Paper Tapered Drum Lampshade Workshop at Clothkits
DESCRIPTION:Join us to learn how to create a beautiful tapered drum lampshade using hand-marbled paper\, papers from Japan and other exceptional papers. The workshop will be led by Jane Warren from The Lampshade Loft\, who will provide all the necessary supplies and guide you through the process. \nYou’ll have the opportunity to choose from a variety of papers and trims\, and Jane will teach you how to laminate the paper to create a panel and then hand-roll it onto a lampshade ring-set. In addition\, you’ll receive instructions on fixtures and fittings\, as well as guidance on creating different shapes and sizes. By the end of the workshop\, you’ll have the skills to make many more lampshades. \nPlease note that the lampshade you’ll be creating is a tapered/cone shape suitable for a desk or table lamp\, not for a ceiling or pendant fitting. It measures 25cm in diameter at the base ring and 15cm in diameter at the top ring. \nAbout your Teacher: \nJane Warren runs her small business The Lampshade Loft\, and has been teaching lampshade making for over ten years. She recently published her first book called The Complete Guide to Lampshade Making. \nMaterials: The materials for the lampshade will be available on the day. You will have a choice of hand-marbled\, Japanese\, or other decorative papers to choose from. The kit for the lampshade will cost £20\, and this payment should be made in cash to the tutor on the day. \nThe kit includes: \n\na sheet of paper of your choice\na pre-cut laminate panel\na lampshade ring set comprising of a base ring of 25cm and top ring of 15cm\na small roll of double sided tape\na choice of bias bindings to trim and complete the base and top of the lampshade\n\nClass Size: Maximum class size of 6. \n\nSkills: Ideal for complete beginners or those wanting to try something new. \nDuration: Half Day \nThis workshop costs £60 and can be booked here.
URL:https://chichesterbid.co.uk/event/paper-tapered-drum-lampshade-workshop-at-clothkits/
LOCATION:Clothkits\, 16 The Hornet\, Chichester\, PO19 7JG
CATEGORIES:Workshops
ATTACH;FMTTYPE=image/webp:https://chichesterbid.co.uk/wp-content/uploads/2025/01/lampshade-making-paper-tapered.webp
END:VEVENT
BEGIN:VEVENT
DTSTART;TZID=UTC:20250329T133000
DTEND;TZID=UTC:20250329T153000
DTSTAMP:20260420T062114
CREATED:20250226T132930Z
LAST-MODIFIED:20250327T115356Z
UID:10022267-1743255000-1743262200@chichesterbid.co.uk
SUMMARY:Make a family of Ceramic Easter Bunnies at Biscuit Pottery
DESCRIPTION:Come and enjoy making your own little family of ceramic Easter bunnies. \nWith have lots of coloured slips and underglazes to decorate them. \nYour finished artwork will be bisque fired before being dipped into a clear glaze and fired again. \nSuitable for 5 years and above. Price includes all materials\, glaze\, firing. \nYour family of bunnies will be ready collect from our studio in time for Easter. \nThis workshop costs £15pp and can be booked here.
URL:https://chichesterbid.co.uk/event/make-a-family-of-ceramic-easter-bunnies-at-biscuit-pottery/
LOCATION:Biscuit Pottery\, 16 The Hornet\, Drapers Yard\, Chichester\, West Sussex\, PO19 7JG
CATEGORIES:Family Friendly,Workshops
ATTACH;FMTTYPE=image/webp:https://chichesterbid.co.uk/wp-content/uploads/2025/02/s363607254581856669_p168_i1_w2547.webp
ORGANIZER;CN="Biscuit Pottery":MAILTO:info@biscuitpottery.co.uk
END:VEVENT
BEGIN:VEVENT
DTSTART;TZID=UTC:20250329T140000
DTEND;TZID=UTC:20250329T153000
DTSTAMP:20260420T062114
CREATED:20250226T142534Z
LAST-MODIFIED:20250226T142649Z
UID:10022272-1743256800-1743262200@chichesterbid.co.uk
SUMMARY:Moving Off The Mat: exploring Somatic Practice at Lano Yoga
DESCRIPTION:Join Alice for a movement exploration that will invite you to take your practice off the familiarity of your mat and open you up to the myriad of ways that our bodies have the potential to move. \nComing from an improvised dance background\, Alice will guide you through movement based tasks that will give you a framework within which you will explore your own individual movement. The aim of this workshop is to give you the confidence in moving freely in your body in a way that feels intuitive and playful. You will discover how somatic practices strengthen the connections between our body and mind and to invite us to lean deeply into the fun and curiosity that comes hand in hand with moving our bodies without boundaries. This is an opportunity to step out of our heads and into our bodies. \nNo previous movement experience needed. \nWhat to expect: \n30 minute yoga flow to warm up \nMind-body centring meditation \nGuided and free movement exploration \nJournalling \nTea and discussion. \n£20pp – Book here.
URL:https://chichesterbid.co.uk/event/moving-off-the-mat-exploring-somatic-practice-at-lano-yoga/
LOCATION:Lano Yoga\, 2nd Floor\, 1 Old Market Ave\, Chichester\, West Sussex\, PO19 1SP\, United Kingdom
CATEGORIES:Wellness,Workshops
ATTACH;FMTTYPE=image/png:https://chichesterbid.co.uk/wp-content/uploads/2025/02/303586511_508506767946398_2222817080802571921_n.png
END:VEVENT
BEGIN:VEVENT
DTSTART;TZID=UTC:20250329T140000
DTEND;TZID=UTC:20250329T170000
DTSTAMP:20260420T062114
CREATED:20250123T110109Z
LAST-MODIFIED:20250123T110109Z
UID:10022242-1743256800-1743267600@chichesterbid.co.uk
SUMMARY:Accordion Liberty Lawn Pleated Lampshade Workshop at Clothkits
DESCRIPTION:In this workshop\, run by Jane Warren of The Lampshade Loft\, you will learn all the skills needed to make accordion lampshades. Pleated to prefection these beauties are a classic from the 1970’s lighting scene\, but are currently enjoying a revival in modern interiors. Jane will guide you through each step and by the end of the session you will be able to go on to make more shades\, either professionally or for your own use. \nAbout your Teacher: \nJane Warren runs her small business The Lampshade Loft\, and has been teaching lampshade making for     over ten years. Her book The Complete Guide to Lampshade Making was published in 2024 (Crowood Press). \nMaterials: \nYou will need a minimum of 35cm of Liberty Lawn (available to purchase at Clothkits) for your shade. \nPlease note your lampshade will be suitable for lamp bases only (not for ceiling/pendants)\, and the completed size will be a small shade – however\, you will learn all the methods to make larger sizes of your choice. \nYou will also need to bring £12 for the special laminate which is paid directly to the tutor on the day. \nClass Size: \nMaximum class size of 6. \n\nSkills: \nIdeal for complete beginners\, or for those wanting to try something new. Accuracy and a steady hand are paramount! \nDuration: \nHalf Day \n\n\nThis workshop costs £60 and can be booked here.
URL:https://chichesterbid.co.uk/event/accordion-liberty-lawn-pleated-lampshade-workshop-at-clothkits/
LOCATION:Clothkits\, 16 The Hornet\, Chichester\, PO19 7JG
CATEGORIES:Workshops
ATTACH;FMTTYPE=image/webp:https://chichesterbid.co.uk/wp-content/uploads/2025/01/workshop-accordian-lampshade-2.webp
END:VEVENT
END:VCALENDAR