BEGIN:VCALENDAR
VERSION:2.0
PRODID:-//Chichester BID - ECPv6.15.17.1//NONSGML v1.0//EN
CALSCALE:GREGORIAN
METHOD:PUBLISH
X-ORIGINAL-URL:https://chichesterbid.co.uk
X-WR-CALDESC:Events for Chichester BID
REFRESH-INTERVAL;VALUE=DURATION:PT1H
X-Robots-Tag:noindex
X-PUBLISHED-TTL:PT1H
BEGIN:VTIMEZONE
TZID:UTC
BEGIN:STANDARD
TZOFFSETFROM:+0000
TZOFFSETTO:+0000
TZNAME:UTC
DTSTART:20240101T000000
END:STANDARD
END:VTIMEZONE
BEGIN:VEVENT
DTSTART;TZID=UTC:20250501T103000
DTEND;TZID=UTC:20250501T103000
DTSTAMP:20260419T152130
CREATED:20231027T123604Z
LAST-MODIFIED:20231027T123604Z
UID:10005826-1746095400-1746095400@chichesterbid.co.uk
SUMMARY:Creative Conversations at Pallant House Gallery
DESCRIPTION:Creative Conversations is an opportunity to look at and discuss selected art works at Pallant House Gallery.\n\nShare your thoughts and enjoy hearing other people’s responses. There are no right answers; all thoughts and ideas make a valuable contribution to the discussion. \nCreative Conversations is open to all and is dementia friendly. Sessions are organised in partnership with the Chichester Social Prescribing Service. \nFree entry. Book tickets here.
URL:https://chichesterbid.co.uk/event/creative-conversations-at-pallant-house-gallery/2025-05-01/
LOCATION:Pallant House Gallery\, 9 North Pallant\, Chichester\, PO19 1TJ
CATEGORIES:Workshops
ATTACH;FMTTYPE=image/jpeg:https://chichesterbid.co.uk/wp-content/uploads/2023/10/people-from-front-in-room-2-c-Chris-Ison-2018-960x600-1.jpg
END:VEVENT
BEGIN:VEVENT
DTSTART;VALUE=DATE:20250503
DTEND;VALUE=DATE:20250504
DTSTAMP:20260419T152130
CREATED:20250110T123412Z
LAST-MODIFIED:20250110T123521Z
UID:10021434-1746230400-1746316799@chichesterbid.co.uk
SUMMARY:Craft Club at Jam Cafe
DESCRIPTION:Join Jam Cafe every Saturday for their weekly Craft Club. \nEach week they will be making a variety of crafts from painting to collage to badges\, the options are endless. \nThere are 2 drop in sessions – \n10:30am-12:00pm \n1:00pm-3:00pm \nCost – From £5.00\, depending on activity and you can book your space here.
URL:https://chichesterbid.co.uk/event/craft-club-at-jam-cafe/2025-05-03/
LOCATION:JAM Cafe\, 33 Southgate\, Chichester\, West Sussex\, PO19 1DP
CATEGORIES:Regular Events,Workshops
ATTACH;FMTTYPE=image/avif:https://chichesterbid.co.uk/wp-content/uploads/2025/01/2.avif
ORGANIZER;CN="JAM":MAILTO:info@creativebeatz.co.uk
END:VEVENT
BEGIN:VEVENT
DTSTART;TZID=UTC:20250503T100000
DTEND;TZID=UTC:20250503T163000
DTSTAMP:20260419T152130
CREATED:20250117T134726Z
LAST-MODIFIED:20250117T134726Z
UID:10021711-1746266400-1746289800@chichesterbid.co.uk
SUMMARY:Traditional Lampshade Day Workshop at Clothkits
DESCRIPTION:Join us for the day and learn how to make a traditional tailored lampshade. Using the fabric of your choice you will learn how to make a handsewn soft shade on a bowed empire frame – a classic traditional style of lampshade. \nYou will make an unlined traditional lampshade using a 10”/25.5cm frame in this one-day workshop\, however there will also be a demonstration of how to make and add linings\, plus how to make and add different types of trims. \nThis workshop costs £120. To find out more and book your space\, click here.
URL:https://chichesterbid.co.uk/event/traditional-lampshade-day-workshop-at-clothkits-2/2025-05-03/
LOCATION:Clothkits\, 16 The Hornet\, Chichester\, PO19 7JG
CATEGORIES:Workshops
ATTACH;FMTTYPE=image/webp:https://chichesterbid.co.uk/wp-content/uploads/2025/01/clothkits-workshop-empire-lampshade.webp
END:VEVENT
BEGIN:VEVENT
DTSTART;VALUE=DATE:20250510
DTEND;VALUE=DATE:20250511
DTSTAMP:20260419T152130
CREATED:20250110T123412Z
LAST-MODIFIED:20250110T123521Z
UID:10021435-1746835200-1746921599@chichesterbid.co.uk
SUMMARY:Craft Club at Jam Cafe
DESCRIPTION:Join Jam Cafe every Saturday for their weekly Craft Club. \nEach week they will be making a variety of crafts from painting to collage to badges\, the options are endless. \nThere are 2 drop in sessions – \n10:30am-12:00pm \n1:00pm-3:00pm \nCost – From £5.00\, depending on activity and you can book your space here.
URL:https://chichesterbid.co.uk/event/craft-club-at-jam-cafe/2025-05-10/
LOCATION:JAM Cafe\, 33 Southgate\, Chichester\, West Sussex\, PO19 1DP
CATEGORIES:Regular Events,Workshops
ATTACH;FMTTYPE=image/avif:https://chichesterbid.co.uk/wp-content/uploads/2025/01/2.avif
ORGANIZER;CN="JAM":MAILTO:info@creativebeatz.co.uk
END:VEVENT
BEGIN:VEVENT
DTSTART;TZID=UTC:20250513T190000
DTEND;TZID=UTC:20250513T210000
DTSTAMP:20260419T152130
CREATED:20250110T104410Z
LAST-MODIFIED:20250110T110449Z
UID:10021125-1747162800-1747170000@chichesterbid.co.uk
SUMMARY:Magical Map Making Workshop - May Wild City Craft Club at The Duke & Rye
DESCRIPTION:Come on a magical map making journey this May! We’ll be using mixed media and experimenting with map folding techniques to create something unique to you. All materials are provided\, and everyone is welcome. Discover the magic of play-based learning\, where nature and art come together in a relaxed\, people-focused environment. Refreshments are available from the bar throughout the session and all Wild City customers get 20% off alcoholic and non-alcoholic drinks all night! \n \nVenue: The Duke & Rye\, West Street\, Chichester\, PO19 1QU \n \nJoin our monthly play based workshops to explore your creativity and get your imagination fired up! These sessions are suitable for complete beginners or more experienced artists looking to explore nature based art. Each month features a different theme with a variety of interesting materials for you to experiment with. Wild City aims to bring communities together\, providing a friendly atmosphere where you have the freedom and support to make something to be proud of.  \nThis workshop costs £20 and can be booked here.
URL:https://chichesterbid.co.uk/event/magical-map-making-workshop-may-wild-city-craft-club-at-the-duke-rye/
LOCATION:The Duke & Rye\, West Street\, Chichester\, West Sussex\, PO19 1QU
CATEGORIES:Workshops
ATTACH;FMTTYPE=image/webp:https://chichesterbid.co.uk/wp-content/uploads/2025/01/eb8d24_ed3ab0bf01e24f4aa9820141cc4aba3bmv2.webp
END:VEVENT
BEGIN:VEVENT
DTSTART;TZID=UTC:20250514T100000
DTEND;TZID=UTC:20250514T130000
DTSTAMP:20260419T152130
CREATED:20250221T145206Z
LAST-MODIFIED:20250221T145206Z
UID:10022264-1747216800-1747227600@chichesterbid.co.uk
SUMMARY:Smock On! Hand Smocking Workshop for Beginners at Clothkits
DESCRIPTION:Join us for a fun workshop to learn how to hand smock\, or continue where you left off the last time you smocked with Maria. Smocking is an embroidery technique that uses small stitches to gather the fabric. In the olden days\, as well as being decorative\, it also served a practical purpose – as the gathered fabric can stretch it is perfect for necklines or cuffs. These days you will usually find hand smocking on children’s dresses\, but it also looks great on women’s clothes too. \nAbout your Teacher: \nAs well as being an incredible designer\, pattern cutter and seamstress Maria Pulley is also an excellent teacher\, whose passion for sewing is infectious. She loves the whole process of creating a garment\, from the concept through to the craft of making it. \nClass Size: \nMaximum class size of 6 \nSkills: \nBeginners \nMaterials: \nYou will need to provide a little fabric to experiment with. Something with a geometric print\, like small spots\, stripes or checks would be ideal as you can use the print as a guide. \nDuration: \n1 half day \nThis workshop costs £60 and can be booked here.
URL:https://chichesterbid.co.uk/event/smock-on-hand-smocking-workshop-for-beginners-at-clothkits/
LOCATION:Clothkits\, 16 The Hornet\, Chichester\, PO19 7JG
CATEGORIES:Workshops
ATTACH;FMTTYPE=image/webp:https://chichesterbid.co.uk/wp-content/uploads/2025/02/workshop-smocking.webp
END:VEVENT
BEGIN:VEVENT
DTSTART;TZID=UTC:20250515T173000
DTEND;TZID=UTC:20250515T200000
DTSTAMP:20260419T152130
CREATED:20250226T133851Z
LAST-MODIFIED:20250226T133851Z
UID:10022269-1747330200-1747339200@chichesterbid.co.uk
SUMMARY:Make a Ceramic Wall Planter Workshop at Biscuit Pottery
DESCRIPTION:Come and join us for a relaxing evening making something that is both functional and decorative for your garden. During this workshop you will be using Stoneware clay (This is fired to over 1200° which makes it frost proof) and use the technique of slab building to make a planter. \nThere will be a range of materials for you to add pattern and texture and we have slips and underglazes for you to decorate and add colour. Tea and coffee is provided or you are welcome to BYOB. \nSuitable for adults and older children. Price includes all materials\, glaze\, firing. \nYour Planter will be taken away\, dried\, bisque fired and then glazed and fired again ready for you to collect in approximately 4 weeks to 6 weeks \nThis workshop costs £35pp and can be booked here.
URL:https://chichesterbid.co.uk/event/make-a-ceramic-wall-planter-workshop-at-biscuit-pottery/
LOCATION:Biscuit Pottery\, 16 The Hornet\, Drapers Yard\, Chichester\, West Sussex\, PO19 7JG
CATEGORIES:Workshops
ATTACH;FMTTYPE=image/webp:https://chichesterbid.co.uk/wp-content/uploads/2025/02/s363607254581856669_p130_i1_w2526-scaled.webp
ORGANIZER;CN="Biscuit Pottery":MAILTO:info@biscuitpottery.co.uk
END:VEVENT
BEGIN:VEVENT
DTSTART;TZID=UTC:20250516T100000
DTEND;TZID=UTC:20250516T170000
DTSTAMP:20260419T152130
CREATED:20250424T113212Z
LAST-MODIFIED:20250424T113212Z
UID:10023888-1747389600-1747414800@chichesterbid.co.uk
SUMMARY:Creating a Marvellous Midlife Day Retreat
DESCRIPTION:This is a day dedicated to revealing why Life Coaching can be so beneficial at the midlife point of a woman’s life journey with Emily Hill (Personal & Professional Life Coach and NLP Master Practitioner)\, Simon Schmid (Personal Coach\, Master Trainer and Speaker)\, Melissa Purchase (Integrative Arts Psychotherapist)\, and Patricia Formby (Sports Physiotherapist and Author).\n\nRather than focussing on Menopause\, this day has been purposefully created to offer you a thoroughly practical session to demonstrate how Life Coaching can support you with a mid-life review and help you with the redefinitions of your purpose\, that is so naturally needed as you move through the key life stages.\nThus helping you make even a great life better still\, so you are fully thriving and living a marvellous midlife! \nThis workshop costs £85 and can be booked here.
URL:https://chichesterbid.co.uk/event/creating-a-marvellous-midlife-day-retreat/
LOCATION:The Barn\, 40 East Street\, Chichester\, West Sussex\, PO19 1HX
CATEGORIES:Wellness,Workshops
ATTACH;FMTTYPE=image/jpeg:https://chichesterbid.co.uk/wp-content/uploads/2025/04/processed-4DAAB35A-482D-4E44-B2D9-436BF31E299C-1536x1536-1.jpeg
END:VEVENT
BEGIN:VEVENT
DTSTART;VALUE=DATE:20250517
DTEND;VALUE=DATE:20250518
DTSTAMP:20260419T152130
CREATED:20250110T123412Z
LAST-MODIFIED:20250110T123521Z
UID:10021436-1747440000-1747526399@chichesterbid.co.uk
SUMMARY:Craft Club at Jam Cafe
DESCRIPTION:Join Jam Cafe every Saturday for their weekly Craft Club. \nEach week they will be making a variety of crafts from painting to collage to badges\, the options are endless. \nThere are 2 drop in sessions – \n10:30am-12:00pm \n1:00pm-3:00pm \nCost – From £5.00\, depending on activity and you can book your space here.
URL:https://chichesterbid.co.uk/event/craft-club-at-jam-cafe/2025-05-17/
LOCATION:JAM Cafe\, 33 Southgate\, Chichester\, West Sussex\, PO19 1DP
CATEGORIES:Regular Events,Workshops
ATTACH;FMTTYPE=image/avif:https://chichesterbid.co.uk/wp-content/uploads/2025/01/2.avif
ORGANIZER;CN="JAM":MAILTO:info@creativebeatz.co.uk
END:VEVENT
BEGIN:VEVENT
DTSTART;TZID=UTC:20250517T160000
DTEND;TZID=UTC:20250517T160000
DTSTAMP:20260419T152130
CREATED:20250115T133946Z
LAST-MODIFIED:20250115T133946Z
UID:10021702-1747497600-1747497600@chichesterbid.co.uk
SUMMARY:Paper Peony Workshop at Jam Cafe
DESCRIPTION:Join Clare of Petal & Bird for a couple of hours paper creativity and learn to make your own paper peony. \nClare will take you through the process step by step\, no previous experience is required \n\nWorkshop starts at 4pm and runs for approximately 2 hours\nMaterials provided\n£35 per person\n\nWorkshop takes place upstairs in Jam cafe\, 33 Southgate\, Chichester\, PO19 1DP.\nRefreshments will be available to purchase. \nBook your place here.
URL:https://chichesterbid.co.uk/event/paper-peony-workshop-at-jam-cafe/
LOCATION:JAM Cafe\, 33 Southgate\, Chichester\, West Sussex\, PO19 1DP
CATEGORIES:Workshops
ATTACH;FMTTYPE=image/png:https://chichesterbid.co.uk/wp-content/uploads/2025/01/Peony-Workshop-Jam-2025.png
END:VEVENT
BEGIN:VEVENT
DTSTART;TZID=UTC:20250522T193000
DTEND;TZID=UTC:20250522T210000
DTSTAMP:20260419T152130
CREATED:20250319T115511Z
LAST-MODIFIED:20250319T115511Z
UID:10022597-1747942200-1747947600@chichesterbid.co.uk
SUMMARY:Traditional Ginger Beer and Fermented Lemonade Workshop at Refilled
DESCRIPTION:Whoever signs up for this workshop will be fizzing to discover it offers not one but two yummy non-alcoholic drinks to kick your summers off with a scrumptious pop! Together we’ll make a ginger bug for you to nurture at home (don’t worry though\, we’ll demonstrate the whole ginger beer process for you to see) and start off your lemonade together as well as indulging in a glass or two with some Refilled snacks. \nGluten free\, vegan\, fermented elements \nWhat’s included?\nA glass or two or ginger beer and lemonade\nAll necessary ingredients to make your drinks\nRecipe to take home\nHands-on experience within a community \nWhat do I need to bring?\nA small jar for your ginger bug and a medium sized jar for your lemonade \nThis workshop costs £20 and can be booked here.
URL:https://chichesterbid.co.uk/event/traditional-ginger-beer-and-fermented-lemonade-workshop-at-refilled/
LOCATION:Refilled\, 30 North Street\, Chichester\, PO19 1LX\, United Kingdom
CATEGORIES:Workshops
ATTACH;FMTTYPE=image/jpeg:https://chichesterbid.co.uk/wp-content/uploads/2025/03/pexels-pixabay-161556.jpg
END:VEVENT
BEGIN:VEVENT
DTSTART;VALUE=DATE:20250524
DTEND;VALUE=DATE:20250525
DTSTAMP:20260419T152130
CREATED:20250110T123412Z
LAST-MODIFIED:20250110T123521Z
UID:10021437-1748044800-1748131199@chichesterbid.co.uk
SUMMARY:Craft Club at Jam Cafe
DESCRIPTION:Join Jam Cafe every Saturday for their weekly Craft Club. \nEach week they will be making a variety of crafts from painting to collage to badges\, the options are endless. \nThere are 2 drop in sessions – \n10:30am-12:00pm \n1:00pm-3:00pm \nCost – From £5.00\, depending on activity and you can book your space here.
URL:https://chichesterbid.co.uk/event/craft-club-at-jam-cafe/2025-05-24/
LOCATION:JAM Cafe\, 33 Southgate\, Chichester\, West Sussex\, PO19 1DP
CATEGORIES:Regular Events,Workshops
ATTACH;FMTTYPE=image/avif:https://chichesterbid.co.uk/wp-content/uploads/2025/01/2.avif
ORGANIZER;CN="JAM":MAILTO:info@creativebeatz.co.uk
END:VEVENT
BEGIN:VEVENT
DTSTART;TZID=UTC:20250528T190000
DTEND;TZID=UTC:20250528T210000
DTSTAMP:20260419T152130
CREATED:20250110T104457Z
LAST-MODIFIED:20250110T110511Z
UID:10021126-1748458800-1748466000@chichesterbid.co.uk
SUMMARY:Magical Map Making Workshop - May Wild City Craft Club at The Duke & Rye
DESCRIPTION:Come on a magical map making journey this May! We’ll be using mixed media and experimenting with map folding techniques to create something unique to you. All materials are provided\, and everyone is welcome. Discover the magic of play-based learning\, where nature and art come together in a relaxed\, people-focused environment. Refreshments are available from the bar throughout the session and all Wild City customers get 20% off alcoholic and non-alcoholic drinks all night! \n \nVenue: The Duke & Rye\, West Street\, Chichester\, PO19 1QU \n \nJoin our monthly play based workshops to explore your creativity and get your imagination fired up! These sessions are suitable for complete beginners or more experienced artists looking to explore nature based art. Each month features a different theme with a variety of interesting materials for you to experiment with. Wild City aims to bring communities together\, providing a friendly atmosphere where you have the freedom and support to make something to be proud of.  \nThis workshop costs £20 and can be booked here.
URL:https://chichesterbid.co.uk/event/magical-map-making-workshop-may-wild-city-craft-club-at-the-duke-rye-2/
LOCATION:The Duke & Rye\, West Street\, Chichester\, West Sussex\, PO19 1QU
CATEGORIES:Workshops
ATTACH;FMTTYPE=image/webp:https://chichesterbid.co.uk/wp-content/uploads/2025/01/eb8d24_ed3ab0bf01e24f4aa9820141cc4aba3bmv2.webp
END:VEVENT
BEGIN:VEVENT
DTSTART;VALUE=DATE:20250531
DTEND;VALUE=DATE:20250601
DTSTAMP:20260419T152130
CREATED:20250110T123412Z
LAST-MODIFIED:20250110T123521Z
UID:10021438-1748649600-1748735999@chichesterbid.co.uk
SUMMARY:Craft Club at Jam Cafe
DESCRIPTION:Join Jam Cafe every Saturday for their weekly Craft Club. \nEach week they will be making a variety of crafts from painting to collage to badges\, the options are endless. \nThere are 2 drop in sessions – \n10:30am-12:00pm \n1:00pm-3:00pm \nCost – From £5.00\, depending on activity and you can book your space here.
URL:https://chichesterbid.co.uk/event/craft-club-at-jam-cafe/2025-05-31/
LOCATION:JAM Cafe\, 33 Southgate\, Chichester\, West Sussex\, PO19 1DP
CATEGORIES:Regular Events,Workshops
ATTACH;FMTTYPE=image/avif:https://chichesterbid.co.uk/wp-content/uploads/2025/01/2.avif
ORGANIZER;CN="JAM":MAILTO:info@creativebeatz.co.uk
END:VEVENT
BEGIN:VEVENT
DTSTART;TZID=UTC:20250531T133000
DTEND;TZID=UTC:20250531T153000
DTSTAMP:20260419T152130
CREATED:20250327T115929Z
LAST-MODIFIED:20250327T120135Z
UID:10022604-1748698200-1748705400@chichesterbid.co.uk
SUMMARY:Make a Ceramic Coaster for Father’s Day at Biscuit Pottery
DESCRIPTION:Surprise your dad with a unique and thoughtful present this Father’s Day! \nHand-build a personalised ceramic coaster for Father’s Day with love and creativity at our workshop. This handmade gift is the perfect for his cup of tea or pint of beer! \nYou will use earthenware and roll out your slab of clay before cutting your chosen shape. We have letter stamps to add your own personal message and slips and underglazes to decorate. \nYour finished artwork will be bisque fired before being dipped into a clear glaze and fired again and be ready before his special day. \nSuitable for 5 years and above. Price includes all materials\, glaze\, firing. \nBook your space here for £15pp.
URL:https://chichesterbid.co.uk/event/make-a-ceramic-coaster-for-fathers-day-at-biscuit-pottery/
LOCATION:Biscuit Pottery\, 16 The Hornet\, Drapers Yard\, Chichester\, West Sussex\, PO19 7JG
CATEGORIES:Workshops
ATTACH;FMTTYPE=image/webp:https://chichesterbid.co.uk/wp-content/uploads/2025/03/F6NSTKH4KVMLYHLNK43TM6QH.webp
ORGANIZER;CN="Biscuit Pottery":MAILTO:info@biscuitpottery.co.uk
END:VEVENT
END:VCALENDAR