BEGIN:VCALENDAR
VERSION:2.0
PRODID:-//Chichester BID - ECPv6.15.17.1//NONSGML v1.0//EN
CALSCALE:GREGORIAN
METHOD:PUBLISH
X-ORIGINAL-URL:https://chichesterbid.co.uk
X-WR-CALDESC:Events for Chichester BID
REFRESH-INTERVAL;VALUE=DURATION:PT1H
X-Robots-Tag:noindex
X-PUBLISHED-TTL:PT1H
BEGIN:VTIMEZONE
TZID:UTC
BEGIN:STANDARD
TZOFFSETFROM:+0000
TZOFFSETTO:+0000
TZNAME:UTC
DTSTART:20260101T000000
END:STANDARD
END:VTIMEZONE
BEGIN:VEVENT
DTSTART;TZID=UTC:20270304T103000
DTEND;TZID=UTC:20270304T103000
DTSTAMP:20260419T152130
CREATED:20231027T123604Z
LAST-MODIFIED:20231027T123604Z
UID:10005848-1804156200-1804156200@chichesterbid.co.uk
SUMMARY:Creative Conversations at Pallant House Gallery
DESCRIPTION:Creative Conversations is an opportunity to look at and discuss selected art works at Pallant House Gallery.\n\nShare your thoughts and enjoy hearing other people’s responses. There are no right answers; all thoughts and ideas make a valuable contribution to the discussion. \nCreative Conversations is open to all and is dementia friendly. Sessions are organised in partnership with the Chichester Social Prescribing Service. \nFree entry. Book tickets here.
URL:https://chichesterbid.co.uk/event/creative-conversations-at-pallant-house-gallery/2027-03-04/
LOCATION:Pallant House Gallery\, 9 North Pallant\, Chichester\, PO19 1TJ
CATEGORIES:Workshops
ATTACH;FMTTYPE=image/jpeg:https://chichesterbid.co.uk/wp-content/uploads/2023/10/people-from-front-in-room-2-c-Chris-Ison-2018-960x600-1.jpg
END:VEVENT
BEGIN:VEVENT
DTSTART;VALUE=DATE:20270306
DTEND;VALUE=DATE:20270307
DTSTAMP:20260419T152130
CREATED:20250110T123412Z
LAST-MODIFIED:20250110T123521Z
UID:10021530-1804291200-1804377599@chichesterbid.co.uk
SUMMARY:Craft Club at Jam Cafe
DESCRIPTION:Join Jam Cafe every Saturday for their weekly Craft Club. \nEach week they will be making a variety of crafts from painting to collage to badges\, the options are endless. \nThere are 2 drop in sessions – \n10:30am-12:00pm \n1:00pm-3:00pm \nCost – From £5.00\, depending on activity and you can book your space here.
URL:https://chichesterbid.co.uk/event/craft-club-at-jam-cafe/2027-03-06/
LOCATION:JAM Cafe\, 33 Southgate\, Chichester\, West Sussex\, PO19 1DP
CATEGORIES:Regular Events,Workshops
ATTACH;FMTTYPE=image/avif:https://chichesterbid.co.uk/wp-content/uploads/2025/01/2.avif
ORGANIZER;CN="JAM":MAILTO:info@creativebeatz.co.uk
END:VEVENT
BEGIN:VEVENT
DTSTART;VALUE=DATE:20270313
DTEND;VALUE=DATE:20270314
DTSTAMP:20260419T152130
CREATED:20250110T123412Z
LAST-MODIFIED:20250110T123521Z
UID:10021531-1804896000-1804982399@chichesterbid.co.uk
SUMMARY:Craft Club at Jam Cafe
DESCRIPTION:Join Jam Cafe every Saturday for their weekly Craft Club. \nEach week they will be making a variety of crafts from painting to collage to badges\, the options are endless. \nThere are 2 drop in sessions – \n10:30am-12:00pm \n1:00pm-3:00pm \nCost – From £5.00\, depending on activity and you can book your space here.
URL:https://chichesterbid.co.uk/event/craft-club-at-jam-cafe/2027-03-13/
LOCATION:JAM Cafe\, 33 Southgate\, Chichester\, West Sussex\, PO19 1DP
CATEGORIES:Regular Events,Workshops
ATTACH;FMTTYPE=image/avif:https://chichesterbid.co.uk/wp-content/uploads/2025/01/2.avif
ORGANIZER;CN="JAM":MAILTO:info@creativebeatz.co.uk
END:VEVENT
BEGIN:VEVENT
DTSTART;VALUE=DATE:20270320
DTEND;VALUE=DATE:20270321
DTSTAMP:20260419T152130
CREATED:20250110T123412Z
LAST-MODIFIED:20250110T123521Z
UID:10021532-1805500800-1805587199@chichesterbid.co.uk
SUMMARY:Craft Club at Jam Cafe
DESCRIPTION:Join Jam Cafe every Saturday for their weekly Craft Club. \nEach week they will be making a variety of crafts from painting to collage to badges\, the options are endless. \nThere are 2 drop in sessions – \n10:30am-12:00pm \n1:00pm-3:00pm \nCost – From £5.00\, depending on activity and you can book your space here.
URL:https://chichesterbid.co.uk/event/craft-club-at-jam-cafe/2027-03-20/
LOCATION:JAM Cafe\, 33 Southgate\, Chichester\, West Sussex\, PO19 1DP
CATEGORIES:Regular Events,Workshops
ATTACH;FMTTYPE=image/avif:https://chichesterbid.co.uk/wp-content/uploads/2025/01/2.avif
ORGANIZER;CN="JAM":MAILTO:info@creativebeatz.co.uk
END:VEVENT
BEGIN:VEVENT
DTSTART;VALUE=DATE:20270327
DTEND;VALUE=DATE:20270328
DTSTAMP:20260419T152130
CREATED:20250110T123412Z
LAST-MODIFIED:20250110T123521Z
UID:10021533-1806105600-1806191999@chichesterbid.co.uk
SUMMARY:Craft Club at Jam Cafe
DESCRIPTION:Join Jam Cafe every Saturday for their weekly Craft Club. \nEach week they will be making a variety of crafts from painting to collage to badges\, the options are endless. \nThere are 2 drop in sessions – \n10:30am-12:00pm \n1:00pm-3:00pm \nCost – From £5.00\, depending on activity and you can book your space here.
URL:https://chichesterbid.co.uk/event/craft-club-at-jam-cafe/2027-03-27/
LOCATION:JAM Cafe\, 33 Southgate\, Chichester\, West Sussex\, PO19 1DP
CATEGORIES:Regular Events,Workshops
ATTACH;FMTTYPE=image/avif:https://chichesterbid.co.uk/wp-content/uploads/2025/01/2.avif
ORGANIZER;CN="JAM":MAILTO:info@creativebeatz.co.uk
END:VEVENT
END:VCALENDAR