BEGIN:VCALENDAR
VERSION:2.0
PRODID:-//Chichester BID - ECPv6.15.20//NONSGML v1.0//EN
CALSCALE:GREGORIAN
METHOD:PUBLISH
X-ORIGINAL-URL:https://chichesterbid.co.uk
X-WR-CALDESC:Events for Chichester BID
REFRESH-INTERVAL;VALUE=DURATION:PT1H
X-Robots-Tag:noindex
X-PUBLISHED-TTL:PT1H
BEGIN:VTIMEZONE
TZID:UTC
BEGIN:STANDARD
TZOFFSETFROM:+0000
TZOFFSETTO:+0000
TZNAME:UTC
DTSTART:20240101T000000
END:STANDARD
END:VTIMEZONE
BEGIN:VEVENT
DTSTART;TZID=UTC:20250211T183000
DTEND;TZID=UTC:20250211T213000
DTSTAMP:20260420T215507
CREATED:20250115T105449Z
LAST-MODIFIED:20250115T105449Z
UID:10021686-1739298600-1739309400@chichesterbid.co.uk
SUMMARY:Paint and Sip - Rainbow Zebras at The Fountain
DESCRIPTION:Want something different from a night out? \nTry your hand at acrylic painting whilst enjoying a drink in the lovely Fountain Pub! \nAttendees will paint on a pre-drawn canvas guided by the instructor but with full creative freedom to make it their own! \nAny artistic ability welcome – I think you’ll be surprised at what you can achieve. \nYou’ll also get a drink included in the price to enjoy as you paint. \nThis time we’ll be painting a Rainbow Zebra canvas to live happily on your walls. \n\n\n\nInstructions\n\nPlease arrive 10 minutes before ticket time to arrange for drinks and to get settled in. \nAll materials are provided including an apron to protect clothes. \nThis workshop costs £30.00 and can be booked here.
URL:https://chichesterbid.co.uk/event/paint-and-sip-rainbow-zebras-at-the-fountain/
LOCATION:The Fountain\, 29 Southgate\, Chichester\, PO19 1ES
CATEGORIES:Workshops
ATTACH;FMTTYPE=image/jpeg:https://chichesterbid.co.uk/wp-content/uploads/2025/01/alt_ratio_16x9_1x_rainbow_zebras.jpg
ORGANIZER;CN="Creation Station":MAILTO:melprice@thecreationstation.co.uk
END:VEVENT
BEGIN:VEVENT
DTSTART;TZID=UTC:20250211T190000
DTEND;TZID=UTC:20250211T210000
DTSTAMP:20260420T215507
CREATED:20250110T103412Z
LAST-MODIFIED:20250110T103412Z
UID:10021119-1739300400-1739307600@chichesterbid.co.uk
SUMMARY:Clay Bird Sculptures Workshop - February Wild City Craft Club at The Duke & Rye
DESCRIPTION:Bird of a Feather\, Flock Together! Make your own hanging clay bird sculpture with us this February. All materials are provided\, and everyone is welcome. Discover the magic of play-based learning\, where nature and art come together in a relaxed\, people-focused environment. Refreshments are available from the bar thorughout the session and all Wild City customers get 20% off alcoholic and non-alcoholic drinks all night! \n \nVenue: The Duke & Rye\, West Street\, Chichester\, PO19 1QU \n \nJoin our monthly play based workshops to explore your creativity and get your imagination fired up! These sessions are suitable for complete beginners or more experienced artists looking to explore nature based art. Each month features a different theme with a variety of interesting materials for you to experiment with. Wild City aims to bring communities together\, providing a friendly atmosphere where you have the freedom and support to make something to be proud of.  \n  \nThis workshop costs £20 and can be booked here.
URL:https://chichesterbid.co.uk/event/clay-bird-sculptures-workshop-february-wild-city-craft-club-at-the-duke-rye/
LOCATION:The Duke & Rye\, West Street\, Chichester\, West Sussex\, PO19 1QU
CATEGORIES:Workshops
ATTACH;FMTTYPE=image/webp:https://chichesterbid.co.uk/wp-content/uploads/2025/01/eb8d24_8de23033f7284ab2b41128e031227566mv2.webp
END:VEVENT
END:VCALENDAR