BEGIN:VCALENDAR
VERSION:2.0
PRODID:-//Chichester BID - ECPv6.15.17.1//NONSGML v1.0//EN
CALSCALE:GREGORIAN
METHOD:PUBLISH
X-ORIGINAL-URL:https://chichesterbid.co.uk
X-WR-CALDESC:Events for Chichester BID
REFRESH-INTERVAL;VALUE=DURATION:PT1H
X-Robots-Tag:noindex
X-PUBLISHED-TTL:PT1H
BEGIN:VTIMEZONE
TZID:UTC
BEGIN:STANDARD
TZOFFSETFROM:+0000
TZOFFSETTO:+0000
TZNAME:UTC
DTSTART:20240101T000000
END:STANDARD
END:VTIMEZONE
BEGIN:VEVENT
DTSTART;VALUE=DATE:20250329
DTEND;VALUE=DATE:20250330
DTSTAMP:20260420T062450
CREATED:20250110T123412Z
LAST-MODIFIED:20250110T123521Z
UID:10021429-1743206400-1743292799@chichesterbid.co.uk
SUMMARY:Craft Club at Jam Cafe
DESCRIPTION:Join Jam Cafe every Saturday for their weekly Craft Club. \nEach week they will be making a variety of crafts from painting to collage to badges\, the options are endless. \nThere are 2 drop in sessions – \n10:30am-12:00pm \n1:00pm-3:00pm \nCost – From £5.00\, depending on activity and you can book your space here.
URL:https://chichesterbid.co.uk/event/craft-club-at-jam-cafe/2025-03-29/
LOCATION:JAM Cafe\, 33 Southgate\, Chichester\, West Sussex\, PO19 1DP
CATEGORIES:Regular Events,Workshops
ATTACH;FMTTYPE=image/avif:https://chichesterbid.co.uk/wp-content/uploads/2025/01/2.avif
ORGANIZER;CN="JAM":MAILTO:info@creativebeatz.co.uk
END:VEVENT
BEGIN:VEVENT
DTSTART;TZID=UTC:20250329T100000
DTEND;TZID=UTC:20250329T130000
DTSTAMP:20260420T062450
CREATED:20250122T142641Z
LAST-MODIFIED:20250122T142641Z
UID:10022239-1743242400-1743253200@chichesterbid.co.uk
SUMMARY:Paper Tapered Drum Lampshade Workshop at Clothkits
DESCRIPTION:Join us to learn how to create a beautiful tapered drum lampshade using hand-marbled paper\, papers from Japan and other exceptional papers. The workshop will be led by Jane Warren from The Lampshade Loft\, who will provide all the necessary supplies and guide you through the process. \nYou’ll have the opportunity to choose from a variety of papers and trims\, and Jane will teach you how to laminate the paper to create a panel and then hand-roll it onto a lampshade ring-set. In addition\, you’ll receive instructions on fixtures and fittings\, as well as guidance on creating different shapes and sizes. By the end of the workshop\, you’ll have the skills to make many more lampshades. \nPlease note that the lampshade you’ll be creating is a tapered/cone shape suitable for a desk or table lamp\, not for a ceiling or pendant fitting. It measures 25cm in diameter at the base ring and 15cm in diameter at the top ring. \nAbout your Teacher: \nJane Warren runs her small business The Lampshade Loft\, and has been teaching lampshade making for over ten years. She recently published her first book called The Complete Guide to Lampshade Making. \nMaterials: The materials for the lampshade will be available on the day. You will have a choice of hand-marbled\, Japanese\, or other decorative papers to choose from. The kit for the lampshade will cost £20\, and this payment should be made in cash to the tutor on the day. \nThe kit includes: \n\na sheet of paper of your choice\na pre-cut laminate panel\na lampshade ring set comprising of a base ring of 25cm and top ring of 15cm\na small roll of double sided tape\na choice of bias bindings to trim and complete the base and top of the lampshade\n\nClass Size: Maximum class size of 6. \n\nSkills: Ideal for complete beginners or those wanting to try something new. \nDuration: Half Day \nThis workshop costs £60 and can be booked here.
URL:https://chichesterbid.co.uk/event/paper-tapered-drum-lampshade-workshop-at-clothkits/
LOCATION:Clothkits\, 16 The Hornet\, Chichester\, PO19 7JG
CATEGORIES:Workshops
ATTACH;FMTTYPE=image/webp:https://chichesterbid.co.uk/wp-content/uploads/2025/01/lampshade-making-paper-tapered.webp
END:VEVENT
BEGIN:VEVENT
DTSTART;TZID=UTC:20250329T133000
DTEND;TZID=UTC:20250329T153000
DTSTAMP:20260420T062450
CREATED:20250226T132930Z
LAST-MODIFIED:20250327T115356Z
UID:10022267-1743255000-1743262200@chichesterbid.co.uk
SUMMARY:Make a family of Ceramic Easter Bunnies at Biscuit Pottery
DESCRIPTION:Come and enjoy making your own little family of ceramic Easter bunnies. \nWith have lots of coloured slips and underglazes to decorate them. \nYour finished artwork will be bisque fired before being dipped into a clear glaze and fired again. \nSuitable for 5 years and above. Price includes all materials\, glaze\, firing. \nYour family of bunnies will be ready collect from our studio in time for Easter. \nThis workshop costs £15pp and can be booked here.
URL:https://chichesterbid.co.uk/event/make-a-family-of-ceramic-easter-bunnies-at-biscuit-pottery/
LOCATION:Biscuit Pottery\, 16 The Hornet\, Drapers Yard\, Chichester\, West Sussex\, PO19 7JG
CATEGORIES:Family Friendly,Workshops
ATTACH;FMTTYPE=image/webp:https://chichesterbid.co.uk/wp-content/uploads/2025/02/s363607254581856669_p168_i1_w2547.webp
ORGANIZER;CN="Biscuit Pottery":MAILTO:info@biscuitpottery.co.uk
END:VEVENT
BEGIN:VEVENT
DTSTART;TZID=UTC:20250329T140000
DTEND;TZID=UTC:20250329T153000
DTSTAMP:20260420T062450
CREATED:20250226T142534Z
LAST-MODIFIED:20250226T142649Z
UID:10022272-1743256800-1743262200@chichesterbid.co.uk
SUMMARY:Moving Off The Mat: exploring Somatic Practice at Lano Yoga
DESCRIPTION:Join Alice for a movement exploration that will invite you to take your practice off the familiarity of your mat and open you up to the myriad of ways that our bodies have the potential to move. \nComing from an improvised dance background\, Alice will guide you through movement based tasks that will give you a framework within which you will explore your own individual movement. The aim of this workshop is to give you the confidence in moving freely in your body in a way that feels intuitive and playful. You will discover how somatic practices strengthen the connections between our body and mind and to invite us to lean deeply into the fun and curiosity that comes hand in hand with moving our bodies without boundaries. This is an opportunity to step out of our heads and into our bodies. \nNo previous movement experience needed. \nWhat to expect: \n30 minute yoga flow to warm up \nMind-body centring meditation \nGuided and free movement exploration \nJournalling \nTea and discussion. \n£20pp – Book here.
URL:https://chichesterbid.co.uk/event/moving-off-the-mat-exploring-somatic-practice-at-lano-yoga/
LOCATION:Lano Yoga\, 2nd Floor\, 1 Old Market Ave\, Chichester\, West Sussex\, PO19 1SP\, United Kingdom
CATEGORIES:Wellness,Workshops
ATTACH;FMTTYPE=image/png:https://chichesterbid.co.uk/wp-content/uploads/2025/02/303586511_508506767946398_2222817080802571921_n.png
END:VEVENT
BEGIN:VEVENT
DTSTART;TZID=UTC:20250329T140000
DTEND;TZID=UTC:20250329T170000
DTSTAMP:20260420T062450
CREATED:20250123T110109Z
LAST-MODIFIED:20250123T110109Z
UID:10022242-1743256800-1743267600@chichesterbid.co.uk
SUMMARY:Accordion Liberty Lawn Pleated Lampshade Workshop at Clothkits
DESCRIPTION:In this workshop\, run by Jane Warren of The Lampshade Loft\, you will learn all the skills needed to make accordion lampshades. Pleated to prefection these beauties are a classic from the 1970’s lighting scene\, but are currently enjoying a revival in modern interiors. Jane will guide you through each step and by the end of the session you will be able to go on to make more shades\, either professionally or for your own use. \nAbout your Teacher: \nJane Warren runs her small business The Lampshade Loft\, and has been teaching lampshade making for     over ten years. Her book The Complete Guide to Lampshade Making was published in 2024 (Crowood Press). \nMaterials: \nYou will need a minimum of 35cm of Liberty Lawn (available to purchase at Clothkits) for your shade. \nPlease note your lampshade will be suitable for lamp bases only (not for ceiling/pendants)\, and the completed size will be a small shade – however\, you will learn all the methods to make larger sizes of your choice. \nYou will also need to bring £12 for the special laminate which is paid directly to the tutor on the day. \nClass Size: \nMaximum class size of 6. \n\nSkills: \nIdeal for complete beginners\, or for those wanting to try something new. Accuracy and a steady hand are paramount! \nDuration: \nHalf Day \n\n\nThis workshop costs £60 and can be booked here.
URL:https://chichesterbid.co.uk/event/accordion-liberty-lawn-pleated-lampshade-workshop-at-clothkits/
LOCATION:Clothkits\, 16 The Hornet\, Chichester\, PO19 7JG
CATEGORIES:Workshops
ATTACH;FMTTYPE=image/webp:https://chichesterbid.co.uk/wp-content/uploads/2025/01/workshop-accordian-lampshade-2.webp
END:VEVENT
END:VCALENDAR