BEGIN:VCALENDAR
VERSION:2.0
PRODID:-//Chichester BID - ECPv6.15.17.1//NONSGML v1.0//EN
CALSCALE:GREGORIAN
METHOD:PUBLISH
X-WR-CALNAME:Chichester BID
X-ORIGINAL-URL:https://chichesterbid.co.uk
X-WR-CALDESC:Events for Chichester BID
REFRESH-INTERVAL;VALUE=DURATION:PT1H
X-Robots-Tag:noindex
X-PUBLISHED-TTL:PT1H
BEGIN:VTIMEZONE
TZID:UTC
BEGIN:STANDARD
TZOFFSETFROM:+0000
TZOFFSETTO:+0000
TZNAME:UTC
DTSTART:20240101T000000
END:STANDARD
END:VTIMEZONE
BEGIN:VEVENT
DTSTART;VALUE=DATE:20250412
DTEND;VALUE=DATE:20250413
DTSTAMP:20260419T184224
CREATED:20250110T123412Z
LAST-MODIFIED:20250110T123521Z
UID:10021431-1744416000-1744502399@chichesterbid.co.uk
SUMMARY:Craft Club at Jam Cafe
DESCRIPTION:Join Jam Cafe every Saturday for their weekly Craft Club. \nEach week they will be making a variety of crafts from painting to collage to badges\, the options are endless. \nThere are 2 drop in sessions – \n10:30am-12:00pm \n1:00pm-3:00pm \nCost – From £5.00\, depending on activity and you can book your space here.
URL:https://chichesterbid.co.uk/event/craft-club-at-jam-cafe/2025-04-12/
LOCATION:JAM Cafe\, 33 Southgate\, Chichester\, West Sussex\, PO19 1DP
CATEGORIES:Regular Events,Workshops
ATTACH;FMTTYPE=image/avif:https://chichesterbid.co.uk/wp-content/uploads/2025/01/2.avif
ORGANIZER;CN="JAM":MAILTO:info@creativebeatz.co.uk
END:VEVENT
BEGIN:VEVENT
DTSTART;TZID=UTC:20250412T100000
DTEND;TZID=UTC:20250412T130000
DTSTAMP:20260419T184224
CREATED:20250123T110432Z
LAST-MODIFIED:20250123T110432Z
UID:10022243-1744452000-1744462800@chichesterbid.co.uk
SUMMARY:Drum Lampshade Workshop at Clothkits
DESCRIPTION:Come and learn the art of making a drum lampshade in our studios with the lovely Jane. At the end of the half day session you will have a fine cylindrical lampshade ready to pop on a base or hang from the ceiling. \nAbout your Teacher:  \nJane Warren runs her small business The Lampshade Loft\, and has been teaching lampshade making for over ten years. Her book The Complete Guide to Lampshade Making was published in 2024 (Crowood Press). \nClass Size: \nMaximum class size of 6. \nSkills:\nIdeal for complete beginners\, or for those wanting to try something new. \nMaterials: \nYou will need half metre of suitable fabric to complete a 30cm shade. \nDuration: \nHalf Day \nThis workshop costs £75 and can be booked here.
URL:https://chichesterbid.co.uk/event/drum-lampshade-workshop-at-clothkits/
LOCATION:Clothkits\, 16 The Hornet\, Chichester\, PO19 7JG
CATEGORIES:Workshops
ATTACH;FMTTYPE=image/webp:https://chichesterbid.co.uk/wp-content/uploads/2025/01/clothkits-workshop-drum-lampshade.webp
END:VEVENT
BEGIN:VEVENT
DTSTART;TZID=UTC:20250412T133000
DTEND;TZID=UTC:20250412T160000
DTSTAMP:20260419T184224
CREATED:20250226T133328Z
LAST-MODIFIED:20250226T133328Z
UID:10022268-1744464600-1744473600@chichesterbid.co.uk
SUMMARY:Make a Ceramic Butter Dish Workshop at Biscuit Pottery
DESCRIPTION:Come and spend a lovely relaxing afternoon hand-handing your very own butter dish and lid. \nYou will roll out slabs of stoneware clay using a template and join using score and slip method. We have lots of stamps and textures to make butter dish really special. \nTea and coffee is provided or you are welcome to BYOB. \nYour finished artwork will be bisque fired before being dipped into a clear glaze and fired again. \nSuitable for adults and older children. Price includes all materials\, glaze\, firing.  \nYour finished artwork will be ready for collection from our studio in approximately 4 – 6 weeks. \nThis workshop costs £35 and can be booked here.
URL:https://chichesterbid.co.uk/event/make-a-ceramic-butter-dish-workshop-at-biscuit-pottery/
LOCATION:Biscuit Pottery\, 16 The Hornet\, Drapers Yard\, Chichester\, West Sussex\, PO19 7JG
CATEGORIES:Workshops
ATTACH;FMTTYPE=image/webp:https://chichesterbid.co.uk/wp-content/uploads/2025/02/s363607254581856669_p169_i1_w2827.webp
ORGANIZER;CN="Biscuit Pottery":MAILTO:info@biscuitpottery.co.uk
END:VEVENT
BEGIN:VEVENT
DTSTART;TZID=UTC:20250412T140000
DTEND;TZID=UTC:20250412T170000
DTSTAMP:20260419T184224
CREATED:20250123T114653Z
LAST-MODIFIED:20250123T114653Z
UID:10022247-1744466400-1744477200@chichesterbid.co.uk
SUMMARY:Liberty Fairy Light Garland Workshop at Clothkits
DESCRIPTION:Come and make these fabulous fairy lights with the lovely Jane. At the end of the half day session you will have a fine garland of Liberty print loveliness to jazz up your house! \nAbout your Teacher: \nJane Warren runs her small business The Lampshade Loft\, and has been teaching lampshade making for over ten years. Her book The Complete Guide to Lampshade Making was published in 2024 (Crowood Press). \nDuration: \nHalf day \nClass Size: \nMaximum class size of 10 \nSkills:\nIdeal for complete beginners\, or for those wanting to try something new. \nMaterials: \nIncluded. There will be a selection of Liberty fabrics and a variety of trims for you to choose from\, however you are welcome to bring your own choices. \nThis workshop costs £65 and can be booked here.
URL:https://chichesterbid.co.uk/event/liberty-fairy-light-garland-workshop-at-clothkits/
LOCATION:Clothkits\, 16 The Hornet\, Chichester\, PO19 7JG
CATEGORIES:Workshops
ATTACH;FMTTYPE=image/webp:https://chichesterbid.co.uk/wp-content/uploads/2025/01/clothkits-workshop-liberty-garland-lights-1.webp
END:VEVENT
END:VCALENDAR