BEGIN:VCALENDAR
VERSION:2.0
PRODID:-//Chichester BID - ECPv6.15.17.1//NONSGML v1.0//EN
CALSCALE:GREGORIAN
METHOD:PUBLISH
X-WR-CALNAME:Chichester BID
X-ORIGINAL-URL:https://chichesterbid.co.uk
X-WR-CALDESC:Events for Chichester BID
REFRESH-INTERVAL;VALUE=DURATION:PT1H
X-Robots-Tag:noindex
X-PUBLISHED-TTL:PT1H
BEGIN:VTIMEZONE
TZID:UTC
BEGIN:STANDARD
TZOFFSETFROM:+0000
TZOFFSETTO:+0000
TZNAME:UTC
DTSTART:20240101T000000
END:STANDARD
END:VTIMEZONE
BEGIN:VEVENT
DTSTART;TZID=UTC:20250515T173000
DTEND;TZID=UTC:20250515T200000
DTSTAMP:20260419T184346
CREATED:20250226T133851Z
LAST-MODIFIED:20250226T133851Z
UID:10022269-1747330200-1747339200@chichesterbid.co.uk
SUMMARY:Make a Ceramic Wall Planter Workshop at Biscuit Pottery
DESCRIPTION:Come and join us for a relaxing evening making something that is both functional and decorative for your garden. During this workshop you will be using Stoneware clay (This is fired to over 1200° which makes it frost proof) and use the technique of slab building to make a planter. \nThere will be a range of materials for you to add pattern and texture and we have slips and underglazes for you to decorate and add colour. Tea and coffee is provided or you are welcome to BYOB. \nSuitable for adults and older children. Price includes all materials\, glaze\, firing. \nYour Planter will be taken away\, dried\, bisque fired and then glazed and fired again ready for you to collect in approximately 4 weeks to 6 weeks \nThis workshop costs £35pp and can be booked here.
URL:https://chichesterbid.co.uk/event/make-a-ceramic-wall-planter-workshop-at-biscuit-pottery/
LOCATION:Biscuit Pottery\, 16 The Hornet\, Drapers Yard\, Chichester\, West Sussex\, PO19 7JG
CATEGORIES:Workshops
ATTACH;FMTTYPE=image/webp:https://chichesterbid.co.uk/wp-content/uploads/2025/02/s363607254581856669_p130_i1_w2526-scaled.webp
ORGANIZER;CN="Biscuit Pottery":MAILTO:info@biscuitpottery.co.uk
END:VEVENT
END:VCALENDAR