BEGIN:VCALENDAR
VERSION:2.0
PRODID:-//Chichester BID - ECPv6.15.17.1//NONSGML v1.0//EN
CALSCALE:GREGORIAN
METHOD:PUBLISH
X-ORIGINAL-URL:https://chichesterbid.co.uk
X-WR-CALDESC:Events for Chichester BID
REFRESH-INTERVAL;VALUE=DURATION:PT1H
X-Robots-Tag:noindex
X-PUBLISHED-TTL:PT1H
BEGIN:VTIMEZONE
TZID:UTC
BEGIN:STANDARD
TZOFFSETFROM:+0000
TZOFFSETTO:+0000
TZNAME:UTC
DTSTART:20240101T000000
END:STANDARD
END:VTIMEZONE
BEGIN:VEVENT
DTSTART;VALUE=DATE:20250607
DTEND;VALUE=DATE:20250608
DTSTAMP:20260419T184442
CREATED:20250110T123412Z
LAST-MODIFIED:20250110T123521Z
UID:10021439-1749254400-1749340799@chichesterbid.co.uk
SUMMARY:Craft Club at Jam Cafe
DESCRIPTION:Join Jam Cafe every Saturday for their weekly Craft Club. \nEach week they will be making a variety of crafts from painting to collage to badges\, the options are endless. \nThere are 2 drop in sessions – \n10:30am-12:00pm \n1:00pm-3:00pm \nCost – From £5.00\, depending on activity and you can book your space here.
URL:https://chichesterbid.co.uk/event/craft-club-at-jam-cafe/2025-06-07/
LOCATION:JAM Cafe\, 33 Southgate\, Chichester\, West Sussex\, PO19 1DP
CATEGORIES:Regular Events,Workshops
ATTACH;FMTTYPE=image/avif:https://chichesterbid.co.uk/wp-content/uploads/2025/01/2.avif
ORGANIZER;CN="JAM":MAILTO:info@creativebeatz.co.uk
END:VEVENT
BEGIN:VEVENT
DTSTART;TZID=UTC:20250607T100000
DTEND;TZID=UTC:20250607T130000
DTSTAMP:20260419T184442
CREATED:20250221T143353Z
LAST-MODIFIED:20250221T143447Z
UID:10022262-1749290400-1749301200@chichesterbid.co.uk
SUMMARY:Introduction to Kawandi Quilting at Clothkits
DESCRIPTION:Come and have a relaxing introduction to Kawandi quilting and make your own Kawandi sampler. You will learn a little about the history of Kawandi quiltmaking and then be shown the steps involved in creating your own unique piece. Have a rummage in your fabric scraps basket and bring a selection of your favourite scraps to turn into something fabulous! \nKawandi quilting is a mindful hand stitching technique that uses fabric scraps to create colourful mats and quilts. One unique aspect is that it is assembled from the outside\, which is very different from traditional quilting. \nAbout your Teacher: Originally from Scotland and growing up with one granny who was seamstress\, another granny an avid knitter and a mum with a fabric shop – Ailas was always going to have a love of crafts and creating\, which is handy as a primary school and specialist teacher. Alias loves textile crafts\, has taught workshops locally as well as in Scotland and Wales. \nClass Size: Maximum class size of 6 \nSkills: This course is for all abilities. \nCourse Duration: Half day \nThis workshop costs £60 and can be booked here.
URL:https://chichesterbid.co.uk/event/introduction-to-kawandi-quilting-at-clothkits/
LOCATION:Clothkits\, 16 The Hornet\, Chichester\, PO19 7JG
CATEGORIES:Workshops
ATTACH;FMTTYPE=image/webp:https://chichesterbid.co.uk/wp-content/uploads/2025/02/IMG_8510.webp
END:VEVENT
END:VCALENDAR