BEGIN:VCALENDAR
VERSION:2.0
PRODID:-//Chichester BID - ECPv6.15.17.1//NONSGML v1.0//EN
CALSCALE:GREGORIAN
METHOD:PUBLISH
X-WR-CALNAME:Chichester BID
X-ORIGINAL-URL:https://chichesterbid.co.uk
X-WR-CALDESC:Events for Chichester BID
REFRESH-INTERVAL;VALUE=DURATION:PT1H
X-Robots-Tag:noindex
X-PUBLISHED-TTL:PT1H
BEGIN:VTIMEZONE
TZID:UTC
BEGIN:STANDARD
TZOFFSETFROM:+0000
TZOFFSETTO:+0000
TZNAME:UTC
DTSTART:20240101T000000
END:STANDARD
END:VTIMEZONE
BEGIN:VEVENT
DTSTART;TZID=UTC:20250610T190000
DTEND;TZID=UTC:20250610T210000
DTSTAMP:20260419T152150
CREATED:20250110T104703Z
LAST-MODIFIED:20250110T110551Z
UID:10021127-1749582000-1749589200@chichesterbid.co.uk
SUMMARY:Oil Pastel Trees of Chichester Workshop - June Wild City Craft Club at The Duke & Rye
DESCRIPTION:Get to know the trees of Chichester this June\, using bright oil pastels and bold strokes to capture the beauty beneath the branches! All materials are provided\, and everyone is welcome. Discover the magic of play-based learning\, where nature and art come together in a relaxed\, people-focused environment. Refreshments are available from the bar throughout the session and all Wild City customers get 20% off alcoholic and non-alcoholic drinks all night! \n \nVenue: The Duke & Rye\, West Street\, Chichester\, PO19 1QU \n \nJoin our monthly play based workshops to explore your creativity and get your imagination fired up! These sessions are suitable for complete beginners or more experienced artists looking to explore nature based art. Each month features a different theme with a variety of interesting materials for you to experiment with. Wild City aims to bring communities together\, providing a friendly atmosphere where you have the freedom and support to make something to be proud of.  \nThis workshop costs £20 and can be booked here.
URL:https://chichesterbid.co.uk/event/oil-pastel-trees-of-chichester-workshop-june-wild-city-craft-club-at-the-duke-rye/
LOCATION:The Duke & Rye\, West Street\, Chichester\, West Sussex\, PO19 1QU
CATEGORIES:Workshops
ATTACH;FMTTYPE=image/webp:https://chichesterbid.co.uk/wp-content/uploads/2025/01/eb8d24_33f1a6ab39d045dd9bba047933f6630dmv2.webp
END:VEVENT
END:VCALENDAR