BEGIN:VCALENDAR
VERSION:2.0
PRODID:-//Chichester BID - ECPv6.15.17.1//NONSGML v1.0//EN
CALSCALE:GREGORIAN
METHOD:PUBLISH
X-WR-CALNAME:Chichester BID
X-ORIGINAL-URL:https://chichesterbid.co.uk
X-WR-CALDESC:Events for Chichester BID
REFRESH-INTERVAL;VALUE=DURATION:PT1H
X-Robots-Tag:noindex
X-PUBLISHED-TTL:PT1H
BEGIN:VTIMEZONE
TZID:UTC
BEGIN:STANDARD
TZOFFSETFROM:+0000
TZOFFSETTO:+0000
TZNAME:UTC
DTSTART:20240101T000000
END:STANDARD
END:VTIMEZONE
BEGIN:VEVENT
DTSTART;TZID=UTC:20250612T173000
DTEND;TZID=UTC:20250612T200000
DTSTAMP:20260420T062148
CREATED:20250327T122352Z
LAST-MODIFIED:20250327T122352Z
UID:10022605-1749749400-1749758400@chichesterbid.co.uk
SUMMARY:Tea-Light Mono printing Workshop at Biscuit Pottery
DESCRIPTION:Join us for a Tea-Light Mono printing Workshop where you’ll explore creative techniques\, create beautiful designs\, and gain hands-on experience in a professional setting. \nAfter hand-building two Tea-Lights using the slab method you will the use slips and underglazes to create your unique design onto paper and transfer your image onto the clay. \nThis workshop costs £35 and can be booked here.
URL:https://chichesterbid.co.uk/event/tea-light-mono-printing-workshop-at-biscuit-pottery/
LOCATION:Biscuit Pottery\, 16 The Hornet\, Drapers Yard\, Chichester\, West Sussex\, PO19 7JG
CATEGORIES:Workshops
ATTACH;FMTTYPE=image/webp:https://chichesterbid.co.uk/wp-content/uploads/2025/03/M65DYV6EVC6VDRB6ER3CTQJW.webp
ORGANIZER;CN="Biscuit Pottery":MAILTO:info@biscuitpottery.co.uk
END:VEVENT
END:VCALENDAR