BEGIN:VCALENDAR
VERSION:2.0
PRODID:-//Chichester BID - ECPv6.15.17.1//NONSGML v1.0//EN
CALSCALE:GREGORIAN
METHOD:PUBLISH
X-WR-CALNAME:Chichester BID
X-ORIGINAL-URL:https://chichesterbid.co.uk
X-WR-CALDESC:Events for Chichester BID
REFRESH-INTERVAL;VALUE=DURATION:PT1H
X-Robots-Tag:noindex
X-PUBLISHED-TTL:PT1H
BEGIN:VTIMEZONE
TZID:UTC
BEGIN:STANDARD
TZOFFSETFROM:+0000
TZOFFSETTO:+0000
TZNAME:UTC
DTSTART:20240101T000000
END:STANDARD
END:VTIMEZONE
BEGIN:VEVENT
DTSTART;VALUE=DATE:20250621
DTEND;VALUE=DATE:20250622
DTSTAMP:20260420T044804
CREATED:20250110T123412Z
LAST-MODIFIED:20250110T123521Z
UID:10021441-1750464000-1750550399@chichesterbid.co.uk
SUMMARY:Craft Club at Jam Cafe
DESCRIPTION:Join Jam Cafe every Saturday for their weekly Craft Club. \nEach week they will be making a variety of crafts from painting to collage to badges\, the options are endless. \nThere are 2 drop in sessions – \n10:30am-12:00pm \n1:00pm-3:00pm \nCost – From £5.00\, depending on activity and you can book your space here.
URL:https://chichesterbid.co.uk/event/craft-club-at-jam-cafe/2025-06-21/
LOCATION:JAM Cafe\, 33 Southgate\, Chichester\, West Sussex\, PO19 1DP
CATEGORIES:Regular Events,Workshops
ATTACH;FMTTYPE=image/avif:https://chichesterbid.co.uk/wp-content/uploads/2025/01/2.avif
ORGANIZER;CN="JAM":MAILTO:info@creativebeatz.co.uk
END:VEVENT
BEGIN:VEVENT
DTSTART;TZID=UTC:20250621T130000
DTEND;TZID=UTC:20250621T160000
DTSTAMP:20260420T044804
CREATED:20250226T134254Z
LAST-MODIFIED:20250226T134254Z
UID:10022270-1750510800-1750521600@chichesterbid.co.uk
SUMMARY:Hand-Build Berry Bowl & Plate Workshop at Biscuit Pottery
DESCRIPTION:Join us for a summer workshop thinking about salads and fruits from the garden. Using stoneware clay you will make a beautiful berry bowl and draining plate. Perfect for rinsing or serving salads and fruits at the table or BBQ. \nYour Berry bowl will be be bisque fired and dipped in your choice of smoke\, green tea or raspberry mist glaze but if you would like to be creative and decorate your own pot\, you can return for a 2 hour glazing session for an additional cost of £20 We have a wide range of brush on glazes that you can combine and explore. \nSuitable for adults and older children. Price includes all materials\, glaze\, firing and refreshments on the day. \nYour finished artwork will be ready for collection in approximately 4-8 weeks depending on our firing schedule. \nThis workshop costs £45 and can be booked here.
URL:https://chichesterbid.co.uk/event/hand-build-berry-bowl-plate-workshop-at-biscuit-pottery/
LOCATION:Biscuit Pottery\, 16 The Hornet\, Drapers Yard\, Chichester\, West Sussex\, PO19 7JG
CATEGORIES:Workshops
ATTACH;FMTTYPE=image/webp:https://chichesterbid.co.uk/wp-content/uploads/2025/02/s363607254581856669_p147_i4_w1440.webp
ORGANIZER;CN="Biscuit Pottery":MAILTO:info@biscuitpottery.co.uk
END:VEVENT
BEGIN:VEVENT
DTSTART;TZID=UTC:20250621T130000
DTEND;TZID=UTC:20250621T160000
DTSTAMP:20260420T044804
CREATED:20250424T103637Z
LAST-MODIFIED:20250424T103637Z
UID:10023881-1750510800-1750521600@chichesterbid.co.uk
SUMMARY:Monogram Embroidery Needle Case Workshop at Clothkits
DESCRIPTION:Stitch a monogrammed needle book during this fab new embroidery workshop with Sewyeah Social Club. Made with 100% wool felt\, this soft and stylish book doubles as a space to practice your embroidery stitches. \nIn this hands-on workshop\, Christine will introduce you to some of her favourite embroidery techniques\, guiding you through the process of creating beautiful embroidered badges. You’ll have the chance to design your own unique monogram or motif for the cover\, making your book truly personal. Then\, she’ll walk you through assembling the pages\, adding a sturdy cover\, and even incorporating a handy back pocket. \nWhether you’re a complete beginner or a seasoned stitcher\, this project is both fun and rewarding and an ideal way to showcase your creativity while keeping your sewing essentials in one charming place! \n\n\nAbout your Teacher: Christine Leech is the creative brains behind the brand Sewyeah designing joyful and colourful 100% wool felt embroidery kits. Christine learned embroidery from her Mum and Nan when she was very small\, winning first prize for ‘Best Hemmed Hankechief’ in the local horticultural show when she was just 5 years old! Since then her crafting career has seen her write 12 craft books on everything from pompoms to paper craft and of course embroidery\, appear as an expert on two Channel 4 craft series and launch a successful embroidery membership club.Class Size: Maximum of 10 \nSkills: Suitable for total beginners and those with stitching experience! \nMaterials: A choice of 100% wool felt\, embroidery threads and bead & sequin packs will be available for purchase on the day from your tutor. Allow a budget of around £10 to be paid in cash directly to the tutor. \nCourse Duration:  Half Day Session – 3 Hours \nThis workshop costs £60 and can be booked here.
URL:https://chichesterbid.co.uk/event/monogram-embroidery-needle-case-workshop-at-clothkits/
LOCATION:Clothkits\, 16 The Hornet\, Chichester\, PO19 7JG
CATEGORIES:Workshops
ATTACH;FMTTYPE=image/webp:https://chichesterbid.co.uk/wp-content/uploads/2025/04/CHRISTINE-LEECH-NEEDLEBOOK.webp
END:VEVENT
END:VCALENDAR