BEGIN:VCALENDAR
VERSION:2.0
PRODID:-//Chichester BID - ECPv6.15.17.1//NONSGML v1.0//EN
CALSCALE:GREGORIAN
METHOD:PUBLISH
X-WR-CALNAME:Chichester BID
X-ORIGINAL-URL:https://chichesterbid.co.uk
X-WR-CALDESC:Events for Chichester BID
REFRESH-INTERVAL;VALUE=DURATION:PT1H
X-Robots-Tag:noindex
X-PUBLISHED-TTL:PT1H
BEGIN:VTIMEZONE
TZID:UTC
BEGIN:STANDARD
TZOFFSETFROM:+0000
TZOFFSETTO:+0000
TZNAME:UTC
DTSTART:20240101T000000
END:STANDARD
END:VTIMEZONE
BEGIN:VEVENT
DTSTART;VALUE=DATE:20250726
DTEND;VALUE=DATE:20250727
DTSTAMP:20260420T062142
CREATED:20250110T123412Z
LAST-MODIFIED:20250110T123521Z
UID:10021446-1753488000-1753574399@chichesterbid.co.uk
SUMMARY:Craft Club at Jam Cafe
DESCRIPTION:Join Jam Cafe every Saturday for their weekly Craft Club. \nEach week they will be making a variety of crafts from painting to collage to badges\, the options are endless. \nThere are 2 drop in sessions – \n10:30am-12:00pm \n1:00pm-3:00pm \nCost – From £5.00\, depending on activity and you can book your space here.
URL:https://chichesterbid.co.uk/event/craft-club-at-jam-cafe/2025-07-26/
LOCATION:JAM Cafe\, 33 Southgate\, Chichester\, West Sussex\, PO19 1DP
CATEGORIES:Regular Events,Workshops
ATTACH;FMTTYPE=image/avif:https://chichesterbid.co.uk/wp-content/uploads/2025/01/2.avif
ORGANIZER;CN="JAM":MAILTO:info@creativebeatz.co.uk
END:VEVENT
BEGIN:VEVENT
DTSTART;TZID=UTC:20250726T160000
DTEND;TZID=UTC:20250726T160000
DTSTAMP:20260420T062142
CREATED:20250115T134209Z
LAST-MODIFIED:20250115T134209Z
UID:10021703-1753545600-1753545600@chichesterbid.co.uk
SUMMARY:Paper Sunflower Workshop at Jam Cafe
DESCRIPTION:Join Clare of Petal & Bird for a couple of hours paper creativity and learn to make your own paper sunflower. \nClare will take you through the process step by step\, no previous experience is required \n\nWorkshop starts at 4pm and runs for approximately 2 hours\nMaterials provided\n£35 per person\n\nWorkshop takes place upstairs in Jam cafe\, 33 Southgate\, Chichester\, PO19 1DP.\nRefreshments will be available to purchase. \nBook your place here.
URL:https://chichesterbid.co.uk/event/paper-sunflower-workshop-at-jam-cafe/
LOCATION:JAM Cafe\, 33 Southgate\, Chichester\, West Sussex\, PO19 1DP
CATEGORIES:Workshops
ATTACH;FMTTYPE=image/png:https://chichesterbid.co.uk/wp-content/uploads/2025/01/sunflower-Workshop-Jam-2025.png
END:VEVENT
END:VCALENDAR