BEGIN:VCALENDAR
VERSION:2.0
PRODID:-//Chichester BID - ECPv6.15.20//NONSGML v1.0//EN
CALSCALE:GREGORIAN
METHOD:PUBLISH
X-ORIGINAL-URL:https://chichesterbid.co.uk
X-WR-CALDESC:Events for Chichester BID
REFRESH-INTERVAL;VALUE=DURATION:PT1H
X-Robots-Tag:noindex
X-PUBLISHED-TTL:PT1H
BEGIN:VTIMEZONE
TZID:UTC
BEGIN:STANDARD
TZOFFSETFROM:+0000
TZOFFSETTO:+0000
TZNAME:UTC
DTSTART:20220101T000000
END:STANDARD
END:VTIMEZONE
BEGIN:VEVENT
DTSTART;TZID=UTC:20231014T090000
DTEND;TZID=UTC:20231014T160000
DTSTAMP:20260423T004126
CREATED:20230803T091645Z
LAST-MODIFIED:20230803T091645Z
UID:10004438-1697274000-1697299200@chichesterbid.co.uk
SUMMARY:Board Games for Families at Chichester Library
DESCRIPTION:Drop in to play board games with other families every 2nd and 4th Saturday of the month\, 9.00am-4.00pm. \nPlease contact Chichester Library for more details.
URL:https://chichesterbid.co.uk/event/board-games-for-families-at-chichester-library/2023-10-14/
LOCATION:Chichester Library\, Tower Street\, Chichester\, West Sussex\, PO191QJ
ATTACH;FMTTYPE=image/jpeg:https://chichesterbid.co.uk/wp-content/uploads/2023/08/Board-Games.jpg
END:VEVENT
BEGIN:VEVENT
DTSTART;TZID=UTC:20231026T200000
DTEND;TZID=UTC:20231026T200000
DTSTAMP:20260423T004126
CREATED:20230706T090709Z
LAST-MODIFIED:20230706T090709Z
UID:10004363-1698350400-1698350400@chichesterbid.co.uk
SUMMARY:Open Mic at The Escapist
DESCRIPTION:Join The Escapist for their Open Mic with Chris Simmons \nAll singers and players welcome\, good vibes only!\nStarts at 8pm every last Thursday of the month!
URL:https://chichesterbid.co.uk/event/open-mic-at-the-escapist/2023-10-26/
LOCATION:The Escapist\, 9 Crane Street\, Chichester\, PO19 1LJ
ATTACH;FMTTYPE=image/jpeg:https://chichesterbid.co.uk/wp-content/uploads/2023/07/FB_IMG_1688633602431.jpg
END:VEVENT
BEGIN:VEVENT
DTSTART;TZID=UTC:20231028T090000
DTEND;TZID=UTC:20231028T160000
DTSTAMP:20260423T004126
CREATED:20230803T091739Z
LAST-MODIFIED:20240126T133225Z
UID:10004558-1698483600-1698508800@chichesterbid.co.uk
SUMMARY:Board Games for Families at Chichester Library
DESCRIPTION:Drop in to play board games with other families every 2nd and 4th Saturday of the month\, 9.00am-4.00pm. \nPlease contact Chichester Library for more details.
URL:https://chichesterbid.co.uk/event/board-games-for-families-at-chichester-library-2/2023-10-28/
LOCATION:Chichester Library\, Tower Street\, Chichester\, West Sussex\, PO191QJ
CATEGORIES:Family Friendly
ATTACH;FMTTYPE=image/jpeg:https://chichesterbid.co.uk/wp-content/uploads/2023/08/Board-Games.jpg
END:VEVENT
BEGIN:VEVENT
DTSTART;TZID=UTC:20231030T193000
DTEND;TZID=UTC:20231030T193000
DTSTAMP:20260423T004126
CREATED:20231027T115511Z
LAST-MODIFIED:20240426T140047Z
UID:10012743-1698694200-1698694200@chichesterbid.co.uk
SUMMARY:QuizSing at The Chantry
DESCRIPTION:Join The Chantry every Monday from 7:30-9:30 for their quiz which then goes straight into karaoke till midnight!
URL:https://chichesterbid.co.uk/event/quiz-night-at-the-chantry/2023-10-30/
LOCATION:The Chantry\, 27-28 South Street\, Chichester\, West Sussex\, PO19 1ES
CATEGORIES:Alive after Five
ATTACH;FMTTYPE=image/jpeg:https://chichesterbid.co.uk/wp-content/uploads/2023/10/438670575_7491338324313177_4849260973365154993_n.jpg
END:VEVENT
END:VCALENDAR