BEGIN:VCALENDAR
VERSION:2.0
PRODID:-//Chichester BID - ECPv6.15.20//NONSGML v1.0//EN
CALSCALE:GREGORIAN
METHOD:PUBLISH
X-WR-CALNAME:Chichester BID
X-ORIGINAL-URL:https://chichesterbid.co.uk
X-WR-CALDESC:Events for Chichester BID
REFRESH-INTERVAL;VALUE=DURATION:PT1H
X-Robots-Tag:noindex
X-PUBLISHED-TTL:PT1H
BEGIN:VTIMEZONE
TZID:UTC
BEGIN:STANDARD
TZOFFSETFROM:+0000
TZOFFSETTO:+0000
TZNAME:UTC
DTSTART:20250101T000000
END:STANDARD
END:VTIMEZONE
BEGIN:VEVENT
DTSTART;TZID=UTC:20260501T090000
DTEND;TZID=UTC:20260501T140000
DTSTAMP:20260426T025718
CREATED:20231110T150026Z
LAST-MODIFIED:20251216T125053Z
UID:10006056-1777626000-1777644000@chichesterbid.co.uk
SUMMARY:Farmers Market
DESCRIPTION:Chichester District first Farmers’ Market was held in 1998. They have been held regularly every month since then\, growing in size and frequency over time. The market is held in East & North Street on the 1st and 3rd Friday of each Month.
URL:https://chichesterbid.co.uk/event/farmers-market-16/2026-05-01/
LOCATION:Chichester City Centre
ATTACH;FMTTYPE=image/jpeg:https://chichesterbid.co.uk/wp-content/uploads/2023/04/farmers-market.jpg
END:VEVENT
BEGIN:VEVENT
DTSTART;TZID=UTC:20260515T090000
DTEND;TZID=UTC:20260515T140000
DTSTAMP:20260426T025718
CREATED:20230412T105426Z
LAST-MODIFIED:20240730T134425Z
UID:10005937-1778835600-1778853600@chichesterbid.co.uk
SUMMARY:Farmers Market
DESCRIPTION:Chichester District first Farmers’ Market was held in 1998. They have been held regularly every month since then\, growing in size and frequency over time. The market is held in East & North Street on the 1st and 3rd Friday of each Month.
URL:https://chichesterbid.co.uk/event/farmers-market-15/2026-05-15/
LOCATION:Chichester City Centre
ATTACH;FMTTYPE=image/jpeg:https://chichesterbid.co.uk/wp-content/uploads/2023/04/farmers-market.jpg
END:VEVENT
BEGIN:VEVENT
DTSTART;TZID=UTC:20260605T090000
DTEND;TZID=UTC:20260605T140000
DTSTAMP:20260426T025718
CREATED:20231110T150026Z
LAST-MODIFIED:20251216T125053Z
UID:10006057-1780650000-1780668000@chichesterbid.co.uk
SUMMARY:Farmers Market
DESCRIPTION:Chichester District first Farmers’ Market was held in 1998. They have been held regularly every month since then\, growing in size and frequency over time. The market is held in East & North Street on the 1st and 3rd Friday of each Month.
URL:https://chichesterbid.co.uk/event/farmers-market-16/2026-06-05/
LOCATION:Chichester City Centre
ATTACH;FMTTYPE=image/jpeg:https://chichesterbid.co.uk/wp-content/uploads/2023/04/farmers-market.jpg
END:VEVENT
BEGIN:VEVENT
DTSTART;TZID=UTC:20260619T090000
DTEND;TZID=UTC:20260619T140000
DTSTAMP:20260426T025718
CREATED:20230412T105426Z
LAST-MODIFIED:20240730T134425Z
UID:10005938-1781859600-1781877600@chichesterbid.co.uk
SUMMARY:Farmers Market
DESCRIPTION:Chichester District first Farmers’ Market was held in 1998. They have been held regularly every month since then\, growing in size and frequency over time. The market is held in East & North Street on the 1st and 3rd Friday of each Month.
URL:https://chichesterbid.co.uk/event/farmers-market-15/2026-06-19/
LOCATION:Chichester City Centre
ATTACH;FMTTYPE=image/jpeg:https://chichesterbid.co.uk/wp-content/uploads/2023/04/farmers-market.jpg
END:VEVENT
BEGIN:VEVENT
DTSTART;TZID=UTC:20260703T090000
DTEND;TZID=UTC:20260703T140000
DTSTAMP:20260426T025718
CREATED:20231110T150026Z
LAST-MODIFIED:20251216T125053Z
UID:10006058-1783069200-1783087200@chichesterbid.co.uk
SUMMARY:Farmers Market
DESCRIPTION:Chichester District first Farmers’ Market was held in 1998. They have been held regularly every month since then\, growing in size and frequency over time. The market is held in East & North Street on the 1st and 3rd Friday of each Month.
URL:https://chichesterbid.co.uk/event/farmers-market-16/2026-07-03/
LOCATION:Chichester City Centre
ATTACH;FMTTYPE=image/jpeg:https://chichesterbid.co.uk/wp-content/uploads/2023/04/farmers-market.jpg
END:VEVENT
BEGIN:VEVENT
DTSTART;TZID=UTC:20260717T090000
DTEND;TZID=UTC:20260717T140000
DTSTAMP:20260426T025718
CREATED:20230412T105426Z
LAST-MODIFIED:20240730T134425Z
UID:10005939-1784278800-1784296800@chichesterbid.co.uk
SUMMARY:Farmers Market
DESCRIPTION:Chichester District first Farmers’ Market was held in 1998. They have been held regularly every month since then\, growing in size and frequency over time. The market is held in East & North Street on the 1st and 3rd Friday of each Month.
URL:https://chichesterbid.co.uk/event/farmers-market-15/2026-07-17/
LOCATION:Chichester City Centre
ATTACH;FMTTYPE=image/jpeg:https://chichesterbid.co.uk/wp-content/uploads/2023/04/farmers-market.jpg
END:VEVENT
BEGIN:VEVENT
DTSTART;TZID=UTC:20260807T090000
DTEND;TZID=UTC:20260807T140000
DTSTAMP:20260426T025718
CREATED:20231110T150026Z
LAST-MODIFIED:20251216T125053Z
UID:10006059-1786093200-1786111200@chichesterbid.co.uk
SUMMARY:Farmers Market
DESCRIPTION:Chichester District first Farmers’ Market was held in 1998. They have been held regularly every month since then\, growing in size and frequency over time. The market is held in East & North Street on the 1st and 3rd Friday of each Month.
URL:https://chichesterbid.co.uk/event/farmers-market-16/2026-08-07/
LOCATION:Chichester City Centre
ATTACH;FMTTYPE=image/jpeg:https://chichesterbid.co.uk/wp-content/uploads/2023/04/farmers-market.jpg
END:VEVENT
BEGIN:VEVENT
DTSTART;TZID=UTC:20260821T090000
DTEND;TZID=UTC:20260821T140000
DTSTAMP:20260426T025718
CREATED:20230412T105426Z
LAST-MODIFIED:20240730T134425Z
UID:10005940-1787302800-1787320800@chichesterbid.co.uk
SUMMARY:Farmers Market
DESCRIPTION:Chichester District first Farmers’ Market was held in 1998. They have been held regularly every month since then\, growing in size and frequency over time. The market is held in East & North Street on the 1st and 3rd Friday of each Month.
URL:https://chichesterbid.co.uk/event/farmers-market-15/2026-08-21/
LOCATION:Chichester City Centre
ATTACH;FMTTYPE=image/jpeg:https://chichesterbid.co.uk/wp-content/uploads/2023/04/farmers-market.jpg
END:VEVENT
BEGIN:VEVENT
DTSTART;TZID=UTC:20260904T090000
DTEND;TZID=UTC:20260904T140000
DTSTAMP:20260426T025718
CREATED:20231110T150026Z
LAST-MODIFIED:20251216T125053Z
UID:10006060-1788512400-1788530400@chichesterbid.co.uk
SUMMARY:Farmers Market
DESCRIPTION:Chichester District first Farmers’ Market was held in 1998. They have been held regularly every month since then\, growing in size and frequency over time. The market is held in East & North Street on the 1st and 3rd Friday of each Month.
URL:https://chichesterbid.co.uk/event/farmers-market-16/2026-09-04/
LOCATION:Chichester City Centre
ATTACH;FMTTYPE=image/jpeg:https://chichesterbid.co.uk/wp-content/uploads/2023/04/farmers-market.jpg
END:VEVENT
BEGIN:VEVENT
DTSTART;TZID=UTC:20260918T090000
DTEND;TZID=UTC:20260918T140000
DTSTAMP:20260426T025718
CREATED:20230412T105426Z
LAST-MODIFIED:20240730T134425Z
UID:10005941-1789722000-1789740000@chichesterbid.co.uk
SUMMARY:Farmers Market
DESCRIPTION:Chichester District first Farmers’ Market was held in 1998. They have been held regularly every month since then\, growing in size and frequency over time. The market is held in East & North Street on the 1st and 3rd Friday of each Month.
URL:https://chichesterbid.co.uk/event/farmers-market-15/2026-09-18/
LOCATION:Chichester City Centre
ATTACH;FMTTYPE=image/jpeg:https://chichesterbid.co.uk/wp-content/uploads/2023/04/farmers-market.jpg
END:VEVENT
BEGIN:VEVENT
DTSTART;TZID=UTC:20261002T090000
DTEND;TZID=UTC:20261002T140000
DTSTAMP:20260426T025718
CREATED:20231110T150026Z
LAST-MODIFIED:20251216T125053Z
UID:10006061-1790931600-1790949600@chichesterbid.co.uk
SUMMARY:Farmers Market
DESCRIPTION:Chichester District first Farmers’ Market was held in 1998. They have been held regularly every month since then\, growing in size and frequency over time. The market is held in East & North Street on the 1st and 3rd Friday of each Month.
URL:https://chichesterbid.co.uk/event/farmers-market-16/2026-10-02/
LOCATION:Chichester City Centre
ATTACH;FMTTYPE=image/jpeg:https://chichesterbid.co.uk/wp-content/uploads/2023/04/farmers-market.jpg
END:VEVENT
BEGIN:VEVENT
DTSTART;TZID=UTC:20261016T090000
DTEND;TZID=UTC:20261016T140000
DTSTAMP:20260426T025718
CREATED:20230412T105426Z
LAST-MODIFIED:20240730T134425Z
UID:10005942-1792141200-1792159200@chichesterbid.co.uk
SUMMARY:Farmers Market
DESCRIPTION:Chichester District first Farmers’ Market was held in 1998. They have been held regularly every month since then\, growing in size and frequency over time. The market is held in East & North Street on the 1st and 3rd Friday of each Month.
URL:https://chichesterbid.co.uk/event/farmers-market-15/2026-10-16/
LOCATION:Chichester City Centre
ATTACH;FMTTYPE=image/jpeg:https://chichesterbid.co.uk/wp-content/uploads/2023/04/farmers-market.jpg
END:VEVENT
BEGIN:VEVENT
DTSTART;TZID=UTC:20261106T090000
DTEND;TZID=UTC:20261106T140000
DTSTAMP:20260426T025718
CREATED:20231110T150026Z
LAST-MODIFIED:20251216T125053Z
UID:10006062-1793955600-1793973600@chichesterbid.co.uk
SUMMARY:Farmers Market
DESCRIPTION:Chichester District first Farmers’ Market was held in 1998. They have been held regularly every month since then\, growing in size and frequency over time. The market is held in East & North Street on the 1st and 3rd Friday of each Month.
URL:https://chichesterbid.co.uk/event/farmers-market-16/2026-11-06/
LOCATION:Chichester City Centre
ATTACH;FMTTYPE=image/jpeg:https://chichesterbid.co.uk/wp-content/uploads/2023/04/farmers-market.jpg
END:VEVENT
BEGIN:VEVENT
DTSTART;TZID=UTC:20261120T090000
DTEND;TZID=UTC:20261120T140000
DTSTAMP:20260426T025718
CREATED:20230412T105426Z
LAST-MODIFIED:20240730T134425Z
UID:10005943-1795165200-1795183200@chichesterbid.co.uk
SUMMARY:Farmers Market
DESCRIPTION:Chichester District first Farmers’ Market was held in 1998. They have been held regularly every month since then\, growing in size and frequency over time. The market is held in East & North Street on the 1st and 3rd Friday of each Month.
URL:https://chichesterbid.co.uk/event/farmers-market-15/2026-11-20/
LOCATION:Chichester City Centre
ATTACH;FMTTYPE=image/jpeg:https://chichesterbid.co.uk/wp-content/uploads/2023/04/farmers-market.jpg
END:VEVENT
BEGIN:VEVENT
DTSTART;TZID=UTC:20261204T090000
DTEND;TZID=UTC:20261204T140000
DTSTAMP:20260426T025718
CREATED:20231110T150026Z
LAST-MODIFIED:20251216T125053Z
UID:10006063-1796374800-1796392800@chichesterbid.co.uk
SUMMARY:Farmers Market
DESCRIPTION:Chichester District first Farmers’ Market was held in 1998. They have been held regularly every month since then\, growing in size and frequency over time. The market is held in East & North Street on the 1st and 3rd Friday of each Month.
URL:https://chichesterbid.co.uk/event/farmers-market-16/2026-12-04/
LOCATION:Chichester City Centre
ATTACH;FMTTYPE=image/jpeg:https://chichesterbid.co.uk/wp-content/uploads/2023/04/farmers-market.jpg
END:VEVENT
BEGIN:VEVENT
DTSTART;TZID=UTC:20261218T090000
DTEND;TZID=UTC:20261218T140000
DTSTAMP:20260426T025718
CREATED:20230412T105426Z
LAST-MODIFIED:20240730T134425Z
UID:10005944-1797584400-1797602400@chichesterbid.co.uk
SUMMARY:Farmers Market
DESCRIPTION:Chichester District first Farmers’ Market was held in 1998. They have been held regularly every month since then\, growing in size and frequency over time. The market is held in East & North Street on the 1st and 3rd Friday of each Month.
URL:https://chichesterbid.co.uk/event/farmers-market-15/2026-12-18/
LOCATION:Chichester City Centre
ATTACH;FMTTYPE=image/jpeg:https://chichesterbid.co.uk/wp-content/uploads/2023/04/farmers-market.jpg
END:VEVENT
BEGIN:VEVENT
DTSTART;TZID=UTC:20270101T090000
DTEND;TZID=UTC:20270101T140000
DTSTAMP:20260426T025718
CREATED:20231110T150026Z
LAST-MODIFIED:20251216T125053Z
UID:10006064-1798794000-1798812000@chichesterbid.co.uk
SUMMARY:Farmers Market
DESCRIPTION:Chichester District first Farmers’ Market was held in 1998. They have been held regularly every month since then\, growing in size and frequency over time. The market is held in East & North Street on the 1st and 3rd Friday of each Month.
URL:https://chichesterbid.co.uk/event/farmers-market-16/2027-01-01/
LOCATION:Chichester City Centre
ATTACH;FMTTYPE=image/jpeg:https://chichesterbid.co.uk/wp-content/uploads/2023/04/farmers-market.jpg
END:VEVENT
BEGIN:VEVENT
DTSTART;TZID=UTC:20270115T090000
DTEND;TZID=UTC:20270115T140000
DTSTAMP:20260426T025718
CREATED:20230412T105426Z
LAST-MODIFIED:20240730T134425Z
UID:10005945-1800003600-1800021600@chichesterbid.co.uk
SUMMARY:Farmers Market
DESCRIPTION:Chichester District first Farmers’ Market was held in 1998. They have been held regularly every month since then\, growing in size and frequency over time. The market is held in East & North Street on the 1st and 3rd Friday of each Month.
URL:https://chichesterbid.co.uk/event/farmers-market-15/2027-01-15/
LOCATION:Chichester City Centre
ATTACH;FMTTYPE=image/jpeg:https://chichesterbid.co.uk/wp-content/uploads/2023/04/farmers-market.jpg
END:VEVENT
BEGIN:VEVENT
DTSTART;TZID=UTC:20270205T090000
DTEND;TZID=UTC:20270205T140000
DTSTAMP:20260426T025718
CREATED:20231110T150026Z
LAST-MODIFIED:20251216T125053Z
UID:10006065-1801818000-1801836000@chichesterbid.co.uk
SUMMARY:Farmers Market
DESCRIPTION:Chichester District first Farmers’ Market was held in 1998. They have been held regularly every month since then\, growing in size and frequency over time. The market is held in East & North Street on the 1st and 3rd Friday of each Month.
URL:https://chichesterbid.co.uk/event/farmers-market-16/2027-02-05/
LOCATION:Chichester City Centre
ATTACH;FMTTYPE=image/jpeg:https://chichesterbid.co.uk/wp-content/uploads/2023/04/farmers-market.jpg
END:VEVENT
BEGIN:VEVENT
DTSTART;TZID=UTC:20270219T090000
DTEND;TZID=UTC:20270219T140000
DTSTAMP:20260426T025718
CREATED:20230412T105426Z
LAST-MODIFIED:20240730T134425Z
UID:10005946-1803027600-1803045600@chichesterbid.co.uk
SUMMARY:Farmers Market
DESCRIPTION:Chichester District first Farmers’ Market was held in 1998. They have been held regularly every month since then\, growing in size and frequency over time. The market is held in East & North Street on the 1st and 3rd Friday of each Month.
URL:https://chichesterbid.co.uk/event/farmers-market-15/2027-02-19/
LOCATION:Chichester City Centre
ATTACH;FMTTYPE=image/jpeg:https://chichesterbid.co.uk/wp-content/uploads/2023/04/farmers-market.jpg
END:VEVENT
BEGIN:VEVENT
DTSTART;TZID=UTC:20270305T090000
DTEND;TZID=UTC:20270305T140000
DTSTAMP:20260426T025718
CREATED:20231110T150026Z
LAST-MODIFIED:20251216T125053Z
UID:10006066-1804237200-1804255200@chichesterbid.co.uk
SUMMARY:Farmers Market
DESCRIPTION:Chichester District first Farmers’ Market was held in 1998. They have been held regularly every month since then\, growing in size and frequency over time. The market is held in East & North Street on the 1st and 3rd Friday of each Month.
URL:https://chichesterbid.co.uk/event/farmers-market-16/2027-03-05/
LOCATION:Chichester City Centre
ATTACH;FMTTYPE=image/jpeg:https://chichesterbid.co.uk/wp-content/uploads/2023/04/farmers-market.jpg
END:VEVENT
BEGIN:VEVENT
DTSTART;TZID=UTC:20270319T090000
DTEND;TZID=UTC:20270319T140000
DTSTAMP:20260426T025718
CREATED:20230412T105426Z
LAST-MODIFIED:20240730T134425Z
UID:10005947-1805446800-1805464800@chichesterbid.co.uk
SUMMARY:Farmers Market
DESCRIPTION:Chichester District first Farmers’ Market was held in 1998. They have been held regularly every month since then\, growing in size and frequency over time. The market is held in East & North Street on the 1st and 3rd Friday of each Month.
URL:https://chichesterbid.co.uk/event/farmers-market-15/2027-03-19/
LOCATION:Chichester City Centre
ATTACH;FMTTYPE=image/jpeg:https://chichesterbid.co.uk/wp-content/uploads/2023/04/farmers-market.jpg
END:VEVENT
BEGIN:VEVENT
DTSTART;TZID=UTC:20270402T090000
DTEND;TZID=UTC:20270402T140000
DTSTAMP:20260426T025718
CREATED:20231110T150026Z
LAST-MODIFIED:20251216T125053Z
UID:10006067-1806656400-1806674400@chichesterbid.co.uk
SUMMARY:Farmers Market
DESCRIPTION:Chichester District first Farmers’ Market was held in 1998. They have been held regularly every month since then\, growing in size and frequency over time. The market is held in East & North Street on the 1st and 3rd Friday of each Month.
URL:https://chichesterbid.co.uk/event/farmers-market-16/2027-04-02/
LOCATION:Chichester City Centre
ATTACH;FMTTYPE=image/jpeg:https://chichesterbid.co.uk/wp-content/uploads/2023/04/farmers-market.jpg
END:VEVENT
BEGIN:VEVENT
DTSTART;TZID=UTC:20270416T090000
DTEND;TZID=UTC:20270416T140000
DTSTAMP:20260426T025718
CREATED:20230412T105426Z
LAST-MODIFIED:20240730T134425Z
UID:10005948-1807866000-1807884000@chichesterbid.co.uk
SUMMARY:Farmers Market
DESCRIPTION:Chichester District first Farmers’ Market was held in 1998. They have been held regularly every month since then\, growing in size and frequency over time. The market is held in East & North Street on the 1st and 3rd Friday of each Month.
URL:https://chichesterbid.co.uk/event/farmers-market-15/2027-04-16/
LOCATION:Chichester City Centre
ATTACH;FMTTYPE=image/jpeg:https://chichesterbid.co.uk/wp-content/uploads/2023/04/farmers-market.jpg
END:VEVENT
BEGIN:VEVENT
DTSTART;TZID=UTC:20270507T090000
DTEND;TZID=UTC:20270507T140000
DTSTAMP:20260426T025718
CREATED:20231110T150026Z
LAST-MODIFIED:20251216T125053Z
UID:10006068-1809680400-1809698400@chichesterbid.co.uk
SUMMARY:Farmers Market
DESCRIPTION:Chichester District first Farmers’ Market was held in 1998. They have been held regularly every month since then\, growing in size and frequency over time. The market is held in East & North Street on the 1st and 3rd Friday of each Month.
URL:https://chichesterbid.co.uk/event/farmers-market-16/2027-05-07/
LOCATION:Chichester City Centre
ATTACH;FMTTYPE=image/jpeg:https://chichesterbid.co.uk/wp-content/uploads/2023/04/farmers-market.jpg
END:VEVENT
BEGIN:VEVENT
DTSTART;TZID=UTC:20270521T090000
DTEND;TZID=UTC:20270521T140000
DTSTAMP:20260426T025719
CREATED:20230412T105426Z
LAST-MODIFIED:20240730T134425Z
UID:10005949-1810890000-1810908000@chichesterbid.co.uk
SUMMARY:Farmers Market
DESCRIPTION:Chichester District first Farmers’ Market was held in 1998. They have been held regularly every month since then\, growing in size and frequency over time. The market is held in East & North Street on the 1st and 3rd Friday of each Month.
URL:https://chichesterbid.co.uk/event/farmers-market-15/2027-05-21/
LOCATION:Chichester City Centre
ATTACH;FMTTYPE=image/jpeg:https://chichesterbid.co.uk/wp-content/uploads/2023/04/farmers-market.jpg
END:VEVENT
BEGIN:VEVENT
DTSTART;TZID=UTC:20270604T090000
DTEND;TZID=UTC:20270604T140000
DTSTAMP:20260426T025719
CREATED:20231110T150026Z
LAST-MODIFIED:20251216T125053Z
UID:10006069-1812099600-1812117600@chichesterbid.co.uk
SUMMARY:Farmers Market
DESCRIPTION:Chichester District first Farmers’ Market was held in 1998. They have been held regularly every month since then\, growing in size and frequency over time. The market is held in East & North Street on the 1st and 3rd Friday of each Month.
URL:https://chichesterbid.co.uk/event/farmers-market-16/2027-06-04/
LOCATION:Chichester City Centre
ATTACH;FMTTYPE=image/jpeg:https://chichesterbid.co.uk/wp-content/uploads/2023/04/farmers-market.jpg
END:VEVENT
BEGIN:VEVENT
DTSTART;TZID=UTC:20270618T090000
DTEND;TZID=UTC:20270618T140000
DTSTAMP:20260426T025719
CREATED:20230412T105426Z
LAST-MODIFIED:20240730T134425Z
UID:10005950-1813309200-1813327200@chichesterbid.co.uk
SUMMARY:Farmers Market
DESCRIPTION:Chichester District first Farmers’ Market was held in 1998. They have been held regularly every month since then\, growing in size and frequency over time. The market is held in East & North Street on the 1st and 3rd Friday of each Month.
URL:https://chichesterbid.co.uk/event/farmers-market-15/2027-06-18/
LOCATION:Chichester City Centre
ATTACH;FMTTYPE=image/jpeg:https://chichesterbid.co.uk/wp-content/uploads/2023/04/farmers-market.jpg
END:VEVENT
BEGIN:VEVENT
DTSTART;TZID=UTC:20270702T090000
DTEND;TZID=UTC:20270702T140000
DTSTAMP:20260426T025719
CREATED:20231110T150026Z
LAST-MODIFIED:20251216T125053Z
UID:10006070-1814518800-1814536800@chichesterbid.co.uk
SUMMARY:Farmers Market
DESCRIPTION:Chichester District first Farmers’ Market was held in 1998. They have been held regularly every month since then\, growing in size and frequency over time. The market is held in East & North Street on the 1st and 3rd Friday of each Month.
URL:https://chichesterbid.co.uk/event/farmers-market-16/2027-07-02/
LOCATION:Chichester City Centre
ATTACH;FMTTYPE=image/jpeg:https://chichesterbid.co.uk/wp-content/uploads/2023/04/farmers-market.jpg
END:VEVENT
BEGIN:VEVENT
DTSTART;TZID=UTC:20270716T090000
DTEND;TZID=UTC:20270716T140000
DTSTAMP:20260426T025719
CREATED:20230412T105426Z
LAST-MODIFIED:20240730T134425Z
UID:10005951-1815728400-1815746400@chichesterbid.co.uk
SUMMARY:Farmers Market
DESCRIPTION:Chichester District first Farmers’ Market was held in 1998. They have been held regularly every month since then\, growing in size and frequency over time. The market is held in East & North Street on the 1st and 3rd Friday of each Month.
URL:https://chichesterbid.co.uk/event/farmers-market-15/2027-07-16/
LOCATION:Chichester City Centre
ATTACH;FMTTYPE=image/jpeg:https://chichesterbid.co.uk/wp-content/uploads/2023/04/farmers-market.jpg
END:VEVENT
END:VCALENDAR