BEGIN:VCALENDAR
VERSION:2.0
PRODID:-//Chichester BID - ECPv6.15.20//NONSGML v1.0//EN
CALSCALE:GREGORIAN
METHOD:PUBLISH
X-WR-CALNAME:Chichester BID
X-ORIGINAL-URL:https://chichesterbid.co.uk
X-WR-CALDESC:Events for Chichester BID
REFRESH-INTERVAL;VALUE=DURATION:PT1H
X-Robots-Tag:noindex
X-PUBLISHED-TTL:PT1H
BEGIN:VTIMEZONE
TZID:UTC
BEGIN:STANDARD
TZOFFSETFROM:+0000
TZOFFSETTO:+0000
TZNAME:UTC
DTSTART:20270101T000000
END:STANDARD
END:VTIMEZONE
BEGIN:VEVENT
DTSTART;TZID=UTC:20280521T193000
DTEND;TZID=UTC:20280521T193000
DTSTAMP:20260422T110305
CREATED:20250122T135512Z
LAST-MODIFIED:20250122T135512Z
UID:10021889-1842550200-1842550200@chichesterbid.co.uk
SUMMARY:Quiz Night at The Hole in the Wall
DESCRIPTION:Join The Hole in the Wall every Sunday* for their Quiz Night. \nFantastic prizes to be won for 1st and 2nd place winners. \n£2 entry per person. \nFrom 7.30pm. \nCall or pop in to book your table. \n*except Bank Holidays.
URL:https://chichesterbid.co.uk/event/quiz-night-at-the-hole-in-the-wall/2028-05-21/
LOCATION:The Hole in the Wall\, 1 St Martins Street\, Chichester\, West Sussex\, PO19 1NP
CATEGORIES:Alive after Five,Regular Events
ATTACH;FMTTYPE=image/jpeg:https://chichesterbid.co.uk/wp-content/uploads/2025/01/1000039800.jpg
END:VEVENT
BEGIN:VEVENT
DTSTART;TZID=UTC:20280523T200000
DTEND;TZID=UTC:20280523T200000
DTSTAMP:20260422T110305
CREATED:20250122T135926Z
LAST-MODIFIED:20250502T094438Z
UID:10022150-1842724800-1842724800@chichesterbid.co.uk
SUMMARY:Jam Night at The Hole in the Wall
DESCRIPTION:Join The Hole in the Wall every Tuesday for their weekly Live Band Jam Night. \nAll styles welcome. \n  \n 
URL:https://chichesterbid.co.uk/event/jam-night-at-the-hole-in-the-wall/2028-05-23/
LOCATION:The Hole in the Wall\, 1 St Martins Street\, Chichester\, West Sussex\, PO19 1NP
CATEGORIES:Alive after Five,Regular Events
ATTACH;FMTTYPE=image/jpeg:https://chichesterbid.co.uk/wp-content/uploads/2025/01/HITWJam-scaled.jpg
END:VEVENT
BEGIN:VEVENT
DTSTART;TZID=UTC:20280528T193000
DTEND;TZID=UTC:20280528T193000
DTSTAMP:20260422T110305
CREATED:20250122T135512Z
LAST-MODIFIED:20250122T135512Z
UID:10021890-1843155000-1843155000@chichesterbid.co.uk
SUMMARY:Quiz Night at The Hole in the Wall
DESCRIPTION:Join The Hole in the Wall every Sunday* for their Quiz Night. \nFantastic prizes to be won for 1st and 2nd place winners. \n£2 entry per person. \nFrom 7.30pm. \nCall or pop in to book your table. \n*except Bank Holidays.
URL:https://chichesterbid.co.uk/event/quiz-night-at-the-hole-in-the-wall/2028-05-28/
LOCATION:The Hole in the Wall\, 1 St Martins Street\, Chichester\, West Sussex\, PO19 1NP
CATEGORIES:Alive after Five,Regular Events
ATTACH;FMTTYPE=image/jpeg:https://chichesterbid.co.uk/wp-content/uploads/2025/01/1000039800.jpg
END:VEVENT
BEGIN:VEVENT
DTSTART;TZID=UTC:20280530T200000
DTEND;TZID=UTC:20280530T200000
DTSTAMP:20260422T110305
CREATED:20250122T135926Z
LAST-MODIFIED:20250502T094438Z
UID:10022151-1843329600-1843329600@chichesterbid.co.uk
SUMMARY:Jam Night at The Hole in the Wall
DESCRIPTION:Join The Hole in the Wall every Tuesday for their weekly Live Band Jam Night. \nAll styles welcome. \n  \n 
URL:https://chichesterbid.co.uk/event/jam-night-at-the-hole-in-the-wall/2028-05-30/
LOCATION:The Hole in the Wall\, 1 St Martins Street\, Chichester\, West Sussex\, PO19 1NP
CATEGORIES:Alive after Five,Regular Events
ATTACH;FMTTYPE=image/jpeg:https://chichesterbid.co.uk/wp-content/uploads/2025/01/HITWJam-scaled.jpg
END:VEVENT
BEGIN:VEVENT
DTSTART;TZID=UTC:20280604T193000
DTEND;TZID=UTC:20280604T193000
DTSTAMP:20260422T110305
CREATED:20250122T135512Z
LAST-MODIFIED:20250122T135512Z
UID:10021891-1843759800-1843759800@chichesterbid.co.uk
SUMMARY:Quiz Night at The Hole in the Wall
DESCRIPTION:Join The Hole in the Wall every Sunday* for their Quiz Night. \nFantastic prizes to be won for 1st and 2nd place winners. \n£2 entry per person. \nFrom 7.30pm. \nCall or pop in to book your table. \n*except Bank Holidays.
URL:https://chichesterbid.co.uk/event/quiz-night-at-the-hole-in-the-wall/2028-06-04/
LOCATION:The Hole in the Wall\, 1 St Martins Street\, Chichester\, West Sussex\, PO19 1NP
CATEGORIES:Alive after Five,Regular Events
ATTACH;FMTTYPE=image/jpeg:https://chichesterbid.co.uk/wp-content/uploads/2025/01/1000039800.jpg
END:VEVENT
BEGIN:VEVENT
DTSTART;TZID=UTC:20280606T200000
DTEND;TZID=UTC:20280606T200000
DTSTAMP:20260422T110305
CREATED:20250122T135926Z
LAST-MODIFIED:20250502T094438Z
UID:10022152-1843934400-1843934400@chichesterbid.co.uk
SUMMARY:Jam Night at The Hole in the Wall
DESCRIPTION:Join The Hole in the Wall every Tuesday for their weekly Live Band Jam Night. \nAll styles welcome. \n  \n 
URL:https://chichesterbid.co.uk/event/jam-night-at-the-hole-in-the-wall/2028-06-06/
LOCATION:The Hole in the Wall\, 1 St Martins Street\, Chichester\, West Sussex\, PO19 1NP
CATEGORIES:Alive after Five,Regular Events
ATTACH;FMTTYPE=image/jpeg:https://chichesterbid.co.uk/wp-content/uploads/2025/01/HITWJam-scaled.jpg
END:VEVENT
BEGIN:VEVENT
DTSTART;TZID=UTC:20280611T193000
DTEND;TZID=UTC:20280611T193000
DTSTAMP:20260422T110305
CREATED:20250122T135512Z
LAST-MODIFIED:20250122T135512Z
UID:10021892-1844364600-1844364600@chichesterbid.co.uk
SUMMARY:Quiz Night at The Hole in the Wall
DESCRIPTION:Join The Hole in the Wall every Sunday* for their Quiz Night. \nFantastic prizes to be won for 1st and 2nd place winners. \n£2 entry per person. \nFrom 7.30pm. \nCall or pop in to book your table. \n*except Bank Holidays.
URL:https://chichesterbid.co.uk/event/quiz-night-at-the-hole-in-the-wall/2028-06-11/
LOCATION:The Hole in the Wall\, 1 St Martins Street\, Chichester\, West Sussex\, PO19 1NP
CATEGORIES:Alive after Five,Regular Events
ATTACH;FMTTYPE=image/jpeg:https://chichesterbid.co.uk/wp-content/uploads/2025/01/1000039800.jpg
END:VEVENT
BEGIN:VEVENT
DTSTART;TZID=UTC:20280613T200000
DTEND;TZID=UTC:20280613T200000
DTSTAMP:20260422T110305
CREATED:20250122T135926Z
LAST-MODIFIED:20250502T094438Z
UID:10022153-1844539200-1844539200@chichesterbid.co.uk
SUMMARY:Jam Night at The Hole in the Wall
DESCRIPTION:Join The Hole in the Wall every Tuesday for their weekly Live Band Jam Night. \nAll styles welcome. \n  \n 
URL:https://chichesterbid.co.uk/event/jam-night-at-the-hole-in-the-wall/2028-06-13/
LOCATION:The Hole in the Wall\, 1 St Martins Street\, Chichester\, West Sussex\, PO19 1NP
CATEGORIES:Alive after Five,Regular Events
ATTACH;FMTTYPE=image/jpeg:https://chichesterbid.co.uk/wp-content/uploads/2025/01/HITWJam-scaled.jpg
END:VEVENT
BEGIN:VEVENT
DTSTART;TZID=UTC:20280618T193000
DTEND;TZID=UTC:20280618T193000
DTSTAMP:20260422T110305
CREATED:20250122T135512Z
LAST-MODIFIED:20250122T135512Z
UID:10021893-1844969400-1844969400@chichesterbid.co.uk
SUMMARY:Quiz Night at The Hole in the Wall
DESCRIPTION:Join The Hole in the Wall every Sunday* for their Quiz Night. \nFantastic prizes to be won for 1st and 2nd place winners. \n£2 entry per person. \nFrom 7.30pm. \nCall or pop in to book your table. \n*except Bank Holidays.
URL:https://chichesterbid.co.uk/event/quiz-night-at-the-hole-in-the-wall/2028-06-18/
LOCATION:The Hole in the Wall\, 1 St Martins Street\, Chichester\, West Sussex\, PO19 1NP
CATEGORIES:Alive after Five,Regular Events
ATTACH;FMTTYPE=image/jpeg:https://chichesterbid.co.uk/wp-content/uploads/2025/01/1000039800.jpg
END:VEVENT
BEGIN:VEVENT
DTSTART;TZID=UTC:20280620T200000
DTEND;TZID=UTC:20280620T200000
DTSTAMP:20260422T110305
CREATED:20250122T135926Z
LAST-MODIFIED:20250502T094438Z
UID:10022154-1845144000-1845144000@chichesterbid.co.uk
SUMMARY:Jam Night at The Hole in the Wall
DESCRIPTION:Join The Hole in the Wall every Tuesday for their weekly Live Band Jam Night. \nAll styles welcome. \n  \n 
URL:https://chichesterbid.co.uk/event/jam-night-at-the-hole-in-the-wall/2028-06-20/
LOCATION:The Hole in the Wall\, 1 St Martins Street\, Chichester\, West Sussex\, PO19 1NP
CATEGORIES:Alive after Five,Regular Events
ATTACH;FMTTYPE=image/jpeg:https://chichesterbid.co.uk/wp-content/uploads/2025/01/HITWJam-scaled.jpg
END:VEVENT
BEGIN:VEVENT
DTSTART;TZID=UTC:20280625T193000
DTEND;TZID=UTC:20280625T193000
DTSTAMP:20260422T110305
CREATED:20250122T135512Z
LAST-MODIFIED:20250122T135512Z
UID:10021894-1845574200-1845574200@chichesterbid.co.uk
SUMMARY:Quiz Night at The Hole in the Wall
DESCRIPTION:Join The Hole in the Wall every Sunday* for their Quiz Night. \nFantastic prizes to be won for 1st and 2nd place winners. \n£2 entry per person. \nFrom 7.30pm. \nCall or pop in to book your table. \n*except Bank Holidays.
URL:https://chichesterbid.co.uk/event/quiz-night-at-the-hole-in-the-wall/2028-06-25/
LOCATION:The Hole in the Wall\, 1 St Martins Street\, Chichester\, West Sussex\, PO19 1NP
CATEGORIES:Alive after Five,Regular Events
ATTACH;FMTTYPE=image/jpeg:https://chichesterbid.co.uk/wp-content/uploads/2025/01/1000039800.jpg
END:VEVENT
BEGIN:VEVENT
DTSTART;TZID=UTC:20280627T200000
DTEND;TZID=UTC:20280627T200000
DTSTAMP:20260422T110305
CREATED:20250122T135926Z
LAST-MODIFIED:20250502T094438Z
UID:10022155-1845748800-1845748800@chichesterbid.co.uk
SUMMARY:Jam Night at The Hole in the Wall
DESCRIPTION:Join The Hole in the Wall every Tuesday for their weekly Live Band Jam Night. \nAll styles welcome. \n  \n 
URL:https://chichesterbid.co.uk/event/jam-night-at-the-hole-in-the-wall/2028-06-27/
LOCATION:The Hole in the Wall\, 1 St Martins Street\, Chichester\, West Sussex\, PO19 1NP
CATEGORIES:Alive after Five,Regular Events
ATTACH;FMTTYPE=image/jpeg:https://chichesterbid.co.uk/wp-content/uploads/2025/01/HITWJam-scaled.jpg
END:VEVENT
BEGIN:VEVENT
DTSTART;TZID=UTC:20280702T193000
DTEND;TZID=UTC:20280702T193000
DTSTAMP:20260422T110305
CREATED:20250122T135512Z
LAST-MODIFIED:20250122T135512Z
UID:10021895-1846179000-1846179000@chichesterbid.co.uk
SUMMARY:Quiz Night at The Hole in the Wall
DESCRIPTION:Join The Hole in the Wall every Sunday* for their Quiz Night. \nFantastic prizes to be won for 1st and 2nd place winners. \n£2 entry per person. \nFrom 7.30pm. \nCall or pop in to book your table. \n*except Bank Holidays.
URL:https://chichesterbid.co.uk/event/quiz-night-at-the-hole-in-the-wall/2028-07-02/
LOCATION:The Hole in the Wall\, 1 St Martins Street\, Chichester\, West Sussex\, PO19 1NP
CATEGORIES:Alive after Five,Regular Events
ATTACH;FMTTYPE=image/jpeg:https://chichesterbid.co.uk/wp-content/uploads/2025/01/1000039800.jpg
END:VEVENT
BEGIN:VEVENT
DTSTART;TZID=UTC:20280704T200000
DTEND;TZID=UTC:20280704T200000
DTSTAMP:20260422T110305
CREATED:20250122T135926Z
LAST-MODIFIED:20250502T094438Z
UID:10022156-1846353600-1846353600@chichesterbid.co.uk
SUMMARY:Jam Night at The Hole in the Wall
DESCRIPTION:Join The Hole in the Wall every Tuesday for their weekly Live Band Jam Night. \nAll styles welcome. \n  \n 
URL:https://chichesterbid.co.uk/event/jam-night-at-the-hole-in-the-wall/2028-07-04/
LOCATION:The Hole in the Wall\, 1 St Martins Street\, Chichester\, West Sussex\, PO19 1NP
CATEGORIES:Alive after Five,Regular Events
ATTACH;FMTTYPE=image/jpeg:https://chichesterbid.co.uk/wp-content/uploads/2025/01/HITWJam-scaled.jpg
END:VEVENT
BEGIN:VEVENT
DTSTART;TZID=UTC:20280709T193000
DTEND;TZID=UTC:20280709T193000
DTSTAMP:20260422T110305
CREATED:20250122T135512Z
LAST-MODIFIED:20250122T135512Z
UID:10021896-1846783800-1846783800@chichesterbid.co.uk
SUMMARY:Quiz Night at The Hole in the Wall
DESCRIPTION:Join The Hole in the Wall every Sunday* for their Quiz Night. \nFantastic prizes to be won for 1st and 2nd place winners. \n£2 entry per person. \nFrom 7.30pm. \nCall or pop in to book your table. \n*except Bank Holidays.
URL:https://chichesterbid.co.uk/event/quiz-night-at-the-hole-in-the-wall/2028-07-09/
LOCATION:The Hole in the Wall\, 1 St Martins Street\, Chichester\, West Sussex\, PO19 1NP
CATEGORIES:Alive after Five,Regular Events
ATTACH;FMTTYPE=image/jpeg:https://chichesterbid.co.uk/wp-content/uploads/2025/01/1000039800.jpg
END:VEVENT
BEGIN:VEVENT
DTSTART;TZID=UTC:20280711T200000
DTEND;TZID=UTC:20280711T200000
DTSTAMP:20260422T110305
CREATED:20250122T135926Z
LAST-MODIFIED:20250502T094438Z
UID:10022157-1846958400-1846958400@chichesterbid.co.uk
SUMMARY:Jam Night at The Hole in the Wall
DESCRIPTION:Join The Hole in the Wall every Tuesday for their weekly Live Band Jam Night. \nAll styles welcome. \n  \n 
URL:https://chichesterbid.co.uk/event/jam-night-at-the-hole-in-the-wall/2028-07-11/
LOCATION:The Hole in the Wall\, 1 St Martins Street\, Chichester\, West Sussex\, PO19 1NP
CATEGORIES:Alive after Five,Regular Events
ATTACH;FMTTYPE=image/jpeg:https://chichesterbid.co.uk/wp-content/uploads/2025/01/HITWJam-scaled.jpg
END:VEVENT
BEGIN:VEVENT
DTSTART;TZID=UTC:20280716T193000
DTEND;TZID=UTC:20280716T193000
DTSTAMP:20260422T110305
CREATED:20250122T135512Z
LAST-MODIFIED:20250122T135512Z
UID:10021897-1847388600-1847388600@chichesterbid.co.uk
SUMMARY:Quiz Night at The Hole in the Wall
DESCRIPTION:Join The Hole in the Wall every Sunday* for their Quiz Night. \nFantastic prizes to be won for 1st and 2nd place winners. \n£2 entry per person. \nFrom 7.30pm. \nCall or pop in to book your table. \n*except Bank Holidays.
URL:https://chichesterbid.co.uk/event/quiz-night-at-the-hole-in-the-wall/2028-07-16/
LOCATION:The Hole in the Wall\, 1 St Martins Street\, Chichester\, West Sussex\, PO19 1NP
CATEGORIES:Alive after Five,Regular Events
ATTACH;FMTTYPE=image/jpeg:https://chichesterbid.co.uk/wp-content/uploads/2025/01/1000039800.jpg
END:VEVENT
BEGIN:VEVENT
DTSTART;TZID=UTC:20280718T200000
DTEND;TZID=UTC:20280718T200000
DTSTAMP:20260422T110305
CREATED:20250122T135926Z
LAST-MODIFIED:20250502T094438Z
UID:10022158-1847563200-1847563200@chichesterbid.co.uk
SUMMARY:Jam Night at The Hole in the Wall
DESCRIPTION:Join The Hole in the Wall every Tuesday for their weekly Live Band Jam Night. \nAll styles welcome. \n  \n 
URL:https://chichesterbid.co.uk/event/jam-night-at-the-hole-in-the-wall/2028-07-18/
LOCATION:The Hole in the Wall\, 1 St Martins Street\, Chichester\, West Sussex\, PO19 1NP
CATEGORIES:Alive after Five,Regular Events
ATTACH;FMTTYPE=image/jpeg:https://chichesterbid.co.uk/wp-content/uploads/2025/01/HITWJam-scaled.jpg
END:VEVENT
BEGIN:VEVENT
DTSTART;TZID=UTC:20280723T193000
DTEND;TZID=UTC:20280723T193000
DTSTAMP:20260422T110305
CREATED:20250122T135512Z
LAST-MODIFIED:20250122T135512Z
UID:10021898-1847993400-1847993400@chichesterbid.co.uk
SUMMARY:Quiz Night at The Hole in the Wall
DESCRIPTION:Join The Hole in the Wall every Sunday* for their Quiz Night. \nFantastic prizes to be won for 1st and 2nd place winners. \n£2 entry per person. \nFrom 7.30pm. \nCall or pop in to book your table. \n*except Bank Holidays.
URL:https://chichesterbid.co.uk/event/quiz-night-at-the-hole-in-the-wall/2028-07-23/
LOCATION:The Hole in the Wall\, 1 St Martins Street\, Chichester\, West Sussex\, PO19 1NP
CATEGORIES:Alive after Five,Regular Events
ATTACH;FMTTYPE=image/jpeg:https://chichesterbid.co.uk/wp-content/uploads/2025/01/1000039800.jpg
END:VEVENT
BEGIN:VEVENT
DTSTART;TZID=UTC:20280725T200000
DTEND;TZID=UTC:20280725T200000
DTSTAMP:20260422T110305
CREATED:20250122T135926Z
LAST-MODIFIED:20250502T094438Z
UID:10022159-1848168000-1848168000@chichesterbid.co.uk
SUMMARY:Jam Night at The Hole in the Wall
DESCRIPTION:Join The Hole in the Wall every Tuesday for their weekly Live Band Jam Night. \nAll styles welcome. \n  \n 
URL:https://chichesterbid.co.uk/event/jam-night-at-the-hole-in-the-wall/2028-07-25/
LOCATION:The Hole in the Wall\, 1 St Martins Street\, Chichester\, West Sussex\, PO19 1NP
CATEGORIES:Alive after Five,Regular Events
ATTACH;FMTTYPE=image/jpeg:https://chichesterbid.co.uk/wp-content/uploads/2025/01/HITWJam-scaled.jpg
END:VEVENT
BEGIN:VEVENT
DTSTART;TZID=UTC:20280730T193000
DTEND;TZID=UTC:20280730T193000
DTSTAMP:20260422T110305
CREATED:20250122T135512Z
LAST-MODIFIED:20250122T135512Z
UID:10021899-1848598200-1848598200@chichesterbid.co.uk
SUMMARY:Quiz Night at The Hole in the Wall
DESCRIPTION:Join The Hole in the Wall every Sunday* for their Quiz Night. \nFantastic prizes to be won for 1st and 2nd place winners. \n£2 entry per person. \nFrom 7.30pm. \nCall or pop in to book your table. \n*except Bank Holidays.
URL:https://chichesterbid.co.uk/event/quiz-night-at-the-hole-in-the-wall/2028-07-30/
LOCATION:The Hole in the Wall\, 1 St Martins Street\, Chichester\, West Sussex\, PO19 1NP
CATEGORIES:Alive after Five,Regular Events
ATTACH;FMTTYPE=image/jpeg:https://chichesterbid.co.uk/wp-content/uploads/2025/01/1000039800.jpg
END:VEVENT
BEGIN:VEVENT
DTSTART;TZID=UTC:20280801T200000
DTEND;TZID=UTC:20280801T200000
DTSTAMP:20260422T110305
CREATED:20250122T135926Z
LAST-MODIFIED:20250502T094438Z
UID:10022160-1848772800-1848772800@chichesterbid.co.uk
SUMMARY:Jam Night at The Hole in the Wall
DESCRIPTION:Join The Hole in the Wall every Tuesday for their weekly Live Band Jam Night. \nAll styles welcome. \n  \n 
URL:https://chichesterbid.co.uk/event/jam-night-at-the-hole-in-the-wall/2028-08-01/
LOCATION:The Hole in the Wall\, 1 St Martins Street\, Chichester\, West Sussex\, PO19 1NP
CATEGORIES:Alive after Five,Regular Events
ATTACH;FMTTYPE=image/jpeg:https://chichesterbid.co.uk/wp-content/uploads/2025/01/HITWJam-scaled.jpg
END:VEVENT
BEGIN:VEVENT
DTSTART;TZID=UTC:20280806T193000
DTEND;TZID=UTC:20280806T193000
DTSTAMP:20260422T110305
CREATED:20250122T135512Z
LAST-MODIFIED:20250122T135512Z
UID:10021900-1849203000-1849203000@chichesterbid.co.uk
SUMMARY:Quiz Night at The Hole in the Wall
DESCRIPTION:Join The Hole in the Wall every Sunday* for their Quiz Night. \nFantastic prizes to be won for 1st and 2nd place winners. \n£2 entry per person. \nFrom 7.30pm. \nCall or pop in to book your table. \n*except Bank Holidays.
URL:https://chichesterbid.co.uk/event/quiz-night-at-the-hole-in-the-wall/2028-08-06/
LOCATION:The Hole in the Wall\, 1 St Martins Street\, Chichester\, West Sussex\, PO19 1NP
CATEGORIES:Alive after Five,Regular Events
ATTACH;FMTTYPE=image/jpeg:https://chichesterbid.co.uk/wp-content/uploads/2025/01/1000039800.jpg
END:VEVENT
BEGIN:VEVENT
DTSTART;TZID=UTC:20280808T200000
DTEND;TZID=UTC:20280808T200000
DTSTAMP:20260422T110305
CREATED:20250122T135926Z
LAST-MODIFIED:20250502T094438Z
UID:10022161-1849377600-1849377600@chichesterbid.co.uk
SUMMARY:Jam Night at The Hole in the Wall
DESCRIPTION:Join The Hole in the Wall every Tuesday for their weekly Live Band Jam Night. \nAll styles welcome. \n  \n 
URL:https://chichesterbid.co.uk/event/jam-night-at-the-hole-in-the-wall/2028-08-08/
LOCATION:The Hole in the Wall\, 1 St Martins Street\, Chichester\, West Sussex\, PO19 1NP
CATEGORIES:Alive after Five,Regular Events
ATTACH;FMTTYPE=image/jpeg:https://chichesterbid.co.uk/wp-content/uploads/2025/01/HITWJam-scaled.jpg
END:VEVENT
BEGIN:VEVENT
DTSTART;TZID=UTC:20280813T193000
DTEND;TZID=UTC:20280813T193000
DTSTAMP:20260422T110305
CREATED:20250122T135512Z
LAST-MODIFIED:20250122T135512Z
UID:10021901-1849807800-1849807800@chichesterbid.co.uk
SUMMARY:Quiz Night at The Hole in the Wall
DESCRIPTION:Join The Hole in the Wall every Sunday* for their Quiz Night. \nFantastic prizes to be won for 1st and 2nd place winners. \n£2 entry per person. \nFrom 7.30pm. \nCall or pop in to book your table. \n*except Bank Holidays.
URL:https://chichesterbid.co.uk/event/quiz-night-at-the-hole-in-the-wall/2028-08-13/
LOCATION:The Hole in the Wall\, 1 St Martins Street\, Chichester\, West Sussex\, PO19 1NP
CATEGORIES:Alive after Five,Regular Events
ATTACH;FMTTYPE=image/jpeg:https://chichesterbid.co.uk/wp-content/uploads/2025/01/1000039800.jpg
END:VEVENT
BEGIN:VEVENT
DTSTART;TZID=UTC:20280815T200000
DTEND;TZID=UTC:20280815T200000
DTSTAMP:20260422T110305
CREATED:20250122T135926Z
LAST-MODIFIED:20250502T094438Z
UID:10022162-1849982400-1849982400@chichesterbid.co.uk
SUMMARY:Jam Night at The Hole in the Wall
DESCRIPTION:Join The Hole in the Wall every Tuesday for their weekly Live Band Jam Night. \nAll styles welcome. \n  \n 
URL:https://chichesterbid.co.uk/event/jam-night-at-the-hole-in-the-wall/2028-08-15/
LOCATION:The Hole in the Wall\, 1 St Martins Street\, Chichester\, West Sussex\, PO19 1NP
CATEGORIES:Alive after Five,Regular Events
ATTACH;FMTTYPE=image/jpeg:https://chichesterbid.co.uk/wp-content/uploads/2025/01/HITWJam-scaled.jpg
END:VEVENT
BEGIN:VEVENT
DTSTART;TZID=UTC:20280820T193000
DTEND;TZID=UTC:20280820T193000
DTSTAMP:20260422T110305
CREATED:20250122T135512Z
LAST-MODIFIED:20250122T135512Z
UID:10021902-1850412600-1850412600@chichesterbid.co.uk
SUMMARY:Quiz Night at The Hole in the Wall
DESCRIPTION:Join The Hole in the Wall every Sunday* for their Quiz Night. \nFantastic prizes to be won for 1st and 2nd place winners. \n£2 entry per person. \nFrom 7.30pm. \nCall or pop in to book your table. \n*except Bank Holidays.
URL:https://chichesterbid.co.uk/event/quiz-night-at-the-hole-in-the-wall/2028-08-20/
LOCATION:The Hole in the Wall\, 1 St Martins Street\, Chichester\, West Sussex\, PO19 1NP
CATEGORIES:Alive after Five,Regular Events
ATTACH;FMTTYPE=image/jpeg:https://chichesterbid.co.uk/wp-content/uploads/2025/01/1000039800.jpg
END:VEVENT
BEGIN:VEVENT
DTSTART;TZID=UTC:20280822T200000
DTEND;TZID=UTC:20280822T200000
DTSTAMP:20260422T110305
CREATED:20250122T135926Z
LAST-MODIFIED:20250502T094438Z
UID:10022163-1850587200-1850587200@chichesterbid.co.uk
SUMMARY:Jam Night at The Hole in the Wall
DESCRIPTION:Join The Hole in the Wall every Tuesday for their weekly Live Band Jam Night. \nAll styles welcome. \n  \n 
URL:https://chichesterbid.co.uk/event/jam-night-at-the-hole-in-the-wall/2028-08-22/
LOCATION:The Hole in the Wall\, 1 St Martins Street\, Chichester\, West Sussex\, PO19 1NP
CATEGORIES:Alive after Five,Regular Events
ATTACH;FMTTYPE=image/jpeg:https://chichesterbid.co.uk/wp-content/uploads/2025/01/HITWJam-scaled.jpg
END:VEVENT
BEGIN:VEVENT
DTSTART;TZID=UTC:20280827T193000
DTEND;TZID=UTC:20280827T193000
DTSTAMP:20260422T110305
CREATED:20250122T135512Z
LAST-MODIFIED:20250122T135512Z
UID:10021903-1851017400-1851017400@chichesterbid.co.uk
SUMMARY:Quiz Night at The Hole in the Wall
DESCRIPTION:Join The Hole in the Wall every Sunday* for their Quiz Night. \nFantastic prizes to be won for 1st and 2nd place winners. \n£2 entry per person. \nFrom 7.30pm. \nCall or pop in to book your table. \n*except Bank Holidays.
URL:https://chichesterbid.co.uk/event/quiz-night-at-the-hole-in-the-wall/2028-08-27/
LOCATION:The Hole in the Wall\, 1 St Martins Street\, Chichester\, West Sussex\, PO19 1NP
CATEGORIES:Alive after Five,Regular Events
ATTACH;FMTTYPE=image/jpeg:https://chichesterbid.co.uk/wp-content/uploads/2025/01/1000039800.jpg
END:VEVENT
BEGIN:VEVENT
DTSTART;TZID=UTC:20280829T200000
DTEND;TZID=UTC:20280829T200000
DTSTAMP:20260422T110305
CREATED:20250122T135926Z
LAST-MODIFIED:20250502T094438Z
UID:10022164-1851192000-1851192000@chichesterbid.co.uk
SUMMARY:Jam Night at The Hole in the Wall
DESCRIPTION:Join The Hole in the Wall every Tuesday for their weekly Live Band Jam Night. \nAll styles welcome. \n  \n 
URL:https://chichesterbid.co.uk/event/jam-night-at-the-hole-in-the-wall/2028-08-29/
LOCATION:The Hole in the Wall\, 1 St Martins Street\, Chichester\, West Sussex\, PO19 1NP
CATEGORIES:Alive after Five,Regular Events
ATTACH;FMTTYPE=image/jpeg:https://chichesterbid.co.uk/wp-content/uploads/2025/01/HITWJam-scaled.jpg
END:VEVENT
END:VCALENDAR