BEGIN:VCALENDAR
VERSION:2.0
PRODID:-//Chichester BID - ECPv6.15.20//NONSGML v1.0//EN
CALSCALE:GREGORIAN
METHOD:PUBLISH
X-WR-CALNAME:Chichester BID
X-ORIGINAL-URL:https://chichesterbid.co.uk
X-WR-CALDESC:Events for Chichester BID
REFRESH-INTERVAL;VALUE=DURATION:PT1H
X-Robots-Tag:noindex
X-PUBLISHED-TTL:PT1H
BEGIN:VTIMEZONE
TZID:UTC
BEGIN:STANDARD
TZOFFSETFROM:+0000
TZOFFSETTO:+0000
TZNAME:UTC
DTSTART:20270101T000000
END:STANDARD
END:VTIMEZONE
BEGIN:VEVENT
DTSTART;TZID=UTC:20280924T193000
DTEND;TZID=UTC:20280924T193000
DTSTAMP:20260422T231358
CREATED:20250122T135512Z
LAST-MODIFIED:20250122T135512Z
UID:10021907-1853436600-1853436600@chichesterbid.co.uk
SUMMARY:Quiz Night at The Hole in the Wall
DESCRIPTION:Join The Hole in the Wall every Sunday* for their Quiz Night. \nFantastic prizes to be won for 1st and 2nd place winners. \n£2 entry per person. \nFrom 7.30pm. \nCall or pop in to book your table. \n*except Bank Holidays.
URL:https://chichesterbid.co.uk/event/quiz-night-at-the-hole-in-the-wall/2028-09-24/
LOCATION:The Hole in the Wall\, 1 St Martins Street\, Chichester\, West Sussex\, PO19 1NP
CATEGORIES:Alive after Five,Regular Events
ATTACH;FMTTYPE=image/jpeg:https://chichesterbid.co.uk/wp-content/uploads/2025/01/1000039800.jpg
END:VEVENT
BEGIN:VEVENT
DTSTART;TZID=UTC:20280926T200000
DTEND;TZID=UTC:20280926T200000
DTSTAMP:20260422T231358
CREATED:20250122T135926Z
LAST-MODIFIED:20250502T094438Z
UID:10022168-1853611200-1853611200@chichesterbid.co.uk
SUMMARY:Jam Night at The Hole in the Wall
DESCRIPTION:Join The Hole in the Wall every Tuesday for their weekly Live Band Jam Night. \nAll styles welcome. \n  \n 
URL:https://chichesterbid.co.uk/event/jam-night-at-the-hole-in-the-wall/2028-09-26/
LOCATION:The Hole in the Wall\, 1 St Martins Street\, Chichester\, West Sussex\, PO19 1NP
CATEGORIES:Alive after Five,Regular Events
ATTACH;FMTTYPE=image/jpeg:https://chichesterbid.co.uk/wp-content/uploads/2025/01/HITWJam-scaled.jpg
END:VEVENT
BEGIN:VEVENT
DTSTART;TZID=UTC:20281001T193000
DTEND;TZID=UTC:20281001T193000
DTSTAMP:20260422T231358
CREATED:20250122T135512Z
LAST-MODIFIED:20250122T135512Z
UID:10021908-1854041400-1854041400@chichesterbid.co.uk
SUMMARY:Quiz Night at The Hole in the Wall
DESCRIPTION:Join The Hole in the Wall every Sunday* for their Quiz Night. \nFantastic prizes to be won for 1st and 2nd place winners. \n£2 entry per person. \nFrom 7.30pm. \nCall or pop in to book your table. \n*except Bank Holidays.
URL:https://chichesterbid.co.uk/event/quiz-night-at-the-hole-in-the-wall/2028-10-01/
LOCATION:The Hole in the Wall\, 1 St Martins Street\, Chichester\, West Sussex\, PO19 1NP
CATEGORIES:Alive after Five,Regular Events
ATTACH;FMTTYPE=image/jpeg:https://chichesterbid.co.uk/wp-content/uploads/2025/01/1000039800.jpg
END:VEVENT
BEGIN:VEVENT
DTSTART;TZID=UTC:20281003T200000
DTEND;TZID=UTC:20281003T200000
DTSTAMP:20260422T231358
CREATED:20250122T135926Z
LAST-MODIFIED:20250502T094438Z
UID:10022169-1854216000-1854216000@chichesterbid.co.uk
SUMMARY:Jam Night at The Hole in the Wall
DESCRIPTION:Join The Hole in the Wall every Tuesday for their weekly Live Band Jam Night. \nAll styles welcome. \n  \n 
URL:https://chichesterbid.co.uk/event/jam-night-at-the-hole-in-the-wall/2028-10-03/
LOCATION:The Hole in the Wall\, 1 St Martins Street\, Chichester\, West Sussex\, PO19 1NP
CATEGORIES:Alive after Five,Regular Events
ATTACH;FMTTYPE=image/jpeg:https://chichesterbid.co.uk/wp-content/uploads/2025/01/HITWJam-scaled.jpg
END:VEVENT
BEGIN:VEVENT
DTSTART;TZID=UTC:20281008T193000
DTEND;TZID=UTC:20281008T193000
DTSTAMP:20260422T231358
CREATED:20250122T135512Z
LAST-MODIFIED:20250122T135512Z
UID:10021909-1854646200-1854646200@chichesterbid.co.uk
SUMMARY:Quiz Night at The Hole in the Wall
DESCRIPTION:Join The Hole in the Wall every Sunday* for their Quiz Night. \nFantastic prizes to be won for 1st and 2nd place winners. \n£2 entry per person. \nFrom 7.30pm. \nCall or pop in to book your table. \n*except Bank Holidays.
URL:https://chichesterbid.co.uk/event/quiz-night-at-the-hole-in-the-wall/2028-10-08/
LOCATION:The Hole in the Wall\, 1 St Martins Street\, Chichester\, West Sussex\, PO19 1NP
CATEGORIES:Alive after Five,Regular Events
ATTACH;FMTTYPE=image/jpeg:https://chichesterbid.co.uk/wp-content/uploads/2025/01/1000039800.jpg
END:VEVENT
BEGIN:VEVENT
DTSTART;TZID=UTC:20281010T200000
DTEND;TZID=UTC:20281010T200000
DTSTAMP:20260422T231358
CREATED:20250122T135926Z
LAST-MODIFIED:20250502T094438Z
UID:10022170-1854820800-1854820800@chichesterbid.co.uk
SUMMARY:Jam Night at The Hole in the Wall
DESCRIPTION:Join The Hole in the Wall every Tuesday for their weekly Live Band Jam Night. \nAll styles welcome. \n  \n 
URL:https://chichesterbid.co.uk/event/jam-night-at-the-hole-in-the-wall/2028-10-10/
LOCATION:The Hole in the Wall\, 1 St Martins Street\, Chichester\, West Sussex\, PO19 1NP
CATEGORIES:Alive after Five,Regular Events
ATTACH;FMTTYPE=image/jpeg:https://chichesterbid.co.uk/wp-content/uploads/2025/01/HITWJam-scaled.jpg
END:VEVENT
BEGIN:VEVENT
DTSTART;TZID=UTC:20281015T193000
DTEND;TZID=UTC:20281015T193000
DTSTAMP:20260422T231359
CREATED:20250122T135512Z
LAST-MODIFIED:20250122T135512Z
UID:10021910-1855251000-1855251000@chichesterbid.co.uk
SUMMARY:Quiz Night at The Hole in the Wall
DESCRIPTION:Join The Hole in the Wall every Sunday* for their Quiz Night. \nFantastic prizes to be won for 1st and 2nd place winners. \n£2 entry per person. \nFrom 7.30pm. \nCall or pop in to book your table. \n*except Bank Holidays.
URL:https://chichesterbid.co.uk/event/quiz-night-at-the-hole-in-the-wall/2028-10-15/
LOCATION:The Hole in the Wall\, 1 St Martins Street\, Chichester\, West Sussex\, PO19 1NP
CATEGORIES:Alive after Five,Regular Events
ATTACH;FMTTYPE=image/jpeg:https://chichesterbid.co.uk/wp-content/uploads/2025/01/1000039800.jpg
END:VEVENT
BEGIN:VEVENT
DTSTART;TZID=UTC:20281017T200000
DTEND;TZID=UTC:20281017T200000
DTSTAMP:20260422T231359
CREATED:20250122T135926Z
LAST-MODIFIED:20250502T094438Z
UID:10022171-1855425600-1855425600@chichesterbid.co.uk
SUMMARY:Jam Night at The Hole in the Wall
DESCRIPTION:Join The Hole in the Wall every Tuesday for their weekly Live Band Jam Night. \nAll styles welcome. \n  \n 
URL:https://chichesterbid.co.uk/event/jam-night-at-the-hole-in-the-wall/2028-10-17/
LOCATION:The Hole in the Wall\, 1 St Martins Street\, Chichester\, West Sussex\, PO19 1NP
CATEGORIES:Alive after Five,Regular Events
ATTACH;FMTTYPE=image/jpeg:https://chichesterbid.co.uk/wp-content/uploads/2025/01/HITWJam-scaled.jpg
END:VEVENT
BEGIN:VEVENT
DTSTART;TZID=UTC:20281022T193000
DTEND;TZID=UTC:20281022T193000
DTSTAMP:20260422T231359
CREATED:20250122T135512Z
LAST-MODIFIED:20250122T135512Z
UID:10021911-1855855800-1855855800@chichesterbid.co.uk
SUMMARY:Quiz Night at The Hole in the Wall
DESCRIPTION:Join The Hole in the Wall every Sunday* for their Quiz Night. \nFantastic prizes to be won for 1st and 2nd place winners. \n£2 entry per person. \nFrom 7.30pm. \nCall or pop in to book your table. \n*except Bank Holidays.
URL:https://chichesterbid.co.uk/event/quiz-night-at-the-hole-in-the-wall/2028-10-22/
LOCATION:The Hole in the Wall\, 1 St Martins Street\, Chichester\, West Sussex\, PO19 1NP
CATEGORIES:Alive after Five,Regular Events
ATTACH;FMTTYPE=image/jpeg:https://chichesterbid.co.uk/wp-content/uploads/2025/01/1000039800.jpg
END:VEVENT
BEGIN:VEVENT
DTSTART;TZID=UTC:20281024T200000
DTEND;TZID=UTC:20281024T200000
DTSTAMP:20260422T231359
CREATED:20250122T135926Z
LAST-MODIFIED:20250502T094438Z
UID:10022172-1856030400-1856030400@chichesterbid.co.uk
SUMMARY:Jam Night at The Hole in the Wall
DESCRIPTION:Join The Hole in the Wall every Tuesday for their weekly Live Band Jam Night. \nAll styles welcome. \n  \n 
URL:https://chichesterbid.co.uk/event/jam-night-at-the-hole-in-the-wall/2028-10-24/
LOCATION:The Hole in the Wall\, 1 St Martins Street\, Chichester\, West Sussex\, PO19 1NP
CATEGORIES:Alive after Five,Regular Events
ATTACH;FMTTYPE=image/jpeg:https://chichesterbid.co.uk/wp-content/uploads/2025/01/HITWJam-scaled.jpg
END:VEVENT
BEGIN:VEVENT
DTSTART;TZID=UTC:20281029T193000
DTEND;TZID=UTC:20281029T193000
DTSTAMP:20260422T231359
CREATED:20250122T135512Z
LAST-MODIFIED:20250122T135512Z
UID:10021912-1856460600-1856460600@chichesterbid.co.uk
SUMMARY:Quiz Night at The Hole in the Wall
DESCRIPTION:Join The Hole in the Wall every Sunday* for their Quiz Night. \nFantastic prizes to be won for 1st and 2nd place winners. \n£2 entry per person. \nFrom 7.30pm. \nCall or pop in to book your table. \n*except Bank Holidays.
URL:https://chichesterbid.co.uk/event/quiz-night-at-the-hole-in-the-wall/2028-10-29/
LOCATION:The Hole in the Wall\, 1 St Martins Street\, Chichester\, West Sussex\, PO19 1NP
CATEGORIES:Alive after Five,Regular Events
ATTACH;FMTTYPE=image/jpeg:https://chichesterbid.co.uk/wp-content/uploads/2025/01/1000039800.jpg
END:VEVENT
BEGIN:VEVENT
DTSTART;TZID=UTC:20281031T200000
DTEND;TZID=UTC:20281031T200000
DTSTAMP:20260422T231359
CREATED:20250122T135926Z
LAST-MODIFIED:20250502T094438Z
UID:10022173-1856635200-1856635200@chichesterbid.co.uk
SUMMARY:Jam Night at The Hole in the Wall
DESCRIPTION:Join The Hole in the Wall every Tuesday for their weekly Live Band Jam Night. \nAll styles welcome. \n  \n 
URL:https://chichesterbid.co.uk/event/jam-night-at-the-hole-in-the-wall/2028-10-31/
LOCATION:The Hole in the Wall\, 1 St Martins Street\, Chichester\, West Sussex\, PO19 1NP
CATEGORIES:Alive after Five,Regular Events
ATTACH;FMTTYPE=image/jpeg:https://chichesterbid.co.uk/wp-content/uploads/2025/01/HITWJam-scaled.jpg
END:VEVENT
BEGIN:VEVENT
DTSTART;TZID=UTC:20281105T193000
DTEND;TZID=UTC:20281105T193000
DTSTAMP:20260422T231359
CREATED:20250122T135512Z
LAST-MODIFIED:20250122T135512Z
UID:10021913-1857065400-1857065400@chichesterbid.co.uk
SUMMARY:Quiz Night at The Hole in the Wall
DESCRIPTION:Join The Hole in the Wall every Sunday* for their Quiz Night. \nFantastic prizes to be won for 1st and 2nd place winners. \n£2 entry per person. \nFrom 7.30pm. \nCall or pop in to book your table. \n*except Bank Holidays.
URL:https://chichesterbid.co.uk/event/quiz-night-at-the-hole-in-the-wall/2028-11-05/
LOCATION:The Hole in the Wall\, 1 St Martins Street\, Chichester\, West Sussex\, PO19 1NP
CATEGORIES:Alive after Five,Regular Events
ATTACH;FMTTYPE=image/jpeg:https://chichesterbid.co.uk/wp-content/uploads/2025/01/1000039800.jpg
END:VEVENT
BEGIN:VEVENT
DTSTART;TZID=UTC:20281107T200000
DTEND;TZID=UTC:20281107T200000
DTSTAMP:20260422T231359
CREATED:20250122T135926Z
LAST-MODIFIED:20250502T094438Z
UID:10022174-1857240000-1857240000@chichesterbid.co.uk
SUMMARY:Jam Night at The Hole in the Wall
DESCRIPTION:Join The Hole in the Wall every Tuesday for their weekly Live Band Jam Night. \nAll styles welcome. \n  \n 
URL:https://chichesterbid.co.uk/event/jam-night-at-the-hole-in-the-wall/2028-11-07/
LOCATION:The Hole in the Wall\, 1 St Martins Street\, Chichester\, West Sussex\, PO19 1NP
CATEGORIES:Alive after Five,Regular Events
ATTACH;FMTTYPE=image/jpeg:https://chichesterbid.co.uk/wp-content/uploads/2025/01/HITWJam-scaled.jpg
END:VEVENT
BEGIN:VEVENT
DTSTART;TZID=UTC:20281112T193000
DTEND;TZID=UTC:20281112T193000
DTSTAMP:20260422T231359
CREATED:20250122T135512Z
LAST-MODIFIED:20250122T135512Z
UID:10021914-1857670200-1857670200@chichesterbid.co.uk
SUMMARY:Quiz Night at The Hole in the Wall
DESCRIPTION:Join The Hole in the Wall every Sunday* for their Quiz Night. \nFantastic prizes to be won for 1st and 2nd place winners. \n£2 entry per person. \nFrom 7.30pm. \nCall or pop in to book your table. \n*except Bank Holidays.
URL:https://chichesterbid.co.uk/event/quiz-night-at-the-hole-in-the-wall/2028-11-12/
LOCATION:The Hole in the Wall\, 1 St Martins Street\, Chichester\, West Sussex\, PO19 1NP
CATEGORIES:Alive after Five,Regular Events
ATTACH;FMTTYPE=image/jpeg:https://chichesterbid.co.uk/wp-content/uploads/2025/01/1000039800.jpg
END:VEVENT
BEGIN:VEVENT
DTSTART;TZID=UTC:20281114T200000
DTEND;TZID=UTC:20281114T200000
DTSTAMP:20260422T231359
CREATED:20250122T135926Z
LAST-MODIFIED:20250502T094438Z
UID:10022175-1857844800-1857844800@chichesterbid.co.uk
SUMMARY:Jam Night at The Hole in the Wall
DESCRIPTION:Join The Hole in the Wall every Tuesday for their weekly Live Band Jam Night. \nAll styles welcome. \n  \n 
URL:https://chichesterbid.co.uk/event/jam-night-at-the-hole-in-the-wall/2028-11-14/
LOCATION:The Hole in the Wall\, 1 St Martins Street\, Chichester\, West Sussex\, PO19 1NP
CATEGORIES:Alive after Five,Regular Events
ATTACH;FMTTYPE=image/jpeg:https://chichesterbid.co.uk/wp-content/uploads/2025/01/HITWJam-scaled.jpg
END:VEVENT
BEGIN:VEVENT
DTSTART;TZID=UTC:20281119T193000
DTEND;TZID=UTC:20281119T193000
DTSTAMP:20260422T231359
CREATED:20250122T135512Z
LAST-MODIFIED:20250122T135512Z
UID:10021915-1858275000-1858275000@chichesterbid.co.uk
SUMMARY:Quiz Night at The Hole in the Wall
DESCRIPTION:Join The Hole in the Wall every Sunday* for their Quiz Night. \nFantastic prizes to be won for 1st and 2nd place winners. \n£2 entry per person. \nFrom 7.30pm. \nCall or pop in to book your table. \n*except Bank Holidays.
URL:https://chichesterbid.co.uk/event/quiz-night-at-the-hole-in-the-wall/2028-11-19/
LOCATION:The Hole in the Wall\, 1 St Martins Street\, Chichester\, West Sussex\, PO19 1NP
CATEGORIES:Alive after Five,Regular Events
ATTACH;FMTTYPE=image/jpeg:https://chichesterbid.co.uk/wp-content/uploads/2025/01/1000039800.jpg
END:VEVENT
BEGIN:VEVENT
DTSTART;TZID=UTC:20281121T200000
DTEND;TZID=UTC:20281121T200000
DTSTAMP:20260422T231359
CREATED:20250122T135926Z
LAST-MODIFIED:20250502T094438Z
UID:10022176-1858449600-1858449600@chichesterbid.co.uk
SUMMARY:Jam Night at The Hole in the Wall
DESCRIPTION:Join The Hole in the Wall every Tuesday for their weekly Live Band Jam Night. \nAll styles welcome. \n  \n 
URL:https://chichesterbid.co.uk/event/jam-night-at-the-hole-in-the-wall/2028-11-21/
LOCATION:The Hole in the Wall\, 1 St Martins Street\, Chichester\, West Sussex\, PO19 1NP
CATEGORIES:Alive after Five,Regular Events
ATTACH;FMTTYPE=image/jpeg:https://chichesterbid.co.uk/wp-content/uploads/2025/01/HITWJam-scaled.jpg
END:VEVENT
BEGIN:VEVENT
DTSTART;TZID=UTC:20281126T193000
DTEND;TZID=UTC:20281126T193000
DTSTAMP:20260422T231359
CREATED:20250122T135512Z
LAST-MODIFIED:20250122T135512Z
UID:10021916-1858879800-1858879800@chichesterbid.co.uk
SUMMARY:Quiz Night at The Hole in the Wall
DESCRIPTION:Join The Hole in the Wall every Sunday* for their Quiz Night. \nFantastic prizes to be won for 1st and 2nd place winners. \n£2 entry per person. \nFrom 7.30pm. \nCall or pop in to book your table. \n*except Bank Holidays.
URL:https://chichesterbid.co.uk/event/quiz-night-at-the-hole-in-the-wall/2028-11-26/
LOCATION:The Hole in the Wall\, 1 St Martins Street\, Chichester\, West Sussex\, PO19 1NP
CATEGORIES:Alive after Five,Regular Events
ATTACH;FMTTYPE=image/jpeg:https://chichesterbid.co.uk/wp-content/uploads/2025/01/1000039800.jpg
END:VEVENT
BEGIN:VEVENT
DTSTART;TZID=UTC:20281128T200000
DTEND;TZID=UTC:20281128T200000
DTSTAMP:20260422T231359
CREATED:20250122T135926Z
LAST-MODIFIED:20250502T094438Z
UID:10022177-1859054400-1859054400@chichesterbid.co.uk
SUMMARY:Jam Night at The Hole in the Wall
DESCRIPTION:Join The Hole in the Wall every Tuesday for their weekly Live Band Jam Night. \nAll styles welcome. \n  \n 
URL:https://chichesterbid.co.uk/event/jam-night-at-the-hole-in-the-wall/2028-11-28/
LOCATION:The Hole in the Wall\, 1 St Martins Street\, Chichester\, West Sussex\, PO19 1NP
CATEGORIES:Alive after Five,Regular Events
ATTACH;FMTTYPE=image/jpeg:https://chichesterbid.co.uk/wp-content/uploads/2025/01/HITWJam-scaled.jpg
END:VEVENT
BEGIN:VEVENT
DTSTART;TZID=UTC:20281203T193000
DTEND;TZID=UTC:20281203T193000
DTSTAMP:20260422T231359
CREATED:20250122T135512Z
LAST-MODIFIED:20250122T135512Z
UID:10021917-1859484600-1859484600@chichesterbid.co.uk
SUMMARY:Quiz Night at The Hole in the Wall
DESCRIPTION:Join The Hole in the Wall every Sunday* for their Quiz Night. \nFantastic prizes to be won for 1st and 2nd place winners. \n£2 entry per person. \nFrom 7.30pm. \nCall or pop in to book your table. \n*except Bank Holidays.
URL:https://chichesterbid.co.uk/event/quiz-night-at-the-hole-in-the-wall/2028-12-03/
LOCATION:The Hole in the Wall\, 1 St Martins Street\, Chichester\, West Sussex\, PO19 1NP
CATEGORIES:Alive after Five,Regular Events
ATTACH;FMTTYPE=image/jpeg:https://chichesterbid.co.uk/wp-content/uploads/2025/01/1000039800.jpg
END:VEVENT
BEGIN:VEVENT
DTSTART;TZID=UTC:20281205T200000
DTEND;TZID=UTC:20281205T200000
DTSTAMP:20260422T231359
CREATED:20250122T135926Z
LAST-MODIFIED:20250502T094438Z
UID:10022178-1859659200-1859659200@chichesterbid.co.uk
SUMMARY:Jam Night at The Hole in the Wall
DESCRIPTION:Join The Hole in the Wall every Tuesday for their weekly Live Band Jam Night. \nAll styles welcome. \n  \n 
URL:https://chichesterbid.co.uk/event/jam-night-at-the-hole-in-the-wall/2028-12-05/
LOCATION:The Hole in the Wall\, 1 St Martins Street\, Chichester\, West Sussex\, PO19 1NP
CATEGORIES:Alive after Five,Regular Events
ATTACH;FMTTYPE=image/jpeg:https://chichesterbid.co.uk/wp-content/uploads/2025/01/HITWJam-scaled.jpg
END:VEVENT
BEGIN:VEVENT
DTSTART;TZID=UTC:20281210T193000
DTEND;TZID=UTC:20281210T193000
DTSTAMP:20260422T231359
CREATED:20250122T135512Z
LAST-MODIFIED:20250122T135512Z
UID:10021918-1860089400-1860089400@chichesterbid.co.uk
SUMMARY:Quiz Night at The Hole in the Wall
DESCRIPTION:Join The Hole in the Wall every Sunday* for their Quiz Night. \nFantastic prizes to be won for 1st and 2nd place winners. \n£2 entry per person. \nFrom 7.30pm. \nCall or pop in to book your table. \n*except Bank Holidays.
URL:https://chichesterbid.co.uk/event/quiz-night-at-the-hole-in-the-wall/2028-12-10/
LOCATION:The Hole in the Wall\, 1 St Martins Street\, Chichester\, West Sussex\, PO19 1NP
CATEGORIES:Alive after Five,Regular Events
ATTACH;FMTTYPE=image/jpeg:https://chichesterbid.co.uk/wp-content/uploads/2025/01/1000039800.jpg
END:VEVENT
BEGIN:VEVENT
DTSTART;TZID=UTC:20281212T200000
DTEND;TZID=UTC:20281212T200000
DTSTAMP:20260422T231359
CREATED:20250122T135926Z
LAST-MODIFIED:20250502T094438Z
UID:10022179-1860264000-1860264000@chichesterbid.co.uk
SUMMARY:Jam Night at The Hole in the Wall
DESCRIPTION:Join The Hole in the Wall every Tuesday for their weekly Live Band Jam Night. \nAll styles welcome. \n  \n 
URL:https://chichesterbid.co.uk/event/jam-night-at-the-hole-in-the-wall/2028-12-12/
LOCATION:The Hole in the Wall\, 1 St Martins Street\, Chichester\, West Sussex\, PO19 1NP
CATEGORIES:Alive after Five,Regular Events
ATTACH;FMTTYPE=image/jpeg:https://chichesterbid.co.uk/wp-content/uploads/2025/01/HITWJam-scaled.jpg
END:VEVENT
BEGIN:VEVENT
DTSTART;TZID=UTC:20281217T193000
DTEND;TZID=UTC:20281217T193000
DTSTAMP:20260422T231359
CREATED:20250122T135512Z
LAST-MODIFIED:20250122T135512Z
UID:10021919-1860694200-1860694200@chichesterbid.co.uk
SUMMARY:Quiz Night at The Hole in the Wall
DESCRIPTION:Join The Hole in the Wall every Sunday* for their Quiz Night. \nFantastic prizes to be won for 1st and 2nd place winners. \n£2 entry per person. \nFrom 7.30pm. \nCall or pop in to book your table. \n*except Bank Holidays.
URL:https://chichesterbid.co.uk/event/quiz-night-at-the-hole-in-the-wall/2028-12-17/
LOCATION:The Hole in the Wall\, 1 St Martins Street\, Chichester\, West Sussex\, PO19 1NP
CATEGORIES:Alive after Five,Regular Events
ATTACH;FMTTYPE=image/jpeg:https://chichesterbid.co.uk/wp-content/uploads/2025/01/1000039800.jpg
END:VEVENT
BEGIN:VEVENT
DTSTART;TZID=UTC:20281219T200000
DTEND;TZID=UTC:20281219T200000
DTSTAMP:20260422T231359
CREATED:20250122T135926Z
LAST-MODIFIED:20250502T094438Z
UID:10022180-1860868800-1860868800@chichesterbid.co.uk
SUMMARY:Jam Night at The Hole in the Wall
DESCRIPTION:Join The Hole in the Wall every Tuesday for their weekly Live Band Jam Night. \nAll styles welcome. \n  \n 
URL:https://chichesterbid.co.uk/event/jam-night-at-the-hole-in-the-wall/2028-12-19/
LOCATION:The Hole in the Wall\, 1 St Martins Street\, Chichester\, West Sussex\, PO19 1NP
CATEGORIES:Alive after Five,Regular Events
ATTACH;FMTTYPE=image/jpeg:https://chichesterbid.co.uk/wp-content/uploads/2025/01/HITWJam-scaled.jpg
END:VEVENT
BEGIN:VEVENT
DTSTART;TZID=UTC:20281224T193000
DTEND;TZID=UTC:20281224T193000
DTSTAMP:20260422T231359
CREATED:20250122T135512Z
LAST-MODIFIED:20250122T135512Z
UID:10021920-1861299000-1861299000@chichesterbid.co.uk
SUMMARY:Quiz Night at The Hole in the Wall
DESCRIPTION:Join The Hole in the Wall every Sunday* for their Quiz Night. \nFantastic prizes to be won for 1st and 2nd place winners. \n£2 entry per person. \nFrom 7.30pm. \nCall or pop in to book your table. \n*except Bank Holidays.
URL:https://chichesterbid.co.uk/event/quiz-night-at-the-hole-in-the-wall/2028-12-24/
LOCATION:The Hole in the Wall\, 1 St Martins Street\, Chichester\, West Sussex\, PO19 1NP
CATEGORIES:Alive after Five,Regular Events
ATTACH;FMTTYPE=image/jpeg:https://chichesterbid.co.uk/wp-content/uploads/2025/01/1000039800.jpg
END:VEVENT
BEGIN:VEVENT
DTSTART;TZID=UTC:20281226T200000
DTEND;TZID=UTC:20281226T200000
DTSTAMP:20260422T231359
CREATED:20250122T135926Z
LAST-MODIFIED:20250502T094438Z
UID:10022181-1861473600-1861473600@chichesterbid.co.uk
SUMMARY:Jam Night at The Hole in the Wall
DESCRIPTION:Join The Hole in the Wall every Tuesday for their weekly Live Band Jam Night. \nAll styles welcome. \n  \n 
URL:https://chichesterbid.co.uk/event/jam-night-at-the-hole-in-the-wall/2028-12-26/
LOCATION:The Hole in the Wall\, 1 St Martins Street\, Chichester\, West Sussex\, PO19 1NP
CATEGORIES:Alive after Five,Regular Events
ATTACH;FMTTYPE=image/jpeg:https://chichesterbid.co.uk/wp-content/uploads/2025/01/HITWJam-scaled.jpg
END:VEVENT
BEGIN:VEVENT
DTSTART;TZID=UTC:20281231T193000
DTEND;TZID=UTC:20281231T193000
DTSTAMP:20260422T231359
CREATED:20250122T135512Z
LAST-MODIFIED:20250122T135512Z
UID:10021921-1861903800-1861903800@chichesterbid.co.uk
SUMMARY:Quiz Night at The Hole in the Wall
DESCRIPTION:Join The Hole in the Wall every Sunday* for their Quiz Night. \nFantastic prizes to be won for 1st and 2nd place winners. \n£2 entry per person. \nFrom 7.30pm. \nCall or pop in to book your table. \n*except Bank Holidays.
URL:https://chichesterbid.co.uk/event/quiz-night-at-the-hole-in-the-wall/2028-12-31/
LOCATION:The Hole in the Wall\, 1 St Martins Street\, Chichester\, West Sussex\, PO19 1NP
CATEGORIES:Alive after Five,Regular Events
ATTACH;FMTTYPE=image/jpeg:https://chichesterbid.co.uk/wp-content/uploads/2025/01/1000039800.jpg
END:VEVENT
BEGIN:VEVENT
DTSTART;TZID=UTC:20290102T200000
DTEND;TZID=UTC:20290102T200000
DTSTAMP:20260422T231359
CREATED:20250122T135926Z
LAST-MODIFIED:20250502T094438Z
UID:10022182-1862078400-1862078400@chichesterbid.co.uk
SUMMARY:Jam Night at The Hole in the Wall
DESCRIPTION:Join The Hole in the Wall every Tuesday for their weekly Live Band Jam Night. \nAll styles welcome. \n  \n 
URL:https://chichesterbid.co.uk/event/jam-night-at-the-hole-in-the-wall/2029-01-02/
LOCATION:The Hole in the Wall\, 1 St Martins Street\, Chichester\, West Sussex\, PO19 1NP
CATEGORIES:Alive after Five,Regular Events
ATTACH;FMTTYPE=image/jpeg:https://chichesterbid.co.uk/wp-content/uploads/2025/01/HITWJam-scaled.jpg
END:VEVENT
END:VCALENDAR