BEGIN:VCALENDAR
VERSION:2.0
PRODID:-//Chichester BID - ECPv6.15.20//NONSGML v1.0//EN
CALSCALE:GREGORIAN
METHOD:PUBLISH
X-WR-CALNAME:Chichester BID
X-ORIGINAL-URL:https://chichesterbid.co.uk
X-WR-CALDESC:Events for Chichester BID
REFRESH-INTERVAL;VALUE=DURATION:PT1H
X-Robots-Tag:noindex
X-PUBLISHED-TTL:PT1H
BEGIN:VTIMEZONE
TZID:UTC
BEGIN:STANDARD
TZOFFSETFROM:+0000
TZOFFSETTO:+0000
TZNAME:UTC
DTSTART:20270101T000000
END:STANDARD
END:VTIMEZONE
BEGIN:VEVENT
DTSTART;TZID=UTC:20281217T193000
DTEND;TZID=UTC:20281217T193000
DTSTAMP:20260423T075734
CREATED:20250122T135512Z
LAST-MODIFIED:20250122T135512Z
UID:10021919-1860694200-1860694200@chichesterbid.co.uk
SUMMARY:Quiz Night at The Hole in the Wall
DESCRIPTION:Join The Hole in the Wall every Sunday* for their Quiz Night. \nFantastic prizes to be won for 1st and 2nd place winners. \n£2 entry per person. \nFrom 7.30pm. \nCall or pop in to book your table. \n*except Bank Holidays.
URL:https://chichesterbid.co.uk/event/quiz-night-at-the-hole-in-the-wall/2028-12-17/
LOCATION:The Hole in the Wall\, 1 St Martins Street\, Chichester\, West Sussex\, PO19 1NP
CATEGORIES:Alive after Five,Regular Events
ATTACH;FMTTYPE=image/jpeg:https://chichesterbid.co.uk/wp-content/uploads/2025/01/1000039800.jpg
END:VEVENT
BEGIN:VEVENT
DTSTART;TZID=UTC:20281219T200000
DTEND;TZID=UTC:20281219T200000
DTSTAMP:20260423T075734
CREATED:20250122T135926Z
LAST-MODIFIED:20250502T094438Z
UID:10022180-1860868800-1860868800@chichesterbid.co.uk
SUMMARY:Jam Night at The Hole in the Wall
DESCRIPTION:Join The Hole in the Wall every Tuesday for their weekly Live Band Jam Night. \nAll styles welcome. \n  \n 
URL:https://chichesterbid.co.uk/event/jam-night-at-the-hole-in-the-wall/2028-12-19/
LOCATION:The Hole in the Wall\, 1 St Martins Street\, Chichester\, West Sussex\, PO19 1NP
CATEGORIES:Alive after Five,Regular Events
ATTACH;FMTTYPE=image/jpeg:https://chichesterbid.co.uk/wp-content/uploads/2025/01/HITWJam-scaled.jpg
END:VEVENT
BEGIN:VEVENT
DTSTART;TZID=UTC:20281224T193000
DTEND;TZID=UTC:20281224T193000
DTSTAMP:20260423T075734
CREATED:20250122T135512Z
LAST-MODIFIED:20250122T135512Z
UID:10021920-1861299000-1861299000@chichesterbid.co.uk
SUMMARY:Quiz Night at The Hole in the Wall
DESCRIPTION:Join The Hole in the Wall every Sunday* for their Quiz Night. \nFantastic prizes to be won for 1st and 2nd place winners. \n£2 entry per person. \nFrom 7.30pm. \nCall or pop in to book your table. \n*except Bank Holidays.
URL:https://chichesterbid.co.uk/event/quiz-night-at-the-hole-in-the-wall/2028-12-24/
LOCATION:The Hole in the Wall\, 1 St Martins Street\, Chichester\, West Sussex\, PO19 1NP
CATEGORIES:Alive after Five,Regular Events
ATTACH;FMTTYPE=image/jpeg:https://chichesterbid.co.uk/wp-content/uploads/2025/01/1000039800.jpg
END:VEVENT
BEGIN:VEVENT
DTSTART;TZID=UTC:20281226T200000
DTEND;TZID=UTC:20281226T200000
DTSTAMP:20260423T075734
CREATED:20250122T135926Z
LAST-MODIFIED:20250502T094438Z
UID:10022181-1861473600-1861473600@chichesterbid.co.uk
SUMMARY:Jam Night at The Hole in the Wall
DESCRIPTION:Join The Hole in the Wall every Tuesday for their weekly Live Band Jam Night. \nAll styles welcome. \n  \n 
URL:https://chichesterbid.co.uk/event/jam-night-at-the-hole-in-the-wall/2028-12-26/
LOCATION:The Hole in the Wall\, 1 St Martins Street\, Chichester\, West Sussex\, PO19 1NP
CATEGORIES:Alive after Five,Regular Events
ATTACH;FMTTYPE=image/jpeg:https://chichesterbid.co.uk/wp-content/uploads/2025/01/HITWJam-scaled.jpg
END:VEVENT
BEGIN:VEVENT
DTSTART;TZID=UTC:20281231T193000
DTEND;TZID=UTC:20281231T193000
DTSTAMP:20260423T075734
CREATED:20250122T135512Z
LAST-MODIFIED:20250122T135512Z
UID:10021921-1861903800-1861903800@chichesterbid.co.uk
SUMMARY:Quiz Night at The Hole in the Wall
DESCRIPTION:Join The Hole in the Wall every Sunday* for their Quiz Night. \nFantastic prizes to be won for 1st and 2nd place winners. \n£2 entry per person. \nFrom 7.30pm. \nCall or pop in to book your table. \n*except Bank Holidays.
URL:https://chichesterbid.co.uk/event/quiz-night-at-the-hole-in-the-wall/2028-12-31/
LOCATION:The Hole in the Wall\, 1 St Martins Street\, Chichester\, West Sussex\, PO19 1NP
CATEGORIES:Alive after Five,Regular Events
ATTACH;FMTTYPE=image/jpeg:https://chichesterbid.co.uk/wp-content/uploads/2025/01/1000039800.jpg
END:VEVENT
BEGIN:VEVENT
DTSTART;TZID=UTC:20290102T200000
DTEND;TZID=UTC:20290102T200000
DTSTAMP:20260423T075734
CREATED:20250122T135926Z
LAST-MODIFIED:20250502T094438Z
UID:10022182-1862078400-1862078400@chichesterbid.co.uk
SUMMARY:Jam Night at The Hole in the Wall
DESCRIPTION:Join The Hole in the Wall every Tuesday for their weekly Live Band Jam Night. \nAll styles welcome. \n  \n 
URL:https://chichesterbid.co.uk/event/jam-night-at-the-hole-in-the-wall/2029-01-02/
LOCATION:The Hole in the Wall\, 1 St Martins Street\, Chichester\, West Sussex\, PO19 1NP
CATEGORIES:Alive after Five,Regular Events
ATTACH;FMTTYPE=image/jpeg:https://chichesterbid.co.uk/wp-content/uploads/2025/01/HITWJam-scaled.jpg
END:VEVENT
BEGIN:VEVENT
DTSTART;TZID=UTC:20290107T193000
DTEND;TZID=UTC:20290107T193000
DTSTAMP:20260423T075734
CREATED:20250122T135512Z
LAST-MODIFIED:20250122T135512Z
UID:10021922-1862508600-1862508600@chichesterbid.co.uk
SUMMARY:Quiz Night at The Hole in the Wall
DESCRIPTION:Join The Hole in the Wall every Sunday* for their Quiz Night. \nFantastic prizes to be won for 1st and 2nd place winners. \n£2 entry per person. \nFrom 7.30pm. \nCall or pop in to book your table. \n*except Bank Holidays.
URL:https://chichesterbid.co.uk/event/quiz-night-at-the-hole-in-the-wall/2029-01-07/
LOCATION:The Hole in the Wall\, 1 St Martins Street\, Chichester\, West Sussex\, PO19 1NP
CATEGORIES:Alive after Five,Regular Events
ATTACH;FMTTYPE=image/jpeg:https://chichesterbid.co.uk/wp-content/uploads/2025/01/1000039800.jpg
END:VEVENT
BEGIN:VEVENT
DTSTART;TZID=UTC:20290109T200000
DTEND;TZID=UTC:20290109T200000
DTSTAMP:20260423T075734
CREATED:20250122T135926Z
LAST-MODIFIED:20250502T094438Z
UID:10022183-1862683200-1862683200@chichesterbid.co.uk
SUMMARY:Jam Night at The Hole in the Wall
DESCRIPTION:Join The Hole in the Wall every Tuesday for their weekly Live Band Jam Night. \nAll styles welcome. \n  \n 
URL:https://chichesterbid.co.uk/event/jam-night-at-the-hole-in-the-wall/2029-01-09/
LOCATION:The Hole in the Wall\, 1 St Martins Street\, Chichester\, West Sussex\, PO19 1NP
CATEGORIES:Alive after Five,Regular Events
ATTACH;FMTTYPE=image/jpeg:https://chichesterbid.co.uk/wp-content/uploads/2025/01/HITWJam-scaled.jpg
END:VEVENT
BEGIN:VEVENT
DTSTART;TZID=UTC:20290114T193000
DTEND;TZID=UTC:20290114T193000
DTSTAMP:20260423T075734
CREATED:20250122T135512Z
LAST-MODIFIED:20250122T135512Z
UID:10021923-1863113400-1863113400@chichesterbid.co.uk
SUMMARY:Quiz Night at The Hole in the Wall
DESCRIPTION:Join The Hole in the Wall every Sunday* for their Quiz Night. \nFantastic prizes to be won for 1st and 2nd place winners. \n£2 entry per person. \nFrom 7.30pm. \nCall or pop in to book your table. \n*except Bank Holidays.
URL:https://chichesterbid.co.uk/event/quiz-night-at-the-hole-in-the-wall/2029-01-14/
LOCATION:The Hole in the Wall\, 1 St Martins Street\, Chichester\, West Sussex\, PO19 1NP
CATEGORIES:Alive after Five,Regular Events
ATTACH;FMTTYPE=image/jpeg:https://chichesterbid.co.uk/wp-content/uploads/2025/01/1000039800.jpg
END:VEVENT
BEGIN:VEVENT
DTSTART;TZID=UTC:20290116T200000
DTEND;TZID=UTC:20290116T200000
DTSTAMP:20260423T075734
CREATED:20250122T135926Z
LAST-MODIFIED:20250502T094438Z
UID:10022184-1863288000-1863288000@chichesterbid.co.uk
SUMMARY:Jam Night at The Hole in the Wall
DESCRIPTION:Join The Hole in the Wall every Tuesday for their weekly Live Band Jam Night. \nAll styles welcome. \n  \n 
URL:https://chichesterbid.co.uk/event/jam-night-at-the-hole-in-the-wall/2029-01-16/
LOCATION:The Hole in the Wall\, 1 St Martins Street\, Chichester\, West Sussex\, PO19 1NP
CATEGORIES:Alive after Five,Regular Events
ATTACH;FMTTYPE=image/jpeg:https://chichesterbid.co.uk/wp-content/uploads/2025/01/HITWJam-scaled.jpg
END:VEVENT
BEGIN:VEVENT
DTSTART;TZID=UTC:20290121T193000
DTEND;TZID=UTC:20290121T193000
DTSTAMP:20260423T075734
CREATED:20250122T135512Z
LAST-MODIFIED:20250122T135512Z
UID:10021924-1863718200-1863718200@chichesterbid.co.uk
SUMMARY:Quiz Night at The Hole in the Wall
DESCRIPTION:Join The Hole in the Wall every Sunday* for their Quiz Night. \nFantastic prizes to be won for 1st and 2nd place winners. \n£2 entry per person. \nFrom 7.30pm. \nCall or pop in to book your table. \n*except Bank Holidays.
URL:https://chichesterbid.co.uk/event/quiz-night-at-the-hole-in-the-wall/2029-01-21/
LOCATION:The Hole in the Wall\, 1 St Martins Street\, Chichester\, West Sussex\, PO19 1NP
CATEGORIES:Alive after Five,Regular Events
ATTACH;FMTTYPE=image/jpeg:https://chichesterbid.co.uk/wp-content/uploads/2025/01/1000039800.jpg
END:VEVENT
BEGIN:VEVENT
DTSTART;TZID=UTC:20290123T200000
DTEND;TZID=UTC:20290123T200000
DTSTAMP:20260423T075734
CREATED:20250122T135926Z
LAST-MODIFIED:20250502T094438Z
UID:10022185-1863892800-1863892800@chichesterbid.co.uk
SUMMARY:Jam Night at The Hole in the Wall
DESCRIPTION:Join The Hole in the Wall every Tuesday for their weekly Live Band Jam Night. \nAll styles welcome. \n  \n 
URL:https://chichesterbid.co.uk/event/jam-night-at-the-hole-in-the-wall/2029-01-23/
LOCATION:The Hole in the Wall\, 1 St Martins Street\, Chichester\, West Sussex\, PO19 1NP
CATEGORIES:Alive after Five,Regular Events
ATTACH;FMTTYPE=image/jpeg:https://chichesterbid.co.uk/wp-content/uploads/2025/01/HITWJam-scaled.jpg
END:VEVENT
BEGIN:VEVENT
DTSTART;TZID=UTC:20290128T193000
DTEND;TZID=UTC:20290128T193000
DTSTAMP:20260423T075734
CREATED:20250122T135512Z
LAST-MODIFIED:20250122T135512Z
UID:10021925-1864323000-1864323000@chichesterbid.co.uk
SUMMARY:Quiz Night at The Hole in the Wall
DESCRIPTION:Join The Hole in the Wall every Sunday* for their Quiz Night. \nFantastic prizes to be won for 1st and 2nd place winners. \n£2 entry per person. \nFrom 7.30pm. \nCall or pop in to book your table. \n*except Bank Holidays.
URL:https://chichesterbid.co.uk/event/quiz-night-at-the-hole-in-the-wall/2029-01-28/
LOCATION:The Hole in the Wall\, 1 St Martins Street\, Chichester\, West Sussex\, PO19 1NP
CATEGORIES:Alive after Five,Regular Events
ATTACH;FMTTYPE=image/jpeg:https://chichesterbid.co.uk/wp-content/uploads/2025/01/1000039800.jpg
END:VEVENT
BEGIN:VEVENT
DTSTART;TZID=UTC:20290130T200000
DTEND;TZID=UTC:20290130T200000
DTSTAMP:20260423T075734
CREATED:20250122T135926Z
LAST-MODIFIED:20250502T094438Z
UID:10022186-1864497600-1864497600@chichesterbid.co.uk
SUMMARY:Jam Night at The Hole in the Wall
DESCRIPTION:Join The Hole in the Wall every Tuesday for their weekly Live Band Jam Night. \nAll styles welcome. \n  \n 
URL:https://chichesterbid.co.uk/event/jam-night-at-the-hole-in-the-wall/2029-01-30/
LOCATION:The Hole in the Wall\, 1 St Martins Street\, Chichester\, West Sussex\, PO19 1NP
CATEGORIES:Alive after Five,Regular Events
ATTACH;FMTTYPE=image/jpeg:https://chichesterbid.co.uk/wp-content/uploads/2025/01/HITWJam-scaled.jpg
END:VEVENT
BEGIN:VEVENT
DTSTART;TZID=UTC:20290204T193000
DTEND;TZID=UTC:20290204T193000
DTSTAMP:20260423T075734
CREATED:20250122T135512Z
LAST-MODIFIED:20250122T135512Z
UID:10021926-1864927800-1864927800@chichesterbid.co.uk
SUMMARY:Quiz Night at The Hole in the Wall
DESCRIPTION:Join The Hole in the Wall every Sunday* for their Quiz Night. \nFantastic prizes to be won for 1st and 2nd place winners. \n£2 entry per person. \nFrom 7.30pm. \nCall or pop in to book your table. \n*except Bank Holidays.
URL:https://chichesterbid.co.uk/event/quiz-night-at-the-hole-in-the-wall/2029-02-04/
LOCATION:The Hole in the Wall\, 1 St Martins Street\, Chichester\, West Sussex\, PO19 1NP
CATEGORIES:Alive after Five,Regular Events
ATTACH;FMTTYPE=image/jpeg:https://chichesterbid.co.uk/wp-content/uploads/2025/01/1000039800.jpg
END:VEVENT
BEGIN:VEVENT
DTSTART;TZID=UTC:20290206T200000
DTEND;TZID=UTC:20290206T200000
DTSTAMP:20260423T075734
CREATED:20250122T135926Z
LAST-MODIFIED:20250502T094438Z
UID:10022187-1865102400-1865102400@chichesterbid.co.uk
SUMMARY:Jam Night at The Hole in the Wall
DESCRIPTION:Join The Hole in the Wall every Tuesday for their weekly Live Band Jam Night. \nAll styles welcome. \n  \n 
URL:https://chichesterbid.co.uk/event/jam-night-at-the-hole-in-the-wall/2029-02-06/
LOCATION:The Hole in the Wall\, 1 St Martins Street\, Chichester\, West Sussex\, PO19 1NP
CATEGORIES:Alive after Five,Regular Events
ATTACH;FMTTYPE=image/jpeg:https://chichesterbid.co.uk/wp-content/uploads/2025/01/HITWJam-scaled.jpg
END:VEVENT
BEGIN:VEVENT
DTSTART;TZID=UTC:20290211T193000
DTEND;TZID=UTC:20290211T193000
DTSTAMP:20260423T075734
CREATED:20250122T135512Z
LAST-MODIFIED:20250122T135512Z
UID:10021927-1865532600-1865532600@chichesterbid.co.uk
SUMMARY:Quiz Night at The Hole in the Wall
DESCRIPTION:Join The Hole in the Wall every Sunday* for their Quiz Night. \nFantastic prizes to be won for 1st and 2nd place winners. \n£2 entry per person. \nFrom 7.30pm. \nCall or pop in to book your table. \n*except Bank Holidays.
URL:https://chichesterbid.co.uk/event/quiz-night-at-the-hole-in-the-wall/2029-02-11/
LOCATION:The Hole in the Wall\, 1 St Martins Street\, Chichester\, West Sussex\, PO19 1NP
CATEGORIES:Alive after Five,Regular Events
ATTACH;FMTTYPE=image/jpeg:https://chichesterbid.co.uk/wp-content/uploads/2025/01/1000039800.jpg
END:VEVENT
BEGIN:VEVENT
DTSTART;TZID=UTC:20290213T200000
DTEND;TZID=UTC:20290213T200000
DTSTAMP:20260423T075734
CREATED:20250122T135926Z
LAST-MODIFIED:20250502T094438Z
UID:10022188-1865707200-1865707200@chichesterbid.co.uk
SUMMARY:Jam Night at The Hole in the Wall
DESCRIPTION:Join The Hole in the Wall every Tuesday for their weekly Live Band Jam Night. \nAll styles welcome. \n  \n 
URL:https://chichesterbid.co.uk/event/jam-night-at-the-hole-in-the-wall/2029-02-13/
LOCATION:The Hole in the Wall\, 1 St Martins Street\, Chichester\, West Sussex\, PO19 1NP
CATEGORIES:Alive after Five,Regular Events
ATTACH;FMTTYPE=image/jpeg:https://chichesterbid.co.uk/wp-content/uploads/2025/01/HITWJam-scaled.jpg
END:VEVENT
BEGIN:VEVENT
DTSTART;TZID=UTC:20290218T193000
DTEND;TZID=UTC:20290218T193000
DTSTAMP:20260423T075734
CREATED:20250122T135512Z
LAST-MODIFIED:20250122T135512Z
UID:10021928-1866137400-1866137400@chichesterbid.co.uk
SUMMARY:Quiz Night at The Hole in the Wall
DESCRIPTION:Join The Hole in the Wall every Sunday* for their Quiz Night. \nFantastic prizes to be won for 1st and 2nd place winners. \n£2 entry per person. \nFrom 7.30pm. \nCall or pop in to book your table. \n*except Bank Holidays.
URL:https://chichesterbid.co.uk/event/quiz-night-at-the-hole-in-the-wall/2029-02-18/
LOCATION:The Hole in the Wall\, 1 St Martins Street\, Chichester\, West Sussex\, PO19 1NP
CATEGORIES:Alive after Five,Regular Events
ATTACH;FMTTYPE=image/jpeg:https://chichesterbid.co.uk/wp-content/uploads/2025/01/1000039800.jpg
END:VEVENT
BEGIN:VEVENT
DTSTART;TZID=UTC:20290220T200000
DTEND;TZID=UTC:20290220T200000
DTSTAMP:20260423T075734
CREATED:20250122T135926Z
LAST-MODIFIED:20250502T094438Z
UID:10022189-1866312000-1866312000@chichesterbid.co.uk
SUMMARY:Jam Night at The Hole in the Wall
DESCRIPTION:Join The Hole in the Wall every Tuesday for their weekly Live Band Jam Night. \nAll styles welcome. \n  \n 
URL:https://chichesterbid.co.uk/event/jam-night-at-the-hole-in-the-wall/2029-02-20/
LOCATION:The Hole in the Wall\, 1 St Martins Street\, Chichester\, West Sussex\, PO19 1NP
CATEGORIES:Alive after Five,Regular Events
ATTACH;FMTTYPE=image/jpeg:https://chichesterbid.co.uk/wp-content/uploads/2025/01/HITWJam-scaled.jpg
END:VEVENT
BEGIN:VEVENT
DTSTART;TZID=UTC:20290225T193000
DTEND;TZID=UTC:20290225T193000
DTSTAMP:20260423T075734
CREATED:20250122T135512Z
LAST-MODIFIED:20250122T135512Z
UID:10021929-1866742200-1866742200@chichesterbid.co.uk
SUMMARY:Quiz Night at The Hole in the Wall
DESCRIPTION:Join The Hole in the Wall every Sunday* for their Quiz Night. \nFantastic prizes to be won for 1st and 2nd place winners. \n£2 entry per person. \nFrom 7.30pm. \nCall or pop in to book your table. \n*except Bank Holidays.
URL:https://chichesterbid.co.uk/event/quiz-night-at-the-hole-in-the-wall/2029-02-25/
LOCATION:The Hole in the Wall\, 1 St Martins Street\, Chichester\, West Sussex\, PO19 1NP
CATEGORIES:Alive after Five,Regular Events
ATTACH;FMTTYPE=image/jpeg:https://chichesterbid.co.uk/wp-content/uploads/2025/01/1000039800.jpg
END:VEVENT
BEGIN:VEVENT
DTSTART;TZID=UTC:20290227T200000
DTEND;TZID=UTC:20290227T200000
DTSTAMP:20260423T075734
CREATED:20250122T135926Z
LAST-MODIFIED:20250502T094438Z
UID:10022190-1866916800-1866916800@chichesterbid.co.uk
SUMMARY:Jam Night at The Hole in the Wall
DESCRIPTION:Join The Hole in the Wall every Tuesday for their weekly Live Band Jam Night. \nAll styles welcome. \n  \n 
URL:https://chichesterbid.co.uk/event/jam-night-at-the-hole-in-the-wall/2029-02-27/
LOCATION:The Hole in the Wall\, 1 St Martins Street\, Chichester\, West Sussex\, PO19 1NP
CATEGORIES:Alive after Five,Regular Events
ATTACH;FMTTYPE=image/jpeg:https://chichesterbid.co.uk/wp-content/uploads/2025/01/HITWJam-scaled.jpg
END:VEVENT
BEGIN:VEVENT
DTSTART;TZID=UTC:20290304T193000
DTEND;TZID=UTC:20290304T193000
DTSTAMP:20260423T075734
CREATED:20250122T135512Z
LAST-MODIFIED:20250122T135512Z
UID:10021930-1867347000-1867347000@chichesterbid.co.uk
SUMMARY:Quiz Night at The Hole in the Wall
DESCRIPTION:Join The Hole in the Wall every Sunday* for their Quiz Night. \nFantastic prizes to be won for 1st and 2nd place winners. \n£2 entry per person. \nFrom 7.30pm. \nCall or pop in to book your table. \n*except Bank Holidays.
URL:https://chichesterbid.co.uk/event/quiz-night-at-the-hole-in-the-wall/2029-03-04/
LOCATION:The Hole in the Wall\, 1 St Martins Street\, Chichester\, West Sussex\, PO19 1NP
CATEGORIES:Alive after Five,Regular Events
ATTACH;FMTTYPE=image/jpeg:https://chichesterbid.co.uk/wp-content/uploads/2025/01/1000039800.jpg
END:VEVENT
BEGIN:VEVENT
DTSTART;TZID=UTC:20290306T200000
DTEND;TZID=UTC:20290306T200000
DTSTAMP:20260423T075734
CREATED:20250122T135926Z
LAST-MODIFIED:20250502T094438Z
UID:10022191-1867521600-1867521600@chichesterbid.co.uk
SUMMARY:Jam Night at The Hole in the Wall
DESCRIPTION:Join The Hole in the Wall every Tuesday for their weekly Live Band Jam Night. \nAll styles welcome. \n  \n 
URL:https://chichesterbid.co.uk/event/jam-night-at-the-hole-in-the-wall/2029-03-06/
LOCATION:The Hole in the Wall\, 1 St Martins Street\, Chichester\, West Sussex\, PO19 1NP
CATEGORIES:Alive after Five,Regular Events
ATTACH;FMTTYPE=image/jpeg:https://chichesterbid.co.uk/wp-content/uploads/2025/01/HITWJam-scaled.jpg
END:VEVENT
BEGIN:VEVENT
DTSTART;TZID=UTC:20290311T193000
DTEND;TZID=UTC:20290311T193000
DTSTAMP:20260423T075734
CREATED:20250122T135512Z
LAST-MODIFIED:20250122T135512Z
UID:10021931-1867951800-1867951800@chichesterbid.co.uk
SUMMARY:Quiz Night at The Hole in the Wall
DESCRIPTION:Join The Hole in the Wall every Sunday* for their Quiz Night. \nFantastic prizes to be won for 1st and 2nd place winners. \n£2 entry per person. \nFrom 7.30pm. \nCall or pop in to book your table. \n*except Bank Holidays.
URL:https://chichesterbid.co.uk/event/quiz-night-at-the-hole-in-the-wall/2029-03-11/
LOCATION:The Hole in the Wall\, 1 St Martins Street\, Chichester\, West Sussex\, PO19 1NP
CATEGORIES:Alive after Five,Regular Events
ATTACH;FMTTYPE=image/jpeg:https://chichesterbid.co.uk/wp-content/uploads/2025/01/1000039800.jpg
END:VEVENT
BEGIN:VEVENT
DTSTART;TZID=UTC:20290313T200000
DTEND;TZID=UTC:20290313T200000
DTSTAMP:20260423T075734
CREATED:20250122T135926Z
LAST-MODIFIED:20250502T094438Z
UID:10022192-1868126400-1868126400@chichesterbid.co.uk
SUMMARY:Jam Night at The Hole in the Wall
DESCRIPTION:Join The Hole in the Wall every Tuesday for their weekly Live Band Jam Night. \nAll styles welcome. \n  \n 
URL:https://chichesterbid.co.uk/event/jam-night-at-the-hole-in-the-wall/2029-03-13/
LOCATION:The Hole in the Wall\, 1 St Martins Street\, Chichester\, West Sussex\, PO19 1NP
CATEGORIES:Alive after Five,Regular Events
ATTACH;FMTTYPE=image/jpeg:https://chichesterbid.co.uk/wp-content/uploads/2025/01/HITWJam-scaled.jpg
END:VEVENT
BEGIN:VEVENT
DTSTART;TZID=UTC:20290318T193000
DTEND;TZID=UTC:20290318T193000
DTSTAMP:20260423T075734
CREATED:20250122T135512Z
LAST-MODIFIED:20250122T135512Z
UID:10021932-1868556600-1868556600@chichesterbid.co.uk
SUMMARY:Quiz Night at The Hole in the Wall
DESCRIPTION:Join The Hole in the Wall every Sunday* for their Quiz Night. \nFantastic prizes to be won for 1st and 2nd place winners. \n£2 entry per person. \nFrom 7.30pm. \nCall or pop in to book your table. \n*except Bank Holidays.
URL:https://chichesterbid.co.uk/event/quiz-night-at-the-hole-in-the-wall/2029-03-18/
LOCATION:The Hole in the Wall\, 1 St Martins Street\, Chichester\, West Sussex\, PO19 1NP
CATEGORIES:Alive after Five,Regular Events
ATTACH;FMTTYPE=image/jpeg:https://chichesterbid.co.uk/wp-content/uploads/2025/01/1000039800.jpg
END:VEVENT
BEGIN:VEVENT
DTSTART;TZID=UTC:20290320T200000
DTEND;TZID=UTC:20290320T200000
DTSTAMP:20260423T075734
CREATED:20250122T135926Z
LAST-MODIFIED:20250502T094438Z
UID:10022193-1868731200-1868731200@chichesterbid.co.uk
SUMMARY:Jam Night at The Hole in the Wall
DESCRIPTION:Join The Hole in the Wall every Tuesday for their weekly Live Band Jam Night. \nAll styles welcome. \n  \n 
URL:https://chichesterbid.co.uk/event/jam-night-at-the-hole-in-the-wall/2029-03-20/
LOCATION:The Hole in the Wall\, 1 St Martins Street\, Chichester\, West Sussex\, PO19 1NP
CATEGORIES:Alive after Five,Regular Events
ATTACH;FMTTYPE=image/jpeg:https://chichesterbid.co.uk/wp-content/uploads/2025/01/HITWJam-scaled.jpg
END:VEVENT
BEGIN:VEVENT
DTSTART;TZID=UTC:20290325T193000
DTEND;TZID=UTC:20290325T193000
DTSTAMP:20260423T075734
CREATED:20250122T135512Z
LAST-MODIFIED:20250122T135512Z
UID:10021933-1869161400-1869161400@chichesterbid.co.uk
SUMMARY:Quiz Night at The Hole in the Wall
DESCRIPTION:Join The Hole in the Wall every Sunday* for their Quiz Night. \nFantastic prizes to be won for 1st and 2nd place winners. \n£2 entry per person. \nFrom 7.30pm. \nCall or pop in to book your table. \n*except Bank Holidays.
URL:https://chichesterbid.co.uk/event/quiz-night-at-the-hole-in-the-wall/2029-03-25/
LOCATION:The Hole in the Wall\, 1 St Martins Street\, Chichester\, West Sussex\, PO19 1NP
CATEGORIES:Alive after Five,Regular Events
ATTACH;FMTTYPE=image/jpeg:https://chichesterbid.co.uk/wp-content/uploads/2025/01/1000039800.jpg
END:VEVENT
BEGIN:VEVENT
DTSTART;TZID=UTC:20290327T200000
DTEND;TZID=UTC:20290327T200000
DTSTAMP:20260423T075734
CREATED:20250122T135926Z
LAST-MODIFIED:20250502T094438Z
UID:10022194-1869336000-1869336000@chichesterbid.co.uk
SUMMARY:Jam Night at The Hole in the Wall
DESCRIPTION:Join The Hole in the Wall every Tuesday for their weekly Live Band Jam Night. \nAll styles welcome. \n  \n 
URL:https://chichesterbid.co.uk/event/jam-night-at-the-hole-in-the-wall/2029-03-27/
LOCATION:The Hole in the Wall\, 1 St Martins Street\, Chichester\, West Sussex\, PO19 1NP
CATEGORIES:Alive after Five,Regular Events
ATTACH;FMTTYPE=image/jpeg:https://chichesterbid.co.uk/wp-content/uploads/2025/01/HITWJam-scaled.jpg
END:VEVENT
END:VCALENDAR