BEGIN:VCALENDAR
VERSION:2.0
PRODID:-//Chichester BID - ECPv6.15.20//NONSGML v1.0//EN
CALSCALE:GREGORIAN
METHOD:PUBLISH
X-WR-CALNAME:Chichester BID
X-ORIGINAL-URL:https://chichesterbid.co.uk
X-WR-CALDESC:Events for Chichester BID
REFRESH-INTERVAL;VALUE=DURATION:PT1H
X-Robots-Tag:noindex
X-PUBLISHED-TTL:PT1H
BEGIN:VTIMEZONE
TZID:UTC
BEGIN:STANDARD
TZOFFSETFROM:+0000
TZOFFSETTO:+0000
TZNAME:UTC
DTSTART:20280101T000000
END:STANDARD
END:VTIMEZONE
BEGIN:VEVENT
DTSTART;TZID=UTC:20290311T193000
DTEND;TZID=UTC:20290311T193000
DTSTAMP:20260424T224328
CREATED:20250122T135512Z
LAST-MODIFIED:20250122T135512Z
UID:10021931-1867951800-1867951800@chichesterbid.co.uk
SUMMARY:Quiz Night at The Hole in the Wall
DESCRIPTION:Join The Hole in the Wall every Sunday* for their Quiz Night. \nFantastic prizes to be won for 1st and 2nd place winners. \n£2 entry per person. \nFrom 7.30pm. \nCall or pop in to book your table. \n*except Bank Holidays.
URL:https://chichesterbid.co.uk/event/quiz-night-at-the-hole-in-the-wall/2029-03-11/
LOCATION:The Hole in the Wall\, 1 St Martins Street\, Chichester\, West Sussex\, PO19 1NP
CATEGORIES:Alive after Five,Regular Events
ATTACH;FMTTYPE=image/jpeg:https://chichesterbid.co.uk/wp-content/uploads/2025/01/1000039800.jpg
END:VEVENT
BEGIN:VEVENT
DTSTART;TZID=UTC:20290313T200000
DTEND;TZID=UTC:20290313T200000
DTSTAMP:20260424T224328
CREATED:20250122T135926Z
LAST-MODIFIED:20250502T094438Z
UID:10022192-1868126400-1868126400@chichesterbid.co.uk
SUMMARY:Jam Night at The Hole in the Wall
DESCRIPTION:Join The Hole in the Wall every Tuesday for their weekly Live Band Jam Night. \nAll styles welcome. \n  \n 
URL:https://chichesterbid.co.uk/event/jam-night-at-the-hole-in-the-wall/2029-03-13/
LOCATION:The Hole in the Wall\, 1 St Martins Street\, Chichester\, West Sussex\, PO19 1NP
CATEGORIES:Alive after Five,Regular Events
ATTACH;FMTTYPE=image/jpeg:https://chichesterbid.co.uk/wp-content/uploads/2025/01/HITWJam-scaled.jpg
END:VEVENT
BEGIN:VEVENT
DTSTART;TZID=UTC:20290318T193000
DTEND;TZID=UTC:20290318T193000
DTSTAMP:20260424T224328
CREATED:20250122T135512Z
LAST-MODIFIED:20250122T135512Z
UID:10021932-1868556600-1868556600@chichesterbid.co.uk
SUMMARY:Quiz Night at The Hole in the Wall
DESCRIPTION:Join The Hole in the Wall every Sunday* for their Quiz Night. \nFantastic prizes to be won for 1st and 2nd place winners. \n£2 entry per person. \nFrom 7.30pm. \nCall or pop in to book your table. \n*except Bank Holidays.
URL:https://chichesterbid.co.uk/event/quiz-night-at-the-hole-in-the-wall/2029-03-18/
LOCATION:The Hole in the Wall\, 1 St Martins Street\, Chichester\, West Sussex\, PO19 1NP
CATEGORIES:Alive after Five,Regular Events
ATTACH;FMTTYPE=image/jpeg:https://chichesterbid.co.uk/wp-content/uploads/2025/01/1000039800.jpg
END:VEVENT
BEGIN:VEVENT
DTSTART;TZID=UTC:20290320T200000
DTEND;TZID=UTC:20290320T200000
DTSTAMP:20260424T224328
CREATED:20250122T135926Z
LAST-MODIFIED:20250502T094438Z
UID:10022193-1868731200-1868731200@chichesterbid.co.uk
SUMMARY:Jam Night at The Hole in the Wall
DESCRIPTION:Join The Hole in the Wall every Tuesday for their weekly Live Band Jam Night. \nAll styles welcome. \n  \n 
URL:https://chichesterbid.co.uk/event/jam-night-at-the-hole-in-the-wall/2029-03-20/
LOCATION:The Hole in the Wall\, 1 St Martins Street\, Chichester\, West Sussex\, PO19 1NP
CATEGORIES:Alive after Five,Regular Events
ATTACH;FMTTYPE=image/jpeg:https://chichesterbid.co.uk/wp-content/uploads/2025/01/HITWJam-scaled.jpg
END:VEVENT
BEGIN:VEVENT
DTSTART;TZID=UTC:20290325T193000
DTEND;TZID=UTC:20290325T193000
DTSTAMP:20260424T224328
CREATED:20250122T135512Z
LAST-MODIFIED:20250122T135512Z
UID:10021933-1869161400-1869161400@chichesterbid.co.uk
SUMMARY:Quiz Night at The Hole in the Wall
DESCRIPTION:Join The Hole in the Wall every Sunday* for their Quiz Night. \nFantastic prizes to be won for 1st and 2nd place winners. \n£2 entry per person. \nFrom 7.30pm. \nCall or pop in to book your table. \n*except Bank Holidays.
URL:https://chichesterbid.co.uk/event/quiz-night-at-the-hole-in-the-wall/2029-03-25/
LOCATION:The Hole in the Wall\, 1 St Martins Street\, Chichester\, West Sussex\, PO19 1NP
CATEGORIES:Alive after Five,Regular Events
ATTACH;FMTTYPE=image/jpeg:https://chichesterbid.co.uk/wp-content/uploads/2025/01/1000039800.jpg
END:VEVENT
BEGIN:VEVENT
DTSTART;TZID=UTC:20290327T200000
DTEND;TZID=UTC:20290327T200000
DTSTAMP:20260424T224328
CREATED:20250122T135926Z
LAST-MODIFIED:20250502T094438Z
UID:10022194-1869336000-1869336000@chichesterbid.co.uk
SUMMARY:Jam Night at The Hole in the Wall
DESCRIPTION:Join The Hole in the Wall every Tuesday for their weekly Live Band Jam Night. \nAll styles welcome. \n  \n 
URL:https://chichesterbid.co.uk/event/jam-night-at-the-hole-in-the-wall/2029-03-27/
LOCATION:The Hole in the Wall\, 1 St Martins Street\, Chichester\, West Sussex\, PO19 1NP
CATEGORIES:Alive after Five,Regular Events
ATTACH;FMTTYPE=image/jpeg:https://chichesterbid.co.uk/wp-content/uploads/2025/01/HITWJam-scaled.jpg
END:VEVENT
BEGIN:VEVENT
DTSTART;TZID=UTC:20290401T193000
DTEND;TZID=UTC:20290401T193000
DTSTAMP:20260424T224328
CREATED:20250122T135512Z
LAST-MODIFIED:20250122T135512Z
UID:10021934-1869766200-1869766200@chichesterbid.co.uk
SUMMARY:Quiz Night at The Hole in the Wall
DESCRIPTION:Join The Hole in the Wall every Sunday* for their Quiz Night. \nFantastic prizes to be won for 1st and 2nd place winners. \n£2 entry per person. \nFrom 7.30pm. \nCall or pop in to book your table. \n*except Bank Holidays.
URL:https://chichesterbid.co.uk/event/quiz-night-at-the-hole-in-the-wall/2029-04-01/
LOCATION:The Hole in the Wall\, 1 St Martins Street\, Chichester\, West Sussex\, PO19 1NP
CATEGORIES:Alive after Five,Regular Events
ATTACH;FMTTYPE=image/jpeg:https://chichesterbid.co.uk/wp-content/uploads/2025/01/1000039800.jpg
END:VEVENT
BEGIN:VEVENT
DTSTART;TZID=UTC:20290403T200000
DTEND;TZID=UTC:20290403T200000
DTSTAMP:20260424T224328
CREATED:20250122T135926Z
LAST-MODIFIED:20250502T094438Z
UID:10022195-1869940800-1869940800@chichesterbid.co.uk
SUMMARY:Jam Night at The Hole in the Wall
DESCRIPTION:Join The Hole in the Wall every Tuesday for their weekly Live Band Jam Night. \nAll styles welcome. \n  \n 
URL:https://chichesterbid.co.uk/event/jam-night-at-the-hole-in-the-wall/2029-04-03/
LOCATION:The Hole in the Wall\, 1 St Martins Street\, Chichester\, West Sussex\, PO19 1NP
CATEGORIES:Alive after Five,Regular Events
ATTACH;FMTTYPE=image/jpeg:https://chichesterbid.co.uk/wp-content/uploads/2025/01/HITWJam-scaled.jpg
END:VEVENT
BEGIN:VEVENT
DTSTART;TZID=UTC:20290408T193000
DTEND;TZID=UTC:20290408T193000
DTSTAMP:20260424T224328
CREATED:20250122T135512Z
LAST-MODIFIED:20250122T135512Z
UID:10021935-1870371000-1870371000@chichesterbid.co.uk
SUMMARY:Quiz Night at The Hole in the Wall
DESCRIPTION:Join The Hole in the Wall every Sunday* for their Quiz Night. \nFantastic prizes to be won for 1st and 2nd place winners. \n£2 entry per person. \nFrom 7.30pm. \nCall or pop in to book your table. \n*except Bank Holidays.
URL:https://chichesterbid.co.uk/event/quiz-night-at-the-hole-in-the-wall/2029-04-08/
LOCATION:The Hole in the Wall\, 1 St Martins Street\, Chichester\, West Sussex\, PO19 1NP
CATEGORIES:Alive after Five,Regular Events
ATTACH;FMTTYPE=image/jpeg:https://chichesterbid.co.uk/wp-content/uploads/2025/01/1000039800.jpg
END:VEVENT
BEGIN:VEVENT
DTSTART;TZID=UTC:20290410T200000
DTEND;TZID=UTC:20290410T200000
DTSTAMP:20260424T224328
CREATED:20250122T135926Z
LAST-MODIFIED:20250502T094438Z
UID:10022196-1870545600-1870545600@chichesterbid.co.uk
SUMMARY:Jam Night at The Hole in the Wall
DESCRIPTION:Join The Hole in the Wall every Tuesday for their weekly Live Band Jam Night. \nAll styles welcome. \n  \n 
URL:https://chichesterbid.co.uk/event/jam-night-at-the-hole-in-the-wall/2029-04-10/
LOCATION:The Hole in the Wall\, 1 St Martins Street\, Chichester\, West Sussex\, PO19 1NP
CATEGORIES:Alive after Five,Regular Events
ATTACH;FMTTYPE=image/jpeg:https://chichesterbid.co.uk/wp-content/uploads/2025/01/HITWJam-scaled.jpg
END:VEVENT
BEGIN:VEVENT
DTSTART;TZID=UTC:20290415T193000
DTEND;TZID=UTC:20290415T193000
DTSTAMP:20260424T224328
CREATED:20250122T135512Z
LAST-MODIFIED:20250122T135512Z
UID:10021936-1870975800-1870975800@chichesterbid.co.uk
SUMMARY:Quiz Night at The Hole in the Wall
DESCRIPTION:Join The Hole in the Wall every Sunday* for their Quiz Night. \nFantastic prizes to be won for 1st and 2nd place winners. \n£2 entry per person. \nFrom 7.30pm. \nCall or pop in to book your table. \n*except Bank Holidays.
URL:https://chichesterbid.co.uk/event/quiz-night-at-the-hole-in-the-wall/2029-04-15/
LOCATION:The Hole in the Wall\, 1 St Martins Street\, Chichester\, West Sussex\, PO19 1NP
CATEGORIES:Alive after Five,Regular Events
ATTACH;FMTTYPE=image/jpeg:https://chichesterbid.co.uk/wp-content/uploads/2025/01/1000039800.jpg
END:VEVENT
BEGIN:VEVENT
DTSTART;TZID=UTC:20290417T200000
DTEND;TZID=UTC:20290417T200000
DTSTAMP:20260424T224328
CREATED:20250122T135926Z
LAST-MODIFIED:20250502T094438Z
UID:10022197-1871150400-1871150400@chichesterbid.co.uk
SUMMARY:Jam Night at The Hole in the Wall
DESCRIPTION:Join The Hole in the Wall every Tuesday for their weekly Live Band Jam Night. \nAll styles welcome. \n  \n 
URL:https://chichesterbid.co.uk/event/jam-night-at-the-hole-in-the-wall/2029-04-17/
LOCATION:The Hole in the Wall\, 1 St Martins Street\, Chichester\, West Sussex\, PO19 1NP
CATEGORIES:Alive after Five,Regular Events
ATTACH;FMTTYPE=image/jpeg:https://chichesterbid.co.uk/wp-content/uploads/2025/01/HITWJam-scaled.jpg
END:VEVENT
BEGIN:VEVENT
DTSTART;TZID=UTC:20290422T193000
DTEND;TZID=UTC:20290422T193000
DTSTAMP:20260424T224328
CREATED:20250122T135512Z
LAST-MODIFIED:20250122T135512Z
UID:10021937-1871580600-1871580600@chichesterbid.co.uk
SUMMARY:Quiz Night at The Hole in the Wall
DESCRIPTION:Join The Hole in the Wall every Sunday* for their Quiz Night. \nFantastic prizes to be won for 1st and 2nd place winners. \n£2 entry per person. \nFrom 7.30pm. \nCall or pop in to book your table. \n*except Bank Holidays.
URL:https://chichesterbid.co.uk/event/quiz-night-at-the-hole-in-the-wall/2029-04-22/
LOCATION:The Hole in the Wall\, 1 St Martins Street\, Chichester\, West Sussex\, PO19 1NP
CATEGORIES:Alive after Five,Regular Events
ATTACH;FMTTYPE=image/jpeg:https://chichesterbid.co.uk/wp-content/uploads/2025/01/1000039800.jpg
END:VEVENT
BEGIN:VEVENT
DTSTART;TZID=UTC:20290424T200000
DTEND;TZID=UTC:20290424T200000
DTSTAMP:20260424T224328
CREATED:20250122T135926Z
LAST-MODIFIED:20250502T094438Z
UID:10022198-1871755200-1871755200@chichesterbid.co.uk
SUMMARY:Jam Night at The Hole in the Wall
DESCRIPTION:Join The Hole in the Wall every Tuesday for their weekly Live Band Jam Night. \nAll styles welcome. \n  \n 
URL:https://chichesterbid.co.uk/event/jam-night-at-the-hole-in-the-wall/2029-04-24/
LOCATION:The Hole in the Wall\, 1 St Martins Street\, Chichester\, West Sussex\, PO19 1NP
CATEGORIES:Alive after Five,Regular Events
ATTACH;FMTTYPE=image/jpeg:https://chichesterbid.co.uk/wp-content/uploads/2025/01/HITWJam-scaled.jpg
END:VEVENT
BEGIN:VEVENT
DTSTART;TZID=UTC:20290429T193000
DTEND;TZID=UTC:20290429T193000
DTSTAMP:20260424T224328
CREATED:20250122T135512Z
LAST-MODIFIED:20250122T135512Z
UID:10021938-1872185400-1872185400@chichesterbid.co.uk
SUMMARY:Quiz Night at The Hole in the Wall
DESCRIPTION:Join The Hole in the Wall every Sunday* for their Quiz Night. \nFantastic prizes to be won for 1st and 2nd place winners. \n£2 entry per person. \nFrom 7.30pm. \nCall or pop in to book your table. \n*except Bank Holidays.
URL:https://chichesterbid.co.uk/event/quiz-night-at-the-hole-in-the-wall/2029-04-29/
LOCATION:The Hole in the Wall\, 1 St Martins Street\, Chichester\, West Sussex\, PO19 1NP
CATEGORIES:Alive after Five,Regular Events
ATTACH;FMTTYPE=image/jpeg:https://chichesterbid.co.uk/wp-content/uploads/2025/01/1000039800.jpg
END:VEVENT
BEGIN:VEVENT
DTSTART;TZID=UTC:20290501T200000
DTEND;TZID=UTC:20290501T200000
DTSTAMP:20260424T224329
CREATED:20250122T135926Z
LAST-MODIFIED:20250502T094438Z
UID:10022199-1872360000-1872360000@chichesterbid.co.uk
SUMMARY:Jam Night at The Hole in the Wall
DESCRIPTION:Join The Hole in the Wall every Tuesday for their weekly Live Band Jam Night. \nAll styles welcome. \n  \n 
URL:https://chichesterbid.co.uk/event/jam-night-at-the-hole-in-the-wall/2029-05-01/
LOCATION:The Hole in the Wall\, 1 St Martins Street\, Chichester\, West Sussex\, PO19 1NP
CATEGORIES:Alive after Five,Regular Events
ATTACH;FMTTYPE=image/jpeg:https://chichesterbid.co.uk/wp-content/uploads/2025/01/HITWJam-scaled.jpg
END:VEVENT
BEGIN:VEVENT
DTSTART;TZID=UTC:20290506T193000
DTEND;TZID=UTC:20290506T193000
DTSTAMP:20260424T224329
CREATED:20250122T135512Z
LAST-MODIFIED:20250122T135512Z
UID:10021939-1872790200-1872790200@chichesterbid.co.uk
SUMMARY:Quiz Night at The Hole in the Wall
DESCRIPTION:Join The Hole in the Wall every Sunday* for their Quiz Night. \nFantastic prizes to be won for 1st and 2nd place winners. \n£2 entry per person. \nFrom 7.30pm. \nCall or pop in to book your table. \n*except Bank Holidays.
URL:https://chichesterbid.co.uk/event/quiz-night-at-the-hole-in-the-wall/2029-05-06/
LOCATION:The Hole in the Wall\, 1 St Martins Street\, Chichester\, West Sussex\, PO19 1NP
CATEGORIES:Alive after Five,Regular Events
ATTACH;FMTTYPE=image/jpeg:https://chichesterbid.co.uk/wp-content/uploads/2025/01/1000039800.jpg
END:VEVENT
BEGIN:VEVENT
DTSTART;TZID=UTC:20290508T200000
DTEND;TZID=UTC:20290508T200000
DTSTAMP:20260424T224329
CREATED:20250122T135926Z
LAST-MODIFIED:20250502T094438Z
UID:10022200-1872964800-1872964800@chichesterbid.co.uk
SUMMARY:Jam Night at The Hole in the Wall
DESCRIPTION:Join The Hole in the Wall every Tuesday for their weekly Live Band Jam Night. \nAll styles welcome. \n  \n 
URL:https://chichesterbid.co.uk/event/jam-night-at-the-hole-in-the-wall/2029-05-08/
LOCATION:The Hole in the Wall\, 1 St Martins Street\, Chichester\, West Sussex\, PO19 1NP
CATEGORIES:Alive after Five,Regular Events
ATTACH;FMTTYPE=image/jpeg:https://chichesterbid.co.uk/wp-content/uploads/2025/01/HITWJam-scaled.jpg
END:VEVENT
BEGIN:VEVENT
DTSTART;TZID=UTC:20290513T193000
DTEND;TZID=UTC:20290513T193000
DTSTAMP:20260424T224329
CREATED:20250122T135512Z
LAST-MODIFIED:20250122T135512Z
UID:10021940-1873395000-1873395000@chichesterbid.co.uk
SUMMARY:Quiz Night at The Hole in the Wall
DESCRIPTION:Join The Hole in the Wall every Sunday* for their Quiz Night. \nFantastic prizes to be won for 1st and 2nd place winners. \n£2 entry per person. \nFrom 7.30pm. \nCall or pop in to book your table. \n*except Bank Holidays.
URL:https://chichesterbid.co.uk/event/quiz-night-at-the-hole-in-the-wall/2029-05-13/
LOCATION:The Hole in the Wall\, 1 St Martins Street\, Chichester\, West Sussex\, PO19 1NP
CATEGORIES:Alive after Five,Regular Events
ATTACH;FMTTYPE=image/jpeg:https://chichesterbid.co.uk/wp-content/uploads/2025/01/1000039800.jpg
END:VEVENT
BEGIN:VEVENT
DTSTART;TZID=UTC:20290515T200000
DTEND;TZID=UTC:20290515T200000
DTSTAMP:20260424T224329
CREATED:20250122T135926Z
LAST-MODIFIED:20250502T094438Z
UID:10022201-1873569600-1873569600@chichesterbid.co.uk
SUMMARY:Jam Night at The Hole in the Wall
DESCRIPTION:Join The Hole in the Wall every Tuesday for their weekly Live Band Jam Night. \nAll styles welcome. \n  \n 
URL:https://chichesterbid.co.uk/event/jam-night-at-the-hole-in-the-wall/2029-05-15/
LOCATION:The Hole in the Wall\, 1 St Martins Street\, Chichester\, West Sussex\, PO19 1NP
CATEGORIES:Alive after Five,Regular Events
ATTACH;FMTTYPE=image/jpeg:https://chichesterbid.co.uk/wp-content/uploads/2025/01/HITWJam-scaled.jpg
END:VEVENT
BEGIN:VEVENT
DTSTART;TZID=UTC:20290520T193000
DTEND;TZID=UTC:20290520T193000
DTSTAMP:20260424T224329
CREATED:20250122T135512Z
LAST-MODIFIED:20250122T135512Z
UID:10021941-1873999800-1873999800@chichesterbid.co.uk
SUMMARY:Quiz Night at The Hole in the Wall
DESCRIPTION:Join The Hole in the Wall every Sunday* for their Quiz Night. \nFantastic prizes to be won for 1st and 2nd place winners. \n£2 entry per person. \nFrom 7.30pm. \nCall or pop in to book your table. \n*except Bank Holidays.
URL:https://chichesterbid.co.uk/event/quiz-night-at-the-hole-in-the-wall/2029-05-20/
LOCATION:The Hole in the Wall\, 1 St Martins Street\, Chichester\, West Sussex\, PO19 1NP
CATEGORIES:Alive after Five,Regular Events
ATTACH;FMTTYPE=image/jpeg:https://chichesterbid.co.uk/wp-content/uploads/2025/01/1000039800.jpg
END:VEVENT
BEGIN:VEVENT
DTSTART;TZID=UTC:20290522T200000
DTEND;TZID=UTC:20290522T200000
DTSTAMP:20260424T224329
CREATED:20250122T135926Z
LAST-MODIFIED:20250502T094438Z
UID:10022202-1874174400-1874174400@chichesterbid.co.uk
SUMMARY:Jam Night at The Hole in the Wall
DESCRIPTION:Join The Hole in the Wall every Tuesday for their weekly Live Band Jam Night. \nAll styles welcome. \n  \n 
URL:https://chichesterbid.co.uk/event/jam-night-at-the-hole-in-the-wall/2029-05-22/
LOCATION:The Hole in the Wall\, 1 St Martins Street\, Chichester\, West Sussex\, PO19 1NP
CATEGORIES:Alive after Five,Regular Events
ATTACH;FMTTYPE=image/jpeg:https://chichesterbid.co.uk/wp-content/uploads/2025/01/HITWJam-scaled.jpg
END:VEVENT
BEGIN:VEVENT
DTSTART;TZID=UTC:20290527T193000
DTEND;TZID=UTC:20290527T193000
DTSTAMP:20260424T224329
CREATED:20250122T135512Z
LAST-MODIFIED:20250122T135512Z
UID:10021942-1874604600-1874604600@chichesterbid.co.uk
SUMMARY:Quiz Night at The Hole in the Wall
DESCRIPTION:Join The Hole in the Wall every Sunday* for their Quiz Night. \nFantastic prizes to be won for 1st and 2nd place winners. \n£2 entry per person. \nFrom 7.30pm. \nCall or pop in to book your table. \n*except Bank Holidays.
URL:https://chichesterbid.co.uk/event/quiz-night-at-the-hole-in-the-wall/2029-05-27/
LOCATION:The Hole in the Wall\, 1 St Martins Street\, Chichester\, West Sussex\, PO19 1NP
CATEGORIES:Alive after Five,Regular Events
ATTACH;FMTTYPE=image/jpeg:https://chichesterbid.co.uk/wp-content/uploads/2025/01/1000039800.jpg
END:VEVENT
BEGIN:VEVENT
DTSTART;TZID=UTC:20290529T200000
DTEND;TZID=UTC:20290529T200000
DTSTAMP:20260424T224329
CREATED:20250122T135926Z
LAST-MODIFIED:20250502T094438Z
UID:10022203-1874779200-1874779200@chichesterbid.co.uk
SUMMARY:Jam Night at The Hole in the Wall
DESCRIPTION:Join The Hole in the Wall every Tuesday for their weekly Live Band Jam Night. \nAll styles welcome. \n  \n 
URL:https://chichesterbid.co.uk/event/jam-night-at-the-hole-in-the-wall/2029-05-29/
LOCATION:The Hole in the Wall\, 1 St Martins Street\, Chichester\, West Sussex\, PO19 1NP
CATEGORIES:Alive after Five,Regular Events
ATTACH;FMTTYPE=image/jpeg:https://chichesterbid.co.uk/wp-content/uploads/2025/01/HITWJam-scaled.jpg
END:VEVENT
BEGIN:VEVENT
DTSTART;TZID=UTC:20290603T193000
DTEND;TZID=UTC:20290603T193000
DTSTAMP:20260424T224329
CREATED:20250122T135512Z
LAST-MODIFIED:20250122T135512Z
UID:10021943-1875209400-1875209400@chichesterbid.co.uk
SUMMARY:Quiz Night at The Hole in the Wall
DESCRIPTION:Join The Hole in the Wall every Sunday* for their Quiz Night. \nFantastic prizes to be won for 1st and 2nd place winners. \n£2 entry per person. \nFrom 7.30pm. \nCall or pop in to book your table. \n*except Bank Holidays.
URL:https://chichesterbid.co.uk/event/quiz-night-at-the-hole-in-the-wall/2029-06-03/
LOCATION:The Hole in the Wall\, 1 St Martins Street\, Chichester\, West Sussex\, PO19 1NP
CATEGORIES:Alive after Five,Regular Events
ATTACH;FMTTYPE=image/jpeg:https://chichesterbid.co.uk/wp-content/uploads/2025/01/1000039800.jpg
END:VEVENT
BEGIN:VEVENT
DTSTART;TZID=UTC:20290605T200000
DTEND;TZID=UTC:20290605T200000
DTSTAMP:20260424T224329
CREATED:20250122T135926Z
LAST-MODIFIED:20250502T094438Z
UID:10022204-1875384000-1875384000@chichesterbid.co.uk
SUMMARY:Jam Night at The Hole in the Wall
DESCRIPTION:Join The Hole in the Wall every Tuesday for their weekly Live Band Jam Night. \nAll styles welcome. \n  \n 
URL:https://chichesterbid.co.uk/event/jam-night-at-the-hole-in-the-wall/2029-06-05/
LOCATION:The Hole in the Wall\, 1 St Martins Street\, Chichester\, West Sussex\, PO19 1NP
CATEGORIES:Alive after Five,Regular Events
ATTACH;FMTTYPE=image/jpeg:https://chichesterbid.co.uk/wp-content/uploads/2025/01/HITWJam-scaled.jpg
END:VEVENT
BEGIN:VEVENT
DTSTART;TZID=UTC:20290610T193000
DTEND;TZID=UTC:20290610T193000
DTSTAMP:20260424T224329
CREATED:20250122T135512Z
LAST-MODIFIED:20250122T135512Z
UID:10021944-1875814200-1875814200@chichesterbid.co.uk
SUMMARY:Quiz Night at The Hole in the Wall
DESCRIPTION:Join The Hole in the Wall every Sunday* for their Quiz Night. \nFantastic prizes to be won for 1st and 2nd place winners. \n£2 entry per person. \nFrom 7.30pm. \nCall or pop in to book your table. \n*except Bank Holidays.
URL:https://chichesterbid.co.uk/event/quiz-night-at-the-hole-in-the-wall/2029-06-10/
LOCATION:The Hole in the Wall\, 1 St Martins Street\, Chichester\, West Sussex\, PO19 1NP
CATEGORIES:Alive after Five,Regular Events
ATTACH;FMTTYPE=image/jpeg:https://chichesterbid.co.uk/wp-content/uploads/2025/01/1000039800.jpg
END:VEVENT
BEGIN:VEVENT
DTSTART;TZID=UTC:20290612T200000
DTEND;TZID=UTC:20290612T200000
DTSTAMP:20260424T224329
CREATED:20250122T135926Z
LAST-MODIFIED:20250502T094438Z
UID:10022205-1875988800-1875988800@chichesterbid.co.uk
SUMMARY:Jam Night at The Hole in the Wall
DESCRIPTION:Join The Hole in the Wall every Tuesday for their weekly Live Band Jam Night. \nAll styles welcome. \n  \n 
URL:https://chichesterbid.co.uk/event/jam-night-at-the-hole-in-the-wall/2029-06-12/
LOCATION:The Hole in the Wall\, 1 St Martins Street\, Chichester\, West Sussex\, PO19 1NP
CATEGORIES:Alive after Five,Regular Events
ATTACH;FMTTYPE=image/jpeg:https://chichesterbid.co.uk/wp-content/uploads/2025/01/HITWJam-scaled.jpg
END:VEVENT
BEGIN:VEVENT
DTSTART;TZID=UTC:20290617T193000
DTEND;TZID=UTC:20290617T193000
DTSTAMP:20260424T224329
CREATED:20250122T135512Z
LAST-MODIFIED:20250122T135512Z
UID:10021945-1876419000-1876419000@chichesterbid.co.uk
SUMMARY:Quiz Night at The Hole in the Wall
DESCRIPTION:Join The Hole in the Wall every Sunday* for their Quiz Night. \nFantastic prizes to be won for 1st and 2nd place winners. \n£2 entry per person. \nFrom 7.30pm. \nCall or pop in to book your table. \n*except Bank Holidays.
URL:https://chichesterbid.co.uk/event/quiz-night-at-the-hole-in-the-wall/2029-06-17/
LOCATION:The Hole in the Wall\, 1 St Martins Street\, Chichester\, West Sussex\, PO19 1NP
CATEGORIES:Alive after Five,Regular Events
ATTACH;FMTTYPE=image/jpeg:https://chichesterbid.co.uk/wp-content/uploads/2025/01/1000039800.jpg
END:VEVENT
BEGIN:VEVENT
DTSTART;TZID=UTC:20290619T200000
DTEND;TZID=UTC:20290619T200000
DTSTAMP:20260424T224329
CREATED:20250122T135926Z
LAST-MODIFIED:20250502T094438Z
UID:10022206-1876593600-1876593600@chichesterbid.co.uk
SUMMARY:Jam Night at The Hole in the Wall
DESCRIPTION:Join The Hole in the Wall every Tuesday for their weekly Live Band Jam Night. \nAll styles welcome. \n  \n 
URL:https://chichesterbid.co.uk/event/jam-night-at-the-hole-in-the-wall/2029-06-19/
LOCATION:The Hole in the Wall\, 1 St Martins Street\, Chichester\, West Sussex\, PO19 1NP
CATEGORIES:Alive after Five,Regular Events
ATTACH;FMTTYPE=image/jpeg:https://chichesterbid.co.uk/wp-content/uploads/2025/01/HITWJam-scaled.jpg
END:VEVENT
END:VCALENDAR