BEGIN:VCALENDAR
VERSION:2.0
PRODID:-//Chichester BID - ECPv6.15.17.1//NONSGML v1.0//EN
CALSCALE:GREGORIAN
METHOD:PUBLISH
X-WR-CALNAME:Chichester BID
X-ORIGINAL-URL:https://chichesterbid.co.uk
X-WR-CALDESC:Events for Chichester BID
REFRESH-INTERVAL;VALUE=DURATION:PT1H
X-Robots-Tag:noindex
X-PUBLISHED-TTL:PT1H
BEGIN:VTIMEZONE
TZID:UTC
BEGIN:STANDARD
TZOFFSETFROM:+0000
TZOFFSETTO:+0000
TZNAME:UTC
DTSTART:20240101T000000
END:STANDARD
END:VTIMEZONE
BEGIN:VEVENT
DTSTART;TZID=UTC:20250521T180000
DTEND;TZID=UTC:20250521T180000
DTSTAMP:20260420T025749
CREATED:20250424T125733Z
LAST-MODIFIED:20250424T125806Z
UID:10023896-1747850400-1747850400@chichesterbid.co.uk
SUMMARY:Weekly Run Club at The Run Company
DESCRIPTION:Join The Run Company every Wednesday for their weekly run club! \nNo need to book just turn up.
URL:https://chichesterbid.co.uk/event/weekly-run-club-at-the-run-company/2025-05-21/
LOCATION:The Run Company\, 13 The Hornet\, Chichester\, West Sussex\, PO19 7JL
CATEGORIES:Wellness
ATTACH;FMTTYPE=image/jpeg:https://chichesterbid.co.uk/wp-content/uploads/2021/07/Run-company-rotated.jpg
END:VEVENT
BEGIN:VEVENT
DTSTART;TZID=UTC:20250514T180000
DTEND;TZID=UTC:20250514T180000
DTSTAMP:20260420T025749
CREATED:20250424T125733Z
LAST-MODIFIED:20250424T125806Z
UID:10023895-1747245600-1747245600@chichesterbid.co.uk
SUMMARY:Weekly Run Club at The Run Company
DESCRIPTION:Join The Run Company every Wednesday for their weekly run club! \nNo need to book just turn up.
URL:https://chichesterbid.co.uk/event/weekly-run-club-at-the-run-company/2025-05-14/
LOCATION:The Run Company\, 13 The Hornet\, Chichester\, West Sussex\, PO19 7JL
CATEGORIES:Wellness
ATTACH;FMTTYPE=image/jpeg:https://chichesterbid.co.uk/wp-content/uploads/2021/07/Run-company-rotated.jpg
END:VEVENT
BEGIN:VEVENT
DTSTART;TZID=UTC:20250507T180000
DTEND;TZID=UTC:20250507T180000
DTSTAMP:20260420T025749
CREATED:20250424T125733Z
LAST-MODIFIED:20250424T125806Z
UID:10023894-1746640800-1746640800@chichesterbid.co.uk
SUMMARY:Weekly Run Club at The Run Company
DESCRIPTION:Join The Run Company every Wednesday for their weekly run club! \nNo need to book just turn up.
URL:https://chichesterbid.co.uk/event/weekly-run-club-at-the-run-company/2025-05-07/
LOCATION:The Run Company\, 13 The Hornet\, Chichester\, West Sussex\, PO19 7JL
CATEGORIES:Wellness
ATTACH;FMTTYPE=image/jpeg:https://chichesterbid.co.uk/wp-content/uploads/2021/07/Run-company-rotated.jpg
END:VEVENT
BEGIN:VEVENT
DTSTART;TZID=UTC:20250430T180000
DTEND;TZID=UTC:20250430T180000
DTSTAMP:20260420T025749
CREATED:20250424T125733Z
LAST-MODIFIED:20250424T125806Z
UID:10023893-1746036000-1746036000@chichesterbid.co.uk
SUMMARY:Weekly Run Club at The Run Company
DESCRIPTION:Join The Run Company every Wednesday for their weekly run club! \nNo need to book just turn up.
URL:https://chichesterbid.co.uk/event/weekly-run-club-at-the-run-company/2025-04-30/
LOCATION:The Run Company\, 13 The Hornet\, Chichester\, West Sussex\, PO19 7JL
CATEGORIES:Wellness
ATTACH;FMTTYPE=image/jpeg:https://chichesterbid.co.uk/wp-content/uploads/2021/07/Run-company-rotated.jpg
END:VEVENT
END:VCALENDAR