BEGIN:VCALENDAR
VERSION:2.0
PRODID:-//Chichester BID - ECPv6.15.20//NONSGML v1.0//EN
CALSCALE:GREGORIAN
METHOD:PUBLISH
X-ORIGINAL-URL:https://chichesterbid.co.uk
X-WR-CALDESC:Events for Chichester BID
REFRESH-INTERVAL;VALUE=DURATION:PT1H
X-Robots-Tag:noindex
X-PUBLISHED-TTL:PT1H
BEGIN:VTIMEZONE
TZID:UTC
BEGIN:STANDARD
TZOFFSETFROM:+0000
TZOFFSETTO:+0000
TZNAME:UTC
DTSTART:20260101T000000
END:STANDARD
END:VTIMEZONE
BEGIN:VEVENT
DTSTART;TZID=UTC:20270527T100000
DTEND;TZID=UTC:20270527T113000
DTSTAMP:20260420T213244
CREATED:20240126T133737Z
LAST-MODIFIED:20240126T133737Z
UID:10006765-1811412000-1811417400@chichesterbid.co.uk
SUMMARY:Knit and Natter at Chichester Library
DESCRIPTION:Drop in for a session of knitting and nattering\, every Thursday 10.00 – 11.30am. \nPlease contact Chichester Library for more details. \nFind out more about attending a Knit and Natter session.
URL:https://chichesterbid.co.uk/event/knit-and-natter-at-chichester-library/2027-05-27/
LOCATION:Chichester Library\, Tower Street\, Chichester\, West Sussex\, PO191QJ
ATTACH;FMTTYPE=image/jpeg:https://chichesterbid.co.uk/wp-content/uploads/2024/01/Knit-and-Natter.jpg
END:VEVENT
BEGIN:VEVENT
DTSTART;TZID=UTC:20270528T093000
DTEND;TZID=UTC:20270528T110000
DTSTAMP:20260420T213244
CREATED:20260204T110836Z
LAST-MODIFIED:20260204T110836Z
UID:10026309-1811496600-1811502000@chichesterbid.co.uk
SUMMARY:Rhyme Time at Chichester Library
DESCRIPTION:Drop in to join other families with young children for songs and nursery rhymes\, every Tuesday 2.15 – 2.45pm and Friday 9.30 – 10.00am. \nPlease contact Chichester Library for more details. \nPlease note there are limits on attendance numbers. Due to the popularity of these activities some sessions may become full. \nFind out more about attending a Rhyme Time session.
URL:https://chichesterbid.co.uk/event/rhyme-time-at-chichester-library-2/2027-05-28/
LOCATION:Chichester Library\, Tower Street\, Chichester\, West Sussex\, PO191QJ
CATEGORIES:National Year of Reading
ATTACH;FMTTYPE=image/jpeg:https://chichesterbid.co.uk/wp-content/uploads/2026/02/ViewImage.jpg
END:VEVENT
BEGIN:VEVENT
DTSTART;TZID=UTC:20270601T100000
DTEND;TZID=UTC:20270601T110000
DTSTAMP:20260420T213244
CREATED:20260204T110453Z
LAST-MODIFIED:20260204T110453Z
UID:10025672-1811844000-1811847600@chichesterbid.co.uk
SUMMARY:Tuesday Reading Club at Chichester Library
DESCRIPTION:Meet up with others to talk about books and reading on the first Tuesday of every month 10.00 – 11.00am. \nPlease contact Chichester Library first for more information. \nFind out more about joining a reading group.
URL:https://chichesterbid.co.uk/event/monday-reading-club-at-chichester-library-2/2027-06-01/
LOCATION:Chichester Library\, Tower Street\, Chichester\, West Sussex\, PO191QJ
CATEGORIES:National Year of Reading
ATTACH;FMTTYPE=image/jpeg:https://chichesterbid.co.uk/wp-content/uploads/2024/01/Reading-Groups.jpg
END:VEVENT
BEGIN:VEVENT
DTSTART;TZID=UTC:20270601T140000
DTEND;TZID=UTC:20270601T143000
DTSTAMP:20260420T213244
CREATED:20260204T110738Z
LAST-MODIFIED:20260204T110738Z
UID:10025786-1811858400-1811860200@chichesterbid.co.uk
SUMMARY:Rhyme Time at Chichester Library
DESCRIPTION:Drop in to join other families with young children for songs and nursery rhymes\, every Tuesday 2.15 – 2.45pm and Friday 9.30 – 10.00am. \nPlease contact Chichester Library for more details. \nPlease note there are limits on attendance numbers. Due to the popularity of these activities some sessions may become full. \nFind out more about attending a Rhyme Time session.
URL:https://chichesterbid.co.uk/event/rhyme-time-at-chichester-library/2027-06-01/
LOCATION:Chichester Library\, Tower Street\, Chichester\, West Sussex\, PO191QJ
CATEGORIES:National Year of Reading
ATTACH;FMTTYPE=image/jpeg:https://chichesterbid.co.uk/wp-content/uploads/2026/02/ViewImage.jpg
END:VEVENT
BEGIN:VEVENT
DTSTART;TZID=UTC:20270603T100000
DTEND;TZID=UTC:20270603T113000
DTSTAMP:20260420T213244
CREATED:20240126T133737Z
LAST-MODIFIED:20240126T133737Z
UID:10006766-1812016800-1812022200@chichesterbid.co.uk
SUMMARY:Knit and Natter at Chichester Library
DESCRIPTION:Drop in for a session of knitting and nattering\, every Thursday 10.00 – 11.30am. \nPlease contact Chichester Library for more details. \nFind out more about attending a Knit and Natter session.
URL:https://chichesterbid.co.uk/event/knit-and-natter-at-chichester-library/2027-06-03/
LOCATION:Chichester Library\, Tower Street\, Chichester\, West Sussex\, PO191QJ
ATTACH;FMTTYPE=image/jpeg:https://chichesterbid.co.uk/wp-content/uploads/2024/01/Knit-and-Natter.jpg
END:VEVENT
BEGIN:VEVENT
DTSTART;TZID=UTC:20270604T093000
DTEND;TZID=UTC:20270604T110000
DTSTAMP:20260420T213244
CREATED:20260204T110836Z
LAST-MODIFIED:20260204T110836Z
UID:10026310-1812101400-1812106800@chichesterbid.co.uk
SUMMARY:Rhyme Time at Chichester Library
DESCRIPTION:Drop in to join other families with young children for songs and nursery rhymes\, every Tuesday 2.15 – 2.45pm and Friday 9.30 – 10.00am. \nPlease contact Chichester Library for more details. \nPlease note there are limits on attendance numbers. Due to the popularity of these activities some sessions may become full. \nFind out more about attending a Rhyme Time session.
URL:https://chichesterbid.co.uk/event/rhyme-time-at-chichester-library-2/2027-06-04/
LOCATION:Chichester Library\, Tower Street\, Chichester\, West Sussex\, PO191QJ
CATEGORIES:National Year of Reading
ATTACH;FMTTYPE=image/jpeg:https://chichesterbid.co.uk/wp-content/uploads/2026/02/ViewImage.jpg
END:VEVENT
BEGIN:VEVENT
DTSTART;TZID=UTC:20270608T140000
DTEND;TZID=UTC:20270608T143000
DTSTAMP:20260420T213244
CREATED:20260204T110738Z
LAST-MODIFIED:20260204T110738Z
UID:10025787-1812463200-1812465000@chichesterbid.co.uk
SUMMARY:Rhyme Time at Chichester Library
DESCRIPTION:Drop in to join other families with young children for songs and nursery rhymes\, every Tuesday 2.15 – 2.45pm and Friday 9.30 – 10.00am. \nPlease contact Chichester Library for more details. \nPlease note there are limits on attendance numbers. Due to the popularity of these activities some sessions may become full. \nFind out more about attending a Rhyme Time session.
URL:https://chichesterbid.co.uk/event/rhyme-time-at-chichester-library/2027-06-08/
LOCATION:Chichester Library\, Tower Street\, Chichester\, West Sussex\, PO191QJ
CATEGORIES:National Year of Reading
ATTACH;FMTTYPE=image/jpeg:https://chichesterbid.co.uk/wp-content/uploads/2026/02/ViewImage.jpg
END:VEVENT
BEGIN:VEVENT
DTSTART;TZID=UTC:20270610T100000
DTEND;TZID=UTC:20270610T113000
DTSTAMP:20260420T213244
CREATED:20240126T133737Z
LAST-MODIFIED:20240126T133737Z
UID:10006767-1812621600-1812627000@chichesterbid.co.uk
SUMMARY:Knit and Natter at Chichester Library
DESCRIPTION:Drop in for a session of knitting and nattering\, every Thursday 10.00 – 11.30am. \nPlease contact Chichester Library for more details. \nFind out more about attending a Knit and Natter session.
URL:https://chichesterbid.co.uk/event/knit-and-natter-at-chichester-library/2027-06-10/
LOCATION:Chichester Library\, Tower Street\, Chichester\, West Sussex\, PO191QJ
ATTACH;FMTTYPE=image/jpeg:https://chichesterbid.co.uk/wp-content/uploads/2024/01/Knit-and-Natter.jpg
END:VEVENT
BEGIN:VEVENT
DTSTART;TZID=UTC:20270610T140000
DTEND;TZID=UTC:20270610T150000
DTSTAMP:20260420T213244
CREATED:20260204T111229Z
LAST-MODIFIED:20260204T111229Z
UID:10026518-1812636000-1812639600@chichesterbid.co.uk
SUMMARY:Thursday Reading Group at Chichester Library
DESCRIPTION:Meet up with others to talk about books and reading on the second Thursday of every month 2.00 – 3.00pm. \nPlease contact Chichester Library first for more information. \nFind out more about joining a reading group.
URL:https://chichesterbid.co.uk/event/thursday-reading-group-at-chichester-library/2027-06-10/
LOCATION:Chichester Library\, Tower Street\, Chichester\, West Sussex\, PO191QJ
CATEGORIES:National Year of Reading
ATTACH;FMTTYPE=image/jpeg:https://chichesterbid.co.uk/wp-content/uploads/2026/02/Library.jpg
END:VEVENT
BEGIN:VEVENT
DTSTART;TZID=UTC:20270611T093000
DTEND;TZID=UTC:20270611T110000
DTSTAMP:20260420T213244
CREATED:20260204T110836Z
LAST-MODIFIED:20260204T110836Z
UID:10026311-1812706200-1812711600@chichesterbid.co.uk
SUMMARY:Rhyme Time at Chichester Library
DESCRIPTION:Drop in to join other families with young children for songs and nursery rhymes\, every Tuesday 2.15 – 2.45pm and Friday 9.30 – 10.00am. \nPlease contact Chichester Library for more details. \nPlease note there are limits on attendance numbers. Due to the popularity of these activities some sessions may become full. \nFind out more about attending a Rhyme Time session.
URL:https://chichesterbid.co.uk/event/rhyme-time-at-chichester-library-2/2027-06-11/
LOCATION:Chichester Library\, Tower Street\, Chichester\, West Sussex\, PO191QJ
CATEGORIES:National Year of Reading
ATTACH;FMTTYPE=image/jpeg:https://chichesterbid.co.uk/wp-content/uploads/2026/02/ViewImage.jpg
END:VEVENT
BEGIN:VEVENT
DTSTART;TZID=UTC:20270612T090000
DTEND;TZID=UTC:20270612T160000
DTSTAMP:20260420T213244
CREATED:20230803T091645Z
LAST-MODIFIED:20230803T091645Z
UID:10004482-1812790800-1812816000@chichesterbid.co.uk
SUMMARY:Board Games for Families at Chichester Library
DESCRIPTION:Drop in to play board games with other families every 2nd and 4th Saturday of the month\, 9.00am-4.00pm. \nPlease contact Chichester Library for more details.
URL:https://chichesterbid.co.uk/event/board-games-for-families-at-chichester-library/2027-06-12/
LOCATION:Chichester Library\, Tower Street\, Chichester\, West Sussex\, PO191QJ
ATTACH;FMTTYPE=image/jpeg:https://chichesterbid.co.uk/wp-content/uploads/2023/08/Board-Games.jpg
END:VEVENT
BEGIN:VEVENT
DTSTART;TZID=UTC:20270612T090000
DTEND;TZID=UTC:20270612T160000
DTSTAMP:20260420T213244
CREATED:20260204T112314Z
LAST-MODIFIED:20260204T112314Z
UID:10026699-1812790800-1812816000@chichesterbid.co.uk
SUMMARY:Book Sale at Chichester Library
DESCRIPTION:Visit Chichester Library on the second Saturday of the month 9.00 – 4.00pm for the opportunity to buy some fantastic ex-library stock. \nWe will have titles ranging from rare non-fiction all the way through to some of your favourite bestsellers.
URL:https://chichesterbid.co.uk/event/book-sale-at-chichester-library/2027-06-12/
LOCATION:Chichester Library\, Tower Street\, Chichester\, West Sussex\, PO191QJ
CATEGORIES:National Year of Reading
ATTACH;FMTTYPE=image/jpeg:https://chichesterbid.co.uk/wp-content/uploads/2026/02/ViewImage-3.jpg
END:VEVENT
BEGIN:VEVENT
DTSTART;TZID=UTC:20270615T140000
DTEND;TZID=UTC:20270615T143000
DTSTAMP:20260420T213244
CREATED:20260204T110738Z
LAST-MODIFIED:20260204T110738Z
UID:10025788-1813068000-1813069800@chichesterbid.co.uk
SUMMARY:Rhyme Time at Chichester Library
DESCRIPTION:Drop in to join other families with young children for songs and nursery rhymes\, every Tuesday 2.15 – 2.45pm and Friday 9.30 – 10.00am. \nPlease contact Chichester Library for more details. \nPlease note there are limits on attendance numbers. Due to the popularity of these activities some sessions may become full. \nFind out more about attending a Rhyme Time session.
URL:https://chichesterbid.co.uk/event/rhyme-time-at-chichester-library/2027-06-15/
LOCATION:Chichester Library\, Tower Street\, Chichester\, West Sussex\, PO191QJ
CATEGORIES:National Year of Reading
ATTACH;FMTTYPE=image/jpeg:https://chichesterbid.co.uk/wp-content/uploads/2026/02/ViewImage.jpg
END:VEVENT
BEGIN:VEVENT
DTSTART;TZID=UTC:20270617T100000
DTEND;TZID=UTC:20270617T113000
DTSTAMP:20260420T213244
CREATED:20240126T133737Z
LAST-MODIFIED:20240126T133737Z
UID:10006768-1813226400-1813231800@chichesterbid.co.uk
SUMMARY:Knit and Natter at Chichester Library
DESCRIPTION:Drop in for a session of knitting and nattering\, every Thursday 10.00 – 11.30am. \nPlease contact Chichester Library for more details. \nFind out more about attending a Knit and Natter session.
URL:https://chichesterbid.co.uk/event/knit-and-natter-at-chichester-library/2027-06-17/
LOCATION:Chichester Library\, Tower Street\, Chichester\, West Sussex\, PO191QJ
ATTACH;FMTTYPE=image/jpeg:https://chichesterbid.co.uk/wp-content/uploads/2024/01/Knit-and-Natter.jpg
END:VEVENT
BEGIN:VEVENT
DTSTART;TZID=UTC:20270618T093000
DTEND;TZID=UTC:20270618T110000
DTSTAMP:20260420T213244
CREATED:20260204T110836Z
LAST-MODIFIED:20260204T110836Z
UID:10026312-1813311000-1813316400@chichesterbid.co.uk
SUMMARY:Rhyme Time at Chichester Library
DESCRIPTION:Drop in to join other families with young children for songs and nursery rhymes\, every Tuesday 2.15 – 2.45pm and Friday 9.30 – 10.00am. \nPlease contact Chichester Library for more details. \nPlease note there are limits on attendance numbers. Due to the popularity of these activities some sessions may become full. \nFind out more about attending a Rhyme Time session.
URL:https://chichesterbid.co.uk/event/rhyme-time-at-chichester-library-2/2027-06-18/
LOCATION:Chichester Library\, Tower Street\, Chichester\, West Sussex\, PO191QJ
CATEGORIES:National Year of Reading
ATTACH;FMTTYPE=image/jpeg:https://chichesterbid.co.uk/wp-content/uploads/2026/02/ViewImage.jpg
END:VEVENT
BEGIN:VEVENT
DTSTART;TZID=UTC:20270619T103000
DTEND;TZID=UTC:20270619T110000
DTSTAMP:20260420T213244
CREATED:20260204T112043Z
LAST-MODIFIED:20260204T112043Z
UID:10026639-1813401000-1813402800@chichesterbid.co.uk
SUMMARY:Story Magic at Chichester Library
DESCRIPTION:Drop into a multi-sensory storytime session specially for children and young people with additional needs\, on the third Saturday of the month 10.45 - 11.15am.  \nPlease contact Chichester Library for more details. \nFind out more about attending a Story Magic session.
URL:https://chichesterbid.co.uk/event/story-magic-at-chichester-library/2027-06-19/
LOCATION:Chichester Library\, Tower Street\, Chichester\, West Sussex\, PO191QJ
CATEGORIES:Family Friendly,National Year of Reading
ATTACH;FMTTYPE=image/jpeg:https://chichesterbid.co.uk/wp-content/uploads/2026/02/ViewImage-2.jpg
END:VEVENT
BEGIN:VEVENT
DTSTART;TZID=UTC:20270621T163000
DTEND;TZID=UTC:20270621T170000
DTSTAMP:20260420T213244
CREATED:20260204T111538Z
LAST-MODIFIED:20260204T111538Z
UID:10026578-1813595400-1813597200@chichesterbid.co.uk
SUMMARY:Monday Reading Club at Chichester Library
DESCRIPTION:Meet up with others to talk about books and reading on the third Monday of every month 4.45 – 5.45pm. \nPlease contact Chichester Library first for more information. \nFind out more about joining a reading group.
URL:https://chichesterbid.co.uk/event/monday-reading-club-at-chichester-library-3/2027-06-21/
LOCATION:Chichester Library\, Tower Street\, Chichester\, West Sussex\, PO191QJ
CATEGORIES:National Year of Reading
ATTACH;FMTTYPE=image/jpeg:https://chichesterbid.co.uk/wp-content/uploads/2026/02/Library.jpg
END:VEVENT
BEGIN:VEVENT
DTSTART;TZID=UTC:20270622T140000
DTEND;TZID=UTC:20270622T143000
DTSTAMP:20260420T213244
CREATED:20260204T110738Z
LAST-MODIFIED:20260204T110738Z
UID:10025789-1813672800-1813674600@chichesterbid.co.uk
SUMMARY:Rhyme Time at Chichester Library
DESCRIPTION:Drop in to join other families with young children for songs and nursery rhymes\, every Tuesday 2.15 – 2.45pm and Friday 9.30 – 10.00am. \nPlease contact Chichester Library for more details. \nPlease note there are limits on attendance numbers. Due to the popularity of these activities some sessions may become full. \nFind out more about attending a Rhyme Time session.
URL:https://chichesterbid.co.uk/event/rhyme-time-at-chichester-library/2027-06-22/
LOCATION:Chichester Library\, Tower Street\, Chichester\, West Sussex\, PO191QJ
CATEGORIES:National Year of Reading
ATTACH;FMTTYPE=image/jpeg:https://chichesterbid.co.uk/wp-content/uploads/2026/02/ViewImage.jpg
END:VEVENT
BEGIN:VEVENT
DTSTART;TZID=UTC:20270624T100000
DTEND;TZID=UTC:20270624T113000
DTSTAMP:20260420T213244
CREATED:20240126T133737Z
LAST-MODIFIED:20240126T133737Z
UID:10006769-1813831200-1813836600@chichesterbid.co.uk
SUMMARY:Knit and Natter at Chichester Library
DESCRIPTION:Drop in for a session of knitting and nattering\, every Thursday 10.00 – 11.30am. \nPlease contact Chichester Library for more details. \nFind out more about attending a Knit and Natter session.
URL:https://chichesterbid.co.uk/event/knit-and-natter-at-chichester-library/2027-06-24/
LOCATION:Chichester Library\, Tower Street\, Chichester\, West Sussex\, PO191QJ
ATTACH;FMTTYPE=image/jpeg:https://chichesterbid.co.uk/wp-content/uploads/2024/01/Knit-and-Natter.jpg
END:VEVENT
BEGIN:VEVENT
DTSTART;TZID=UTC:20270625T093000
DTEND;TZID=UTC:20270625T110000
DTSTAMP:20260420T213244
CREATED:20260204T110836Z
LAST-MODIFIED:20260204T110836Z
UID:10026313-1813915800-1813921200@chichesterbid.co.uk
SUMMARY:Rhyme Time at Chichester Library
DESCRIPTION:Drop in to join other families with young children for songs and nursery rhymes\, every Tuesday 2.15 – 2.45pm and Friday 9.30 – 10.00am. \nPlease contact Chichester Library for more details. \nPlease note there are limits on attendance numbers. Due to the popularity of these activities some sessions may become full. \nFind out more about attending a Rhyme Time session.
URL:https://chichesterbid.co.uk/event/rhyme-time-at-chichester-library-2/2027-06-25/
LOCATION:Chichester Library\, Tower Street\, Chichester\, West Sussex\, PO191QJ
CATEGORIES:National Year of Reading
ATTACH;FMTTYPE=image/jpeg:https://chichesterbid.co.uk/wp-content/uploads/2026/02/ViewImage.jpg
END:VEVENT
BEGIN:VEVENT
DTSTART;TZID=UTC:20270626T090000
DTEND;TZID=UTC:20270626T160000
DTSTAMP:20260420T213244
CREATED:20230803T091739Z
LAST-MODIFIED:20240126T133225Z
UID:10004602-1814000400-1814025600@chichesterbid.co.uk
SUMMARY:Board Games for Families at Chichester Library
DESCRIPTION:Drop in to play board games with other families every 2nd and 4th Saturday of the month\, 9.00am-4.00pm. \nPlease contact Chichester Library for more details.
URL:https://chichesterbid.co.uk/event/board-games-for-families-at-chichester-library-2/2027-06-26/
LOCATION:Chichester Library\, Tower Street\, Chichester\, West Sussex\, PO191QJ
CATEGORIES:Family Friendly
ATTACH;FMTTYPE=image/jpeg:https://chichesterbid.co.uk/wp-content/uploads/2023/08/Board-Games.jpg
END:VEVENT
BEGIN:VEVENT
DTSTART;TZID=UTC:20270629T140000
DTEND;TZID=UTC:20270629T143000
DTSTAMP:20260420T213244
CREATED:20260204T110738Z
LAST-MODIFIED:20260204T110738Z
UID:10025790-1814277600-1814279400@chichesterbid.co.uk
SUMMARY:Rhyme Time at Chichester Library
DESCRIPTION:Drop in to join other families with young children for songs and nursery rhymes\, every Tuesday 2.15 – 2.45pm and Friday 9.30 – 10.00am. \nPlease contact Chichester Library for more details. \nPlease note there are limits on attendance numbers. Due to the popularity of these activities some sessions may become full. \nFind out more about attending a Rhyme Time session.
URL:https://chichesterbid.co.uk/event/rhyme-time-at-chichester-library/2027-06-29/
LOCATION:Chichester Library\, Tower Street\, Chichester\, West Sussex\, PO191QJ
CATEGORIES:National Year of Reading
ATTACH;FMTTYPE=image/jpeg:https://chichesterbid.co.uk/wp-content/uploads/2026/02/ViewImage.jpg
END:VEVENT
BEGIN:VEVENT
DTSTART;TZID=UTC:20270701T100000
DTEND;TZID=UTC:20270701T113000
DTSTAMP:20260420T213244
CREATED:20240126T133737Z
LAST-MODIFIED:20240126T133737Z
UID:10006770-1814436000-1814441400@chichesterbid.co.uk
SUMMARY:Knit and Natter at Chichester Library
DESCRIPTION:Drop in for a session of knitting and nattering\, every Thursday 10.00 – 11.30am. \nPlease contact Chichester Library for more details. \nFind out more about attending a Knit and Natter session.
URL:https://chichesterbid.co.uk/event/knit-and-natter-at-chichester-library/2027-07-01/
LOCATION:Chichester Library\, Tower Street\, Chichester\, West Sussex\, PO191QJ
ATTACH;FMTTYPE=image/jpeg:https://chichesterbid.co.uk/wp-content/uploads/2024/01/Knit-and-Natter.jpg
END:VEVENT
BEGIN:VEVENT
DTSTART;TZID=UTC:20270702T093000
DTEND;TZID=UTC:20270702T110000
DTSTAMP:20260420T213244
CREATED:20260204T110836Z
LAST-MODIFIED:20260204T110836Z
UID:10026314-1814520600-1814526000@chichesterbid.co.uk
SUMMARY:Rhyme Time at Chichester Library
DESCRIPTION:Drop in to join other families with young children for songs and nursery rhymes\, every Tuesday 2.15 – 2.45pm and Friday 9.30 – 10.00am. \nPlease contact Chichester Library for more details. \nPlease note there are limits on attendance numbers. Due to the popularity of these activities some sessions may become full. \nFind out more about attending a Rhyme Time session.
URL:https://chichesterbid.co.uk/event/rhyme-time-at-chichester-library-2/2027-07-02/
LOCATION:Chichester Library\, Tower Street\, Chichester\, West Sussex\, PO191QJ
CATEGORIES:National Year of Reading
ATTACH;FMTTYPE=image/jpeg:https://chichesterbid.co.uk/wp-content/uploads/2026/02/ViewImage.jpg
END:VEVENT
BEGIN:VEVENT
DTSTART;TZID=UTC:20270706T100000
DTEND;TZID=UTC:20270706T110000
DTSTAMP:20260420T213244
CREATED:20260204T110453Z
LAST-MODIFIED:20260204T110453Z
UID:10025673-1814868000-1814871600@chichesterbid.co.uk
SUMMARY:Tuesday Reading Club at Chichester Library
DESCRIPTION:Meet up with others to talk about books and reading on the first Tuesday of every month 10.00 – 11.00am. \nPlease contact Chichester Library first for more information. \nFind out more about joining a reading group.
URL:https://chichesterbid.co.uk/event/monday-reading-club-at-chichester-library-2/2027-07-06/
LOCATION:Chichester Library\, Tower Street\, Chichester\, West Sussex\, PO191QJ
CATEGORIES:National Year of Reading
ATTACH;FMTTYPE=image/jpeg:https://chichesterbid.co.uk/wp-content/uploads/2024/01/Reading-Groups.jpg
END:VEVENT
BEGIN:VEVENT
DTSTART;TZID=UTC:20270706T140000
DTEND;TZID=UTC:20270706T143000
DTSTAMP:20260420T213244
CREATED:20260204T110738Z
LAST-MODIFIED:20260204T110738Z
UID:10025791-1814882400-1814884200@chichesterbid.co.uk
SUMMARY:Rhyme Time at Chichester Library
DESCRIPTION:Drop in to join other families with young children for songs and nursery rhymes\, every Tuesday 2.15 – 2.45pm and Friday 9.30 – 10.00am. \nPlease contact Chichester Library for more details. \nPlease note there are limits on attendance numbers. Due to the popularity of these activities some sessions may become full. \nFind out more about attending a Rhyme Time session.
URL:https://chichesterbid.co.uk/event/rhyme-time-at-chichester-library/2027-07-06/
LOCATION:Chichester Library\, Tower Street\, Chichester\, West Sussex\, PO191QJ
CATEGORIES:National Year of Reading
ATTACH;FMTTYPE=image/jpeg:https://chichesterbid.co.uk/wp-content/uploads/2026/02/ViewImage.jpg
END:VEVENT
BEGIN:VEVENT
DTSTART;TZID=UTC:20270708T100000
DTEND;TZID=UTC:20270708T113000
DTSTAMP:20260420T213244
CREATED:20240126T133737Z
LAST-MODIFIED:20240126T133737Z
UID:10006771-1815040800-1815046200@chichesterbid.co.uk
SUMMARY:Knit and Natter at Chichester Library
DESCRIPTION:Drop in for a session of knitting and nattering\, every Thursday 10.00 – 11.30am. \nPlease contact Chichester Library for more details. \nFind out more about attending a Knit and Natter session.
URL:https://chichesterbid.co.uk/event/knit-and-natter-at-chichester-library/2027-07-08/
LOCATION:Chichester Library\, Tower Street\, Chichester\, West Sussex\, PO191QJ
ATTACH;FMTTYPE=image/jpeg:https://chichesterbid.co.uk/wp-content/uploads/2024/01/Knit-and-Natter.jpg
END:VEVENT
BEGIN:VEVENT
DTSTART;TZID=UTC:20270708T140000
DTEND;TZID=UTC:20270708T150000
DTSTAMP:20260420T213244
CREATED:20260204T111229Z
LAST-MODIFIED:20260204T111229Z
UID:10026519-1815055200-1815058800@chichesterbid.co.uk
SUMMARY:Thursday Reading Group at Chichester Library
DESCRIPTION:Meet up with others to talk about books and reading on the second Thursday of every month 2.00 – 3.00pm. \nPlease contact Chichester Library first for more information. \nFind out more about joining a reading group.
URL:https://chichesterbid.co.uk/event/thursday-reading-group-at-chichester-library/2027-07-08/
LOCATION:Chichester Library\, Tower Street\, Chichester\, West Sussex\, PO191QJ
CATEGORIES:National Year of Reading
ATTACH;FMTTYPE=image/jpeg:https://chichesterbid.co.uk/wp-content/uploads/2026/02/Library.jpg
END:VEVENT
BEGIN:VEVENT
DTSTART;TZID=UTC:20270709T093000
DTEND;TZID=UTC:20270709T110000
DTSTAMP:20260420T213244
CREATED:20260204T110836Z
LAST-MODIFIED:20260204T110836Z
UID:10026315-1815125400-1815130800@chichesterbid.co.uk
SUMMARY:Rhyme Time at Chichester Library
DESCRIPTION:Drop in to join other families with young children for songs and nursery rhymes\, every Tuesday 2.15 – 2.45pm and Friday 9.30 – 10.00am. \nPlease contact Chichester Library for more details. \nPlease note there are limits on attendance numbers. Due to the popularity of these activities some sessions may become full. \nFind out more about attending a Rhyme Time session.
URL:https://chichesterbid.co.uk/event/rhyme-time-at-chichester-library-2/2027-07-09/
LOCATION:Chichester Library\, Tower Street\, Chichester\, West Sussex\, PO191QJ
CATEGORIES:National Year of Reading
ATTACH;FMTTYPE=image/jpeg:https://chichesterbid.co.uk/wp-content/uploads/2026/02/ViewImage.jpg
END:VEVENT
BEGIN:VEVENT
DTSTART;TZID=UTC:20270710T090000
DTEND;TZID=UTC:20270710T160000
DTSTAMP:20260420T213244
CREATED:20230803T091645Z
LAST-MODIFIED:20230803T091645Z
UID:10004483-1815210000-1815235200@chichesterbid.co.uk
SUMMARY:Board Games for Families at Chichester Library
DESCRIPTION:Drop in to play board games with other families every 2nd and 4th Saturday of the month\, 9.00am-4.00pm. \nPlease contact Chichester Library for more details.
URL:https://chichesterbid.co.uk/event/board-games-for-families-at-chichester-library/2027-07-10/
LOCATION:Chichester Library\, Tower Street\, Chichester\, West Sussex\, PO191QJ
ATTACH;FMTTYPE=image/jpeg:https://chichesterbid.co.uk/wp-content/uploads/2023/08/Board-Games.jpg
END:VEVENT
END:VCALENDAR