BEGIN:VCALENDAR
VERSION:2.0
PRODID:-//Chichester BID - ECPv6.15.20//NONSGML v1.0//EN
CALSCALE:GREGORIAN
METHOD:PUBLISH
X-WR-CALNAME:Chichester BID
X-ORIGINAL-URL:https://chichesterbid.co.uk
X-WR-CALDESC:Events for Chichester BID
REFRESH-INTERVAL;VALUE=DURATION:PT1H
X-Robots-Tag:noindex
X-PUBLISHED-TTL:PT1H
BEGIN:VTIMEZONE
TZID:UTC
BEGIN:STANDARD
TZOFFSETFROM:+0000
TZOFFSETTO:+0000
TZNAME:UTC
DTSTART:20260101T000000
END:STANDARD
END:VTIMEZONE
BEGIN:VEVENT
DTSTART;TZID=UTC:20270812T140000
DTEND;TZID=UTC:20270812T150000
DTSTAMP:20260422T005827
CREATED:20260204T111229Z
LAST-MODIFIED:20260204T111229Z
UID:10026520-1818079200-1818082800@chichesterbid.co.uk
SUMMARY:Thursday Reading Group at Chichester Library
DESCRIPTION:Meet up with others to talk about books and reading on the second Thursday of every month 2.00 – 3.00pm. \nPlease contact Chichester Library first for more information. \nFind out more about joining a reading group.
URL:https://chichesterbid.co.uk/event/thursday-reading-group-at-chichester-library/2027-08-12/
LOCATION:Chichester Library\, Tower Street\, Chichester\, West Sussex\, PO191QJ
CATEGORIES:National Year of Reading
ATTACH;FMTTYPE=image/jpeg:https://chichesterbid.co.uk/wp-content/uploads/2026/02/Library.jpg
END:VEVENT
BEGIN:VEVENT
DTSTART;TZID=UTC:20270813T093000
DTEND;TZID=UTC:20270813T110000
DTSTAMP:20260422T005827
CREATED:20260204T110836Z
LAST-MODIFIED:20260204T110836Z
UID:10026320-1818149400-1818154800@chichesterbid.co.uk
SUMMARY:Rhyme Time at Chichester Library
DESCRIPTION:Drop in to join other families with young children for songs and nursery rhymes\, every Tuesday 2.15 – 2.45pm and Friday 9.30 – 10.00am. \nPlease contact Chichester Library for more details. \nPlease note there are limits on attendance numbers. Due to the popularity of these activities some sessions may become full. \nFind out more about attending a Rhyme Time session.
URL:https://chichesterbid.co.uk/event/rhyme-time-at-chichester-library-2/2027-08-13/
LOCATION:Chichester Library\, Tower Street\, Chichester\, West Sussex\, PO191QJ
CATEGORIES:National Year of Reading
ATTACH;FMTTYPE=image/jpeg:https://chichesterbid.co.uk/wp-content/uploads/2026/02/ViewImage.jpg
END:VEVENT
BEGIN:VEVENT
DTSTART;TZID=UTC:20270814T090000
DTEND;TZID=UTC:20270814T160000
DTSTAMP:20260422T005827
CREATED:20230803T091645Z
LAST-MODIFIED:20230803T091645Z
UID:10004484-1818234000-1818259200@chichesterbid.co.uk
SUMMARY:Board Games for Families at Chichester Library
DESCRIPTION:Drop in to play board games with other families every 2nd and 4th Saturday of the month\, 9.00am-4.00pm. \nPlease contact Chichester Library for more details.
URL:https://chichesterbid.co.uk/event/board-games-for-families-at-chichester-library/2027-08-14/
LOCATION:Chichester Library\, Tower Street\, Chichester\, West Sussex\, PO191QJ
ATTACH;FMTTYPE=image/jpeg:https://chichesterbid.co.uk/wp-content/uploads/2023/08/Board-Games.jpg
END:VEVENT
BEGIN:VEVENT
DTSTART;TZID=UTC:20270814T090000
DTEND;TZID=UTC:20270814T160000
DTSTAMP:20260422T005827
CREATED:20260204T112314Z
LAST-MODIFIED:20260204T112314Z
UID:10026701-1818234000-1818259200@chichesterbid.co.uk
SUMMARY:Book Sale at Chichester Library
DESCRIPTION:Visit Chichester Library on the second Saturday of the month 9.00 – 4.00pm for the opportunity to buy some fantastic ex-library stock. \nWe will have titles ranging from rare non-fiction all the way through to some of your favourite bestsellers.
URL:https://chichesterbid.co.uk/event/book-sale-at-chichester-library/2027-08-14/
LOCATION:Chichester Library\, Tower Street\, Chichester\, West Sussex\, PO191QJ
CATEGORIES:National Year of Reading
ATTACH;FMTTYPE=image/jpeg:https://chichesterbid.co.uk/wp-content/uploads/2026/02/ViewImage-3.jpg
END:VEVENT
BEGIN:VEVENT
DTSTART;TZID=UTC:20270816T163000
DTEND;TZID=UTC:20270816T170000
DTSTAMP:20260422T005827
CREATED:20260204T111538Z
LAST-MODIFIED:20260204T111538Z
UID:10026580-1818433800-1818435600@chichesterbid.co.uk
SUMMARY:Monday Reading Club at Chichester Library
DESCRIPTION:Meet up with others to talk about books and reading on the third Monday of every month 4.45 – 5.45pm. \nPlease contact Chichester Library first for more information. \nFind out more about joining a reading group.
URL:https://chichesterbid.co.uk/event/monday-reading-club-at-chichester-library-3/2027-08-16/
LOCATION:Chichester Library\, Tower Street\, Chichester\, West Sussex\, PO191QJ
CATEGORIES:National Year of Reading
ATTACH;FMTTYPE=image/jpeg:https://chichesterbid.co.uk/wp-content/uploads/2026/02/Library.jpg
END:VEVENT
BEGIN:VEVENT
DTSTART;TZID=UTC:20270817T140000
DTEND;TZID=UTC:20270817T143000
DTSTAMP:20260422T005827
CREATED:20260204T110738Z
LAST-MODIFIED:20260204T110738Z
UID:10025797-1818511200-1818513000@chichesterbid.co.uk
SUMMARY:Rhyme Time at Chichester Library
DESCRIPTION:Drop in to join other families with young children for songs and nursery rhymes\, every Tuesday 2.15 – 2.45pm and Friday 9.30 – 10.00am. \nPlease contact Chichester Library for more details. \nPlease note there are limits on attendance numbers. Due to the popularity of these activities some sessions may become full. \nFind out more about attending a Rhyme Time session.
URL:https://chichesterbid.co.uk/event/rhyme-time-at-chichester-library/2027-08-17/
LOCATION:Chichester Library\, Tower Street\, Chichester\, West Sussex\, PO191QJ
CATEGORIES:National Year of Reading
ATTACH;FMTTYPE=image/jpeg:https://chichesterbid.co.uk/wp-content/uploads/2026/02/ViewImage.jpg
END:VEVENT
BEGIN:VEVENT
DTSTART;TZID=UTC:20270819T100000
DTEND;TZID=UTC:20270819T113000
DTSTAMP:20260422T005827
CREATED:20240126T133737Z
LAST-MODIFIED:20240126T133737Z
UID:10006777-1818669600-1818675000@chichesterbid.co.uk
SUMMARY:Knit and Natter at Chichester Library
DESCRIPTION:Drop in for a session of knitting and nattering\, every Thursday 10.00 – 11.30am. \nPlease contact Chichester Library for more details. \nFind out more about attending a Knit and Natter session.
URL:https://chichesterbid.co.uk/event/knit-and-natter-at-chichester-library/2027-08-19/
LOCATION:Chichester Library\, Tower Street\, Chichester\, West Sussex\, PO191QJ
ATTACH;FMTTYPE=image/jpeg:https://chichesterbid.co.uk/wp-content/uploads/2024/01/Knit-and-Natter.jpg
END:VEVENT
BEGIN:VEVENT
DTSTART;TZID=UTC:20270820T093000
DTEND;TZID=UTC:20270820T110000
DTSTAMP:20260422T005827
CREATED:20260204T110836Z
LAST-MODIFIED:20260204T110836Z
UID:10026321-1818754200-1818759600@chichesterbid.co.uk
SUMMARY:Rhyme Time at Chichester Library
DESCRIPTION:Drop in to join other families with young children for songs and nursery rhymes\, every Tuesday 2.15 – 2.45pm and Friday 9.30 – 10.00am. \nPlease contact Chichester Library for more details. \nPlease note there are limits on attendance numbers. Due to the popularity of these activities some sessions may become full. \nFind out more about attending a Rhyme Time session.
URL:https://chichesterbid.co.uk/event/rhyme-time-at-chichester-library-2/2027-08-20/
LOCATION:Chichester Library\, Tower Street\, Chichester\, West Sussex\, PO191QJ
CATEGORIES:National Year of Reading
ATTACH;FMTTYPE=image/jpeg:https://chichesterbid.co.uk/wp-content/uploads/2026/02/ViewImage.jpg
END:VEVENT
BEGIN:VEVENT
DTSTART;TZID=UTC:20270821T103000
DTEND;TZID=UTC:20270821T110000
DTSTAMP:20260422T005827
CREATED:20260204T112043Z
LAST-MODIFIED:20260204T112043Z
UID:10026641-1818844200-1818846000@chichesterbid.co.uk
SUMMARY:Story Magic at Chichester Library
DESCRIPTION:Drop into a multi-sensory storytime session specially for children and young people with additional needs\, on the third Saturday of the month 10.45 - 11.15am.  \nPlease contact Chichester Library for more details. \nFind out more about attending a Story Magic session.
URL:https://chichesterbid.co.uk/event/story-magic-at-chichester-library/2027-08-21/
LOCATION:Chichester Library\, Tower Street\, Chichester\, West Sussex\, PO191QJ
CATEGORIES:Family Friendly,National Year of Reading
ATTACH;FMTTYPE=image/jpeg:https://chichesterbid.co.uk/wp-content/uploads/2026/02/ViewImage-2.jpg
END:VEVENT
BEGIN:VEVENT
DTSTART;TZID=UTC:20270824T140000
DTEND;TZID=UTC:20270824T143000
DTSTAMP:20260422T005827
CREATED:20260204T110738Z
LAST-MODIFIED:20260204T110738Z
UID:10025798-1819116000-1819117800@chichesterbid.co.uk
SUMMARY:Rhyme Time at Chichester Library
DESCRIPTION:Drop in to join other families with young children for songs and nursery rhymes\, every Tuesday 2.15 – 2.45pm and Friday 9.30 – 10.00am. \nPlease contact Chichester Library for more details. \nPlease note there are limits on attendance numbers. Due to the popularity of these activities some sessions may become full. \nFind out more about attending a Rhyme Time session.
URL:https://chichesterbid.co.uk/event/rhyme-time-at-chichester-library/2027-08-24/
LOCATION:Chichester Library\, Tower Street\, Chichester\, West Sussex\, PO191QJ
CATEGORIES:National Year of Reading
ATTACH;FMTTYPE=image/jpeg:https://chichesterbid.co.uk/wp-content/uploads/2026/02/ViewImage.jpg
END:VEVENT
BEGIN:VEVENT
DTSTART;TZID=UTC:20270826T100000
DTEND;TZID=UTC:20270826T113000
DTSTAMP:20260422T005827
CREATED:20240126T133737Z
LAST-MODIFIED:20240126T133737Z
UID:10006778-1819274400-1819279800@chichesterbid.co.uk
SUMMARY:Knit and Natter at Chichester Library
DESCRIPTION:Drop in for a session of knitting and nattering\, every Thursday 10.00 – 11.30am. \nPlease contact Chichester Library for more details. \nFind out more about attending a Knit and Natter session.
URL:https://chichesterbid.co.uk/event/knit-and-natter-at-chichester-library/2027-08-26/
LOCATION:Chichester Library\, Tower Street\, Chichester\, West Sussex\, PO191QJ
ATTACH;FMTTYPE=image/jpeg:https://chichesterbid.co.uk/wp-content/uploads/2024/01/Knit-and-Natter.jpg
END:VEVENT
BEGIN:VEVENT
DTSTART;TZID=UTC:20270827T093000
DTEND;TZID=UTC:20270827T110000
DTSTAMP:20260422T005827
CREATED:20260204T110836Z
LAST-MODIFIED:20260204T110836Z
UID:10026322-1819359000-1819364400@chichesterbid.co.uk
SUMMARY:Rhyme Time at Chichester Library
DESCRIPTION:Drop in to join other families with young children for songs and nursery rhymes\, every Tuesday 2.15 – 2.45pm and Friday 9.30 – 10.00am. \nPlease contact Chichester Library for more details. \nPlease note there are limits on attendance numbers. Due to the popularity of these activities some sessions may become full. \nFind out more about attending a Rhyme Time session.
URL:https://chichesterbid.co.uk/event/rhyme-time-at-chichester-library-2/2027-08-27/
LOCATION:Chichester Library\, Tower Street\, Chichester\, West Sussex\, PO191QJ
CATEGORIES:National Year of Reading
ATTACH;FMTTYPE=image/jpeg:https://chichesterbid.co.uk/wp-content/uploads/2026/02/ViewImage.jpg
END:VEVENT
BEGIN:VEVENT
DTSTART;TZID=UTC:20270828T090000
DTEND;TZID=UTC:20270828T160000
DTSTAMP:20260422T005827
CREATED:20230803T091739Z
LAST-MODIFIED:20240126T133225Z
UID:10004604-1819443600-1819468800@chichesterbid.co.uk
SUMMARY:Board Games for Families at Chichester Library
DESCRIPTION:Drop in to play board games with other families every 2nd and 4th Saturday of the month\, 9.00am-4.00pm. \nPlease contact Chichester Library for more details.
URL:https://chichesterbid.co.uk/event/board-games-for-families-at-chichester-library-2/2027-08-28/
LOCATION:Chichester Library\, Tower Street\, Chichester\, West Sussex\, PO191QJ
CATEGORIES:Family Friendly
ATTACH;FMTTYPE=image/jpeg:https://chichesterbid.co.uk/wp-content/uploads/2023/08/Board-Games.jpg
END:VEVENT
BEGIN:VEVENT
DTSTART;TZID=UTC:20270831T140000
DTEND;TZID=UTC:20270831T143000
DTSTAMP:20260422T005827
CREATED:20260204T110738Z
LAST-MODIFIED:20260204T110738Z
UID:10025799-1819720800-1819722600@chichesterbid.co.uk
SUMMARY:Rhyme Time at Chichester Library
DESCRIPTION:Drop in to join other families with young children for songs and nursery rhymes\, every Tuesday 2.15 – 2.45pm and Friday 9.30 – 10.00am. \nPlease contact Chichester Library for more details. \nPlease note there are limits on attendance numbers. Due to the popularity of these activities some sessions may become full. \nFind out more about attending a Rhyme Time session.
URL:https://chichesterbid.co.uk/event/rhyme-time-at-chichester-library/2027-08-31/
LOCATION:Chichester Library\, Tower Street\, Chichester\, West Sussex\, PO191QJ
CATEGORIES:National Year of Reading
ATTACH;FMTTYPE=image/jpeg:https://chichesterbid.co.uk/wp-content/uploads/2026/02/ViewImage.jpg
END:VEVENT
BEGIN:VEVENT
DTSTART;TZID=UTC:20270902T100000
DTEND;TZID=UTC:20270902T113000
DTSTAMP:20260422T005827
CREATED:20240126T133737Z
LAST-MODIFIED:20240126T133737Z
UID:10006779-1819879200-1819884600@chichesterbid.co.uk
SUMMARY:Knit and Natter at Chichester Library
DESCRIPTION:Drop in for a session of knitting and nattering\, every Thursday 10.00 – 11.30am. \nPlease contact Chichester Library for more details. \nFind out more about attending a Knit and Natter session.
URL:https://chichesterbid.co.uk/event/knit-and-natter-at-chichester-library/2027-09-02/
LOCATION:Chichester Library\, Tower Street\, Chichester\, West Sussex\, PO191QJ
ATTACH;FMTTYPE=image/jpeg:https://chichesterbid.co.uk/wp-content/uploads/2024/01/Knit-and-Natter.jpg
END:VEVENT
BEGIN:VEVENT
DTSTART;TZID=UTC:20270903T093000
DTEND;TZID=UTC:20270903T110000
DTSTAMP:20260422T005827
CREATED:20260204T110836Z
LAST-MODIFIED:20260204T110836Z
UID:10026323-1819963800-1819969200@chichesterbid.co.uk
SUMMARY:Rhyme Time at Chichester Library
DESCRIPTION:Drop in to join other families with young children for songs and nursery rhymes\, every Tuesday 2.15 – 2.45pm and Friday 9.30 – 10.00am. \nPlease contact Chichester Library for more details. \nPlease note there are limits on attendance numbers. Due to the popularity of these activities some sessions may become full. \nFind out more about attending a Rhyme Time session.
URL:https://chichesterbid.co.uk/event/rhyme-time-at-chichester-library-2/2027-09-03/
LOCATION:Chichester Library\, Tower Street\, Chichester\, West Sussex\, PO191QJ
CATEGORIES:National Year of Reading
ATTACH;FMTTYPE=image/jpeg:https://chichesterbid.co.uk/wp-content/uploads/2026/02/ViewImage.jpg
END:VEVENT
BEGIN:VEVENT
DTSTART;TZID=UTC:20270907T100000
DTEND;TZID=UTC:20270907T110000
DTSTAMP:20260422T005827
CREATED:20260204T110453Z
LAST-MODIFIED:20260204T110453Z
UID:10025675-1820311200-1820314800@chichesterbid.co.uk
SUMMARY:Tuesday Reading Club at Chichester Library
DESCRIPTION:Meet up with others to talk about books and reading on the first Tuesday of every month 10.00 – 11.00am. \nPlease contact Chichester Library first for more information. \nFind out more about joining a reading group.
URL:https://chichesterbid.co.uk/event/monday-reading-club-at-chichester-library-2/2027-09-07/
LOCATION:Chichester Library\, Tower Street\, Chichester\, West Sussex\, PO191QJ
CATEGORIES:National Year of Reading
ATTACH;FMTTYPE=image/jpeg:https://chichesterbid.co.uk/wp-content/uploads/2024/01/Reading-Groups.jpg
END:VEVENT
BEGIN:VEVENT
DTSTART;TZID=UTC:20270907T140000
DTEND;TZID=UTC:20270907T143000
DTSTAMP:20260422T005827
CREATED:20260204T110738Z
LAST-MODIFIED:20260204T110738Z
UID:10025800-1820325600-1820327400@chichesterbid.co.uk
SUMMARY:Rhyme Time at Chichester Library
DESCRIPTION:Drop in to join other families with young children for songs and nursery rhymes\, every Tuesday 2.15 – 2.45pm and Friday 9.30 – 10.00am. \nPlease contact Chichester Library for more details. \nPlease note there are limits on attendance numbers. Due to the popularity of these activities some sessions may become full. \nFind out more about attending a Rhyme Time session.
URL:https://chichesterbid.co.uk/event/rhyme-time-at-chichester-library/2027-09-07/
LOCATION:Chichester Library\, Tower Street\, Chichester\, West Sussex\, PO191QJ
CATEGORIES:National Year of Reading
ATTACH;FMTTYPE=image/jpeg:https://chichesterbid.co.uk/wp-content/uploads/2026/02/ViewImage.jpg
END:VEVENT
BEGIN:VEVENT
DTSTART;TZID=UTC:20270909T100000
DTEND;TZID=UTC:20270909T113000
DTSTAMP:20260422T005827
CREATED:20240126T133737Z
LAST-MODIFIED:20240126T133737Z
UID:10006780-1820484000-1820489400@chichesterbid.co.uk
SUMMARY:Knit and Natter at Chichester Library
DESCRIPTION:Drop in for a session of knitting and nattering\, every Thursday 10.00 – 11.30am. \nPlease contact Chichester Library for more details. \nFind out more about attending a Knit and Natter session.
URL:https://chichesterbid.co.uk/event/knit-and-natter-at-chichester-library/2027-09-09/
LOCATION:Chichester Library\, Tower Street\, Chichester\, West Sussex\, PO191QJ
ATTACH;FMTTYPE=image/jpeg:https://chichesterbid.co.uk/wp-content/uploads/2024/01/Knit-and-Natter.jpg
END:VEVENT
BEGIN:VEVENT
DTSTART;TZID=UTC:20270909T140000
DTEND;TZID=UTC:20270909T150000
DTSTAMP:20260422T005827
CREATED:20260204T111229Z
LAST-MODIFIED:20260204T111229Z
UID:10026521-1820498400-1820502000@chichesterbid.co.uk
SUMMARY:Thursday Reading Group at Chichester Library
DESCRIPTION:Meet up with others to talk about books and reading on the second Thursday of every month 2.00 – 3.00pm. \nPlease contact Chichester Library first for more information. \nFind out more about joining a reading group.
URL:https://chichesterbid.co.uk/event/thursday-reading-group-at-chichester-library/2027-09-09/
LOCATION:Chichester Library\, Tower Street\, Chichester\, West Sussex\, PO191QJ
CATEGORIES:National Year of Reading
ATTACH;FMTTYPE=image/jpeg:https://chichesterbid.co.uk/wp-content/uploads/2026/02/Library.jpg
END:VEVENT
BEGIN:VEVENT
DTSTART;TZID=UTC:20270910T093000
DTEND;TZID=UTC:20270910T110000
DTSTAMP:20260422T005827
CREATED:20260204T110836Z
LAST-MODIFIED:20260204T110836Z
UID:10026324-1820568600-1820574000@chichesterbid.co.uk
SUMMARY:Rhyme Time at Chichester Library
DESCRIPTION:Drop in to join other families with young children for songs and nursery rhymes\, every Tuesday 2.15 – 2.45pm and Friday 9.30 – 10.00am. \nPlease contact Chichester Library for more details. \nPlease note there are limits on attendance numbers. Due to the popularity of these activities some sessions may become full. \nFind out more about attending a Rhyme Time session.
URL:https://chichesterbid.co.uk/event/rhyme-time-at-chichester-library-2/2027-09-10/
LOCATION:Chichester Library\, Tower Street\, Chichester\, West Sussex\, PO191QJ
CATEGORIES:National Year of Reading
ATTACH;FMTTYPE=image/jpeg:https://chichesterbid.co.uk/wp-content/uploads/2026/02/ViewImage.jpg
END:VEVENT
BEGIN:VEVENT
DTSTART;TZID=UTC:20270911T090000
DTEND;TZID=UTC:20270911T160000
DTSTAMP:20260422T005827
CREATED:20230803T091645Z
LAST-MODIFIED:20230803T091645Z
UID:10004485-1820653200-1820678400@chichesterbid.co.uk
SUMMARY:Board Games for Families at Chichester Library
DESCRIPTION:Drop in to play board games with other families every 2nd and 4th Saturday of the month\, 9.00am-4.00pm. \nPlease contact Chichester Library for more details.
URL:https://chichesterbid.co.uk/event/board-games-for-families-at-chichester-library/2027-09-11/
LOCATION:Chichester Library\, Tower Street\, Chichester\, West Sussex\, PO191QJ
ATTACH;FMTTYPE=image/jpeg:https://chichesterbid.co.uk/wp-content/uploads/2023/08/Board-Games.jpg
END:VEVENT
BEGIN:VEVENT
DTSTART;TZID=UTC:20270911T090000
DTEND;TZID=UTC:20270911T160000
DTSTAMP:20260422T005827
CREATED:20260204T112314Z
LAST-MODIFIED:20260204T112314Z
UID:10026702-1820653200-1820678400@chichesterbid.co.uk
SUMMARY:Book Sale at Chichester Library
DESCRIPTION:Visit Chichester Library on the second Saturday of the month 9.00 – 4.00pm for the opportunity to buy some fantastic ex-library stock. \nWe will have titles ranging from rare non-fiction all the way through to some of your favourite bestsellers.
URL:https://chichesterbid.co.uk/event/book-sale-at-chichester-library/2027-09-11/
LOCATION:Chichester Library\, Tower Street\, Chichester\, West Sussex\, PO191QJ
CATEGORIES:National Year of Reading
ATTACH;FMTTYPE=image/jpeg:https://chichesterbid.co.uk/wp-content/uploads/2026/02/ViewImage-3.jpg
END:VEVENT
BEGIN:VEVENT
DTSTART;TZID=UTC:20270914T140000
DTEND;TZID=UTC:20270914T143000
DTSTAMP:20260422T005827
CREATED:20260204T110738Z
LAST-MODIFIED:20260204T110738Z
UID:10025801-1820930400-1820932200@chichesterbid.co.uk
SUMMARY:Rhyme Time at Chichester Library
DESCRIPTION:Drop in to join other families with young children for songs and nursery rhymes\, every Tuesday 2.15 – 2.45pm and Friday 9.30 – 10.00am. \nPlease contact Chichester Library for more details. \nPlease note there are limits on attendance numbers. Due to the popularity of these activities some sessions may become full. \nFind out more about attending a Rhyme Time session.
URL:https://chichesterbid.co.uk/event/rhyme-time-at-chichester-library/2027-09-14/
LOCATION:Chichester Library\, Tower Street\, Chichester\, West Sussex\, PO191QJ
CATEGORIES:National Year of Reading
ATTACH;FMTTYPE=image/jpeg:https://chichesterbid.co.uk/wp-content/uploads/2026/02/ViewImage.jpg
END:VEVENT
BEGIN:VEVENT
DTSTART;TZID=UTC:20270916T100000
DTEND;TZID=UTC:20270916T113000
DTSTAMP:20260422T005827
CREATED:20240126T133737Z
LAST-MODIFIED:20240126T133737Z
UID:10006781-1821088800-1821094200@chichesterbid.co.uk
SUMMARY:Knit and Natter at Chichester Library
DESCRIPTION:Drop in for a session of knitting and nattering\, every Thursday 10.00 – 11.30am. \nPlease contact Chichester Library for more details. \nFind out more about attending a Knit and Natter session.
URL:https://chichesterbid.co.uk/event/knit-and-natter-at-chichester-library/2027-09-16/
LOCATION:Chichester Library\, Tower Street\, Chichester\, West Sussex\, PO191QJ
ATTACH;FMTTYPE=image/jpeg:https://chichesterbid.co.uk/wp-content/uploads/2024/01/Knit-and-Natter.jpg
END:VEVENT
BEGIN:VEVENT
DTSTART;TZID=UTC:20270917T093000
DTEND;TZID=UTC:20270917T110000
DTSTAMP:20260422T005827
CREATED:20260204T110836Z
LAST-MODIFIED:20260204T110836Z
UID:10026325-1821173400-1821178800@chichesterbid.co.uk
SUMMARY:Rhyme Time at Chichester Library
DESCRIPTION:Drop in to join other families with young children for songs and nursery rhymes\, every Tuesday 2.15 – 2.45pm and Friday 9.30 – 10.00am. \nPlease contact Chichester Library for more details. \nPlease note there are limits on attendance numbers. Due to the popularity of these activities some sessions may become full. \nFind out more about attending a Rhyme Time session.
URL:https://chichesterbid.co.uk/event/rhyme-time-at-chichester-library-2/2027-09-17/
LOCATION:Chichester Library\, Tower Street\, Chichester\, West Sussex\, PO191QJ
CATEGORIES:National Year of Reading
ATTACH;FMTTYPE=image/jpeg:https://chichesterbid.co.uk/wp-content/uploads/2026/02/ViewImage.jpg
END:VEVENT
BEGIN:VEVENT
DTSTART;TZID=UTC:20270918T103000
DTEND;TZID=UTC:20270918T110000
DTSTAMP:20260422T005827
CREATED:20260204T112043Z
LAST-MODIFIED:20260204T112043Z
UID:10026642-1821263400-1821265200@chichesterbid.co.uk
SUMMARY:Story Magic at Chichester Library
DESCRIPTION:Drop into a multi-sensory storytime session specially for children and young people with additional needs\, on the third Saturday of the month 10.45 - 11.15am.  \nPlease contact Chichester Library for more details. \nFind out more about attending a Story Magic session.
URL:https://chichesterbid.co.uk/event/story-magic-at-chichester-library/2027-09-18/
LOCATION:Chichester Library\, Tower Street\, Chichester\, West Sussex\, PO191QJ
CATEGORIES:Family Friendly,National Year of Reading
ATTACH;FMTTYPE=image/jpeg:https://chichesterbid.co.uk/wp-content/uploads/2026/02/ViewImage-2.jpg
END:VEVENT
BEGIN:VEVENT
DTSTART;TZID=UTC:20270920T163000
DTEND;TZID=UTC:20270920T170000
DTSTAMP:20260422T005827
CREATED:20260204T111538Z
LAST-MODIFIED:20260204T111538Z
UID:10026581-1821457800-1821459600@chichesterbid.co.uk
SUMMARY:Monday Reading Club at Chichester Library
DESCRIPTION:Meet up with others to talk about books and reading on the third Monday of every month 4.45 – 5.45pm. \nPlease contact Chichester Library first for more information. \nFind out more about joining a reading group.
URL:https://chichesterbid.co.uk/event/monday-reading-club-at-chichester-library-3/2027-09-20/
LOCATION:Chichester Library\, Tower Street\, Chichester\, West Sussex\, PO191QJ
CATEGORIES:National Year of Reading
ATTACH;FMTTYPE=image/jpeg:https://chichesterbid.co.uk/wp-content/uploads/2026/02/Library.jpg
END:VEVENT
BEGIN:VEVENT
DTSTART;TZID=UTC:20270921T140000
DTEND;TZID=UTC:20270921T143000
DTSTAMP:20260422T005827
CREATED:20260204T110738Z
LAST-MODIFIED:20260204T110738Z
UID:10025802-1821535200-1821537000@chichesterbid.co.uk
SUMMARY:Rhyme Time at Chichester Library
DESCRIPTION:Drop in to join other families with young children for songs and nursery rhymes\, every Tuesday 2.15 – 2.45pm and Friday 9.30 – 10.00am. \nPlease contact Chichester Library for more details. \nPlease note there are limits on attendance numbers. Due to the popularity of these activities some sessions may become full. \nFind out more about attending a Rhyme Time session.
URL:https://chichesterbid.co.uk/event/rhyme-time-at-chichester-library/2027-09-21/
LOCATION:Chichester Library\, Tower Street\, Chichester\, West Sussex\, PO191QJ
CATEGORIES:National Year of Reading
ATTACH;FMTTYPE=image/jpeg:https://chichesterbid.co.uk/wp-content/uploads/2026/02/ViewImage.jpg
END:VEVENT
BEGIN:VEVENT
DTSTART;TZID=UTC:20270923T100000
DTEND;TZID=UTC:20270923T113000
DTSTAMP:20260422T005827
CREATED:20240126T133737Z
LAST-MODIFIED:20240126T133737Z
UID:10006782-1821693600-1821699000@chichesterbid.co.uk
SUMMARY:Knit and Natter at Chichester Library
DESCRIPTION:Drop in for a session of knitting and nattering\, every Thursday 10.00 – 11.30am. \nPlease contact Chichester Library for more details. \nFind out more about attending a Knit and Natter session.
URL:https://chichesterbid.co.uk/event/knit-and-natter-at-chichester-library/2027-09-23/
LOCATION:Chichester Library\, Tower Street\, Chichester\, West Sussex\, PO191QJ
ATTACH;FMTTYPE=image/jpeg:https://chichesterbid.co.uk/wp-content/uploads/2024/01/Knit-and-Natter.jpg
END:VEVENT
END:VCALENDAR