BEGIN:VCALENDAR
VERSION:2.0
PRODID:-//Chichester BID - ECPv6.15.20//NONSGML v1.0//EN
CALSCALE:GREGORIAN
METHOD:PUBLISH
X-ORIGINAL-URL:https://chichesterbid.co.uk
X-WR-CALDESC:Events for Chichester BID
REFRESH-INTERVAL;VALUE=DURATION:PT1H
X-Robots-Tag:noindex
X-PUBLISHED-TTL:PT1H
BEGIN:VTIMEZONE
TZID:UTC
BEGIN:STANDARD
TZOFFSETFROM:+0000
TZOFFSETTO:+0000
TZNAME:UTC
DTSTART:20260101T000000
END:STANDARD
END:VTIMEZONE
BEGIN:VEVENT
DTSTART;TZID=UTC:20271005T140000
DTEND;TZID=UTC:20271005T143000
DTSTAMP:20260422T231122
CREATED:20260204T110738Z
LAST-MODIFIED:20260204T110738Z
UID:10025804-1822744800-1822746600@chichesterbid.co.uk
SUMMARY:Rhyme Time at Chichester Library
DESCRIPTION:Drop in to join other families with young children for songs and nursery rhymes\, every Tuesday 2.15 – 2.45pm and Friday 9.30 – 10.00am. \nPlease contact Chichester Library for more details. \nPlease note there are limits on attendance numbers. Due to the popularity of these activities some sessions may become full. \nFind out more about attending a Rhyme Time session.
URL:https://chichesterbid.co.uk/event/rhyme-time-at-chichester-library/2027-10-05/
LOCATION:Chichester Library\, Tower Street\, Chichester\, West Sussex\, PO191QJ
CATEGORIES:National Year of Reading
ATTACH;FMTTYPE=image/jpeg:https://chichesterbid.co.uk/wp-content/uploads/2026/02/ViewImage.jpg
END:VEVENT
BEGIN:VEVENT
DTSTART;TZID=UTC:20271007T100000
DTEND;TZID=UTC:20271007T113000
DTSTAMP:20260422T231122
CREATED:20240126T133737Z
LAST-MODIFIED:20240126T133737Z
UID:10006784-1822903200-1822908600@chichesterbid.co.uk
SUMMARY:Knit and Natter at Chichester Library
DESCRIPTION:Drop in for a session of knitting and nattering\, every Thursday 10.00 – 11.30am. \nPlease contact Chichester Library for more details. \nFind out more about attending a Knit and Natter session.
URL:https://chichesterbid.co.uk/event/knit-and-natter-at-chichester-library/2027-10-07/
LOCATION:Chichester Library\, Tower Street\, Chichester\, West Sussex\, PO191QJ
ATTACH;FMTTYPE=image/jpeg:https://chichesterbid.co.uk/wp-content/uploads/2024/01/Knit-and-Natter.jpg
END:VEVENT
BEGIN:VEVENT
DTSTART;TZID=UTC:20271008T093000
DTEND;TZID=UTC:20271008T110000
DTSTAMP:20260422T231122
CREATED:20260204T110836Z
LAST-MODIFIED:20260204T110836Z
UID:10026328-1822987800-1822993200@chichesterbid.co.uk
SUMMARY:Rhyme Time at Chichester Library
DESCRIPTION:Drop in to join other families with young children for songs and nursery rhymes\, every Tuesday 2.15 – 2.45pm and Friday 9.30 – 10.00am. \nPlease contact Chichester Library for more details. \nPlease note there are limits on attendance numbers. Due to the popularity of these activities some sessions may become full. \nFind out more about attending a Rhyme Time session.
URL:https://chichesterbid.co.uk/event/rhyme-time-at-chichester-library-2/2027-10-08/
LOCATION:Chichester Library\, Tower Street\, Chichester\, West Sussex\, PO191QJ
CATEGORIES:National Year of Reading
ATTACH;FMTTYPE=image/jpeg:https://chichesterbid.co.uk/wp-content/uploads/2026/02/ViewImage.jpg
END:VEVENT
BEGIN:VEVENT
DTSTART;TZID=UTC:20271009T090000
DTEND;TZID=UTC:20271009T160000
DTSTAMP:20260422T231122
CREATED:20230803T091645Z
LAST-MODIFIED:20230803T091645Z
UID:10004486-1823072400-1823097600@chichesterbid.co.uk
SUMMARY:Board Games for Families at Chichester Library
DESCRIPTION:Drop in to play board games with other families every 2nd and 4th Saturday of the month\, 9.00am-4.00pm. \nPlease contact Chichester Library for more details.
URL:https://chichesterbid.co.uk/event/board-games-for-families-at-chichester-library/2027-10-09/
LOCATION:Chichester Library\, Tower Street\, Chichester\, West Sussex\, PO191QJ
ATTACH;FMTTYPE=image/jpeg:https://chichesterbid.co.uk/wp-content/uploads/2023/08/Board-Games.jpg
END:VEVENT
BEGIN:VEVENT
DTSTART;TZID=UTC:20271009T090000
DTEND;TZID=UTC:20271009T160000
DTSTAMP:20260422T231122
CREATED:20260204T112314Z
LAST-MODIFIED:20260204T112314Z
UID:10026703-1823072400-1823097600@chichesterbid.co.uk
SUMMARY:Book Sale at Chichester Library
DESCRIPTION:Visit Chichester Library on the second Saturday of the month 9.00 – 4.00pm for the opportunity to buy some fantastic ex-library stock. \nWe will have titles ranging from rare non-fiction all the way through to some of your favourite bestsellers.
URL:https://chichesterbid.co.uk/event/book-sale-at-chichester-library/2027-10-09/
LOCATION:Chichester Library\, Tower Street\, Chichester\, West Sussex\, PO191QJ
CATEGORIES:National Year of Reading
ATTACH;FMTTYPE=image/jpeg:https://chichesterbid.co.uk/wp-content/uploads/2026/02/ViewImage-3.jpg
END:VEVENT
BEGIN:VEVENT
DTSTART;TZID=UTC:20271012T140000
DTEND;TZID=UTC:20271012T143000
DTSTAMP:20260422T231122
CREATED:20260204T110738Z
LAST-MODIFIED:20260204T110738Z
UID:10025805-1823349600-1823351400@chichesterbid.co.uk
SUMMARY:Rhyme Time at Chichester Library
DESCRIPTION:Drop in to join other families with young children for songs and nursery rhymes\, every Tuesday 2.15 – 2.45pm and Friday 9.30 – 10.00am. \nPlease contact Chichester Library for more details. \nPlease note there are limits on attendance numbers. Due to the popularity of these activities some sessions may become full. \nFind out more about attending a Rhyme Time session.
URL:https://chichesterbid.co.uk/event/rhyme-time-at-chichester-library/2027-10-12/
LOCATION:Chichester Library\, Tower Street\, Chichester\, West Sussex\, PO191QJ
CATEGORIES:National Year of Reading
ATTACH;FMTTYPE=image/jpeg:https://chichesterbid.co.uk/wp-content/uploads/2026/02/ViewImage.jpg
END:VEVENT
BEGIN:VEVENT
DTSTART;TZID=UTC:20271014T100000
DTEND;TZID=UTC:20271014T113000
DTSTAMP:20260422T231122
CREATED:20240126T133737Z
LAST-MODIFIED:20240126T133737Z
UID:10006785-1823508000-1823513400@chichesterbid.co.uk
SUMMARY:Knit and Natter at Chichester Library
DESCRIPTION:Drop in for a session of knitting and nattering\, every Thursday 10.00 – 11.30am. \nPlease contact Chichester Library for more details. \nFind out more about attending a Knit and Natter session.
URL:https://chichesterbid.co.uk/event/knit-and-natter-at-chichester-library/2027-10-14/
LOCATION:Chichester Library\, Tower Street\, Chichester\, West Sussex\, PO191QJ
ATTACH;FMTTYPE=image/jpeg:https://chichesterbid.co.uk/wp-content/uploads/2024/01/Knit-and-Natter.jpg
END:VEVENT
BEGIN:VEVENT
DTSTART;TZID=UTC:20271014T140000
DTEND;TZID=UTC:20271014T150000
DTSTAMP:20260422T231122
CREATED:20260204T111229Z
LAST-MODIFIED:20260204T111229Z
UID:10026522-1823522400-1823526000@chichesterbid.co.uk
SUMMARY:Thursday Reading Group at Chichester Library
DESCRIPTION:Meet up with others to talk about books and reading on the second Thursday of every month 2.00 – 3.00pm. \nPlease contact Chichester Library first for more information. \nFind out more about joining a reading group.
URL:https://chichesterbid.co.uk/event/thursday-reading-group-at-chichester-library/2027-10-14/
LOCATION:Chichester Library\, Tower Street\, Chichester\, West Sussex\, PO191QJ
CATEGORIES:National Year of Reading
ATTACH;FMTTYPE=image/jpeg:https://chichesterbid.co.uk/wp-content/uploads/2026/02/Library.jpg
END:VEVENT
BEGIN:VEVENT
DTSTART;TZID=UTC:20271015T093000
DTEND;TZID=UTC:20271015T110000
DTSTAMP:20260422T231122
CREATED:20260204T110836Z
LAST-MODIFIED:20260204T110836Z
UID:10026329-1823592600-1823598000@chichesterbid.co.uk
SUMMARY:Rhyme Time at Chichester Library
DESCRIPTION:Drop in to join other families with young children for songs and nursery rhymes\, every Tuesday 2.15 – 2.45pm and Friday 9.30 – 10.00am. \nPlease contact Chichester Library for more details. \nPlease note there are limits on attendance numbers. Due to the popularity of these activities some sessions may become full. \nFind out more about attending a Rhyme Time session.
URL:https://chichesterbid.co.uk/event/rhyme-time-at-chichester-library-2/2027-10-15/
LOCATION:Chichester Library\, Tower Street\, Chichester\, West Sussex\, PO191QJ
CATEGORIES:National Year of Reading
ATTACH;FMTTYPE=image/jpeg:https://chichesterbid.co.uk/wp-content/uploads/2026/02/ViewImage.jpg
END:VEVENT
BEGIN:VEVENT
DTSTART;TZID=UTC:20271016T103000
DTEND;TZID=UTC:20271016T110000
DTSTAMP:20260422T231122
CREATED:20260204T112043Z
LAST-MODIFIED:20260204T112043Z
UID:10026643-1823682600-1823684400@chichesterbid.co.uk
SUMMARY:Story Magic at Chichester Library
DESCRIPTION:Drop into a multi-sensory storytime session specially for children and young people with additional needs\, on the third Saturday of the month 10.45 - 11.15am.  \nPlease contact Chichester Library for more details. \nFind out more about attending a Story Magic session.
URL:https://chichesterbid.co.uk/event/story-magic-at-chichester-library/2027-10-16/
LOCATION:Chichester Library\, Tower Street\, Chichester\, West Sussex\, PO191QJ
CATEGORIES:Family Friendly,National Year of Reading
ATTACH;FMTTYPE=image/jpeg:https://chichesterbid.co.uk/wp-content/uploads/2026/02/ViewImage-2.jpg
END:VEVENT
BEGIN:VEVENT
DTSTART;TZID=UTC:20271018T163000
DTEND;TZID=UTC:20271018T170000
DTSTAMP:20260422T231122
CREATED:20260204T111538Z
LAST-MODIFIED:20260204T111538Z
UID:10026582-1823877000-1823878800@chichesterbid.co.uk
SUMMARY:Monday Reading Club at Chichester Library
DESCRIPTION:Meet up with others to talk about books and reading on the third Monday of every month 4.45 – 5.45pm. \nPlease contact Chichester Library first for more information. \nFind out more about joining a reading group.
URL:https://chichesterbid.co.uk/event/monday-reading-club-at-chichester-library-3/2027-10-18/
LOCATION:Chichester Library\, Tower Street\, Chichester\, West Sussex\, PO191QJ
CATEGORIES:National Year of Reading
ATTACH;FMTTYPE=image/jpeg:https://chichesterbid.co.uk/wp-content/uploads/2026/02/Library.jpg
END:VEVENT
BEGIN:VEVENT
DTSTART;TZID=UTC:20271019T140000
DTEND;TZID=UTC:20271019T143000
DTSTAMP:20260422T231122
CREATED:20260204T110738Z
LAST-MODIFIED:20260204T110738Z
UID:10025806-1823954400-1823956200@chichesterbid.co.uk
SUMMARY:Rhyme Time at Chichester Library
DESCRIPTION:Drop in to join other families with young children for songs and nursery rhymes\, every Tuesday 2.15 – 2.45pm and Friday 9.30 – 10.00am. \nPlease contact Chichester Library for more details. \nPlease note there are limits on attendance numbers. Due to the popularity of these activities some sessions may become full. \nFind out more about attending a Rhyme Time session.
URL:https://chichesterbid.co.uk/event/rhyme-time-at-chichester-library/2027-10-19/
LOCATION:Chichester Library\, Tower Street\, Chichester\, West Sussex\, PO191QJ
CATEGORIES:National Year of Reading
ATTACH;FMTTYPE=image/jpeg:https://chichesterbid.co.uk/wp-content/uploads/2026/02/ViewImage.jpg
END:VEVENT
BEGIN:VEVENT
DTSTART;TZID=UTC:20271021T100000
DTEND;TZID=UTC:20271021T113000
DTSTAMP:20260422T231122
CREATED:20240126T133737Z
LAST-MODIFIED:20240126T133737Z
UID:10006786-1824112800-1824118200@chichesterbid.co.uk
SUMMARY:Knit and Natter at Chichester Library
DESCRIPTION:Drop in for a session of knitting and nattering\, every Thursday 10.00 – 11.30am. \nPlease contact Chichester Library for more details. \nFind out more about attending a Knit and Natter session.
URL:https://chichesterbid.co.uk/event/knit-and-natter-at-chichester-library/2027-10-21/
LOCATION:Chichester Library\, Tower Street\, Chichester\, West Sussex\, PO191QJ
ATTACH;FMTTYPE=image/jpeg:https://chichesterbid.co.uk/wp-content/uploads/2024/01/Knit-and-Natter.jpg
END:VEVENT
BEGIN:VEVENT
DTSTART;TZID=UTC:20271022T093000
DTEND;TZID=UTC:20271022T110000
DTSTAMP:20260422T231122
CREATED:20260204T110836Z
LAST-MODIFIED:20260204T110836Z
UID:10026330-1824197400-1824202800@chichesterbid.co.uk
SUMMARY:Rhyme Time at Chichester Library
DESCRIPTION:Drop in to join other families with young children for songs and nursery rhymes\, every Tuesday 2.15 – 2.45pm and Friday 9.30 – 10.00am. \nPlease contact Chichester Library for more details. \nPlease note there are limits on attendance numbers. Due to the popularity of these activities some sessions may become full. \nFind out more about attending a Rhyme Time session.
URL:https://chichesterbid.co.uk/event/rhyme-time-at-chichester-library-2/2027-10-22/
LOCATION:Chichester Library\, Tower Street\, Chichester\, West Sussex\, PO191QJ
CATEGORIES:National Year of Reading
ATTACH;FMTTYPE=image/jpeg:https://chichesterbid.co.uk/wp-content/uploads/2026/02/ViewImage.jpg
END:VEVENT
BEGIN:VEVENT
DTSTART;TZID=UTC:20271023T090000
DTEND;TZID=UTC:20271023T160000
DTSTAMP:20260422T231122
CREATED:20230803T091739Z
LAST-MODIFIED:20240126T133225Z
UID:10004606-1824282000-1824307200@chichesterbid.co.uk
SUMMARY:Board Games for Families at Chichester Library
DESCRIPTION:Drop in to play board games with other families every 2nd and 4th Saturday of the month\, 9.00am-4.00pm. \nPlease contact Chichester Library for more details.
URL:https://chichesterbid.co.uk/event/board-games-for-families-at-chichester-library-2/2027-10-23/
LOCATION:Chichester Library\, Tower Street\, Chichester\, West Sussex\, PO191QJ
CATEGORIES:Family Friendly
ATTACH;FMTTYPE=image/jpeg:https://chichesterbid.co.uk/wp-content/uploads/2023/08/Board-Games.jpg
END:VEVENT
BEGIN:VEVENT
DTSTART;TZID=UTC:20271026T140000
DTEND;TZID=UTC:20271026T143000
DTSTAMP:20260422T231122
CREATED:20260204T110738Z
LAST-MODIFIED:20260204T110738Z
UID:10025807-1824559200-1824561000@chichesterbid.co.uk
SUMMARY:Rhyme Time at Chichester Library
DESCRIPTION:Drop in to join other families with young children for songs and nursery rhymes\, every Tuesday 2.15 – 2.45pm and Friday 9.30 – 10.00am. \nPlease contact Chichester Library for more details. \nPlease note there are limits on attendance numbers. Due to the popularity of these activities some sessions may become full. \nFind out more about attending a Rhyme Time session.
URL:https://chichesterbid.co.uk/event/rhyme-time-at-chichester-library/2027-10-26/
LOCATION:Chichester Library\, Tower Street\, Chichester\, West Sussex\, PO191QJ
CATEGORIES:National Year of Reading
ATTACH;FMTTYPE=image/jpeg:https://chichesterbid.co.uk/wp-content/uploads/2026/02/ViewImage.jpg
END:VEVENT
BEGIN:VEVENT
DTSTART;TZID=UTC:20271028T100000
DTEND;TZID=UTC:20271028T113000
DTSTAMP:20260422T231122
CREATED:20240126T133737Z
LAST-MODIFIED:20240126T133737Z
UID:10006787-1824717600-1824723000@chichesterbid.co.uk
SUMMARY:Knit and Natter at Chichester Library
DESCRIPTION:Drop in for a session of knitting and nattering\, every Thursday 10.00 – 11.30am. \nPlease contact Chichester Library for more details. \nFind out more about attending a Knit and Natter session.
URL:https://chichesterbid.co.uk/event/knit-and-natter-at-chichester-library/2027-10-28/
LOCATION:Chichester Library\, Tower Street\, Chichester\, West Sussex\, PO191QJ
ATTACH;FMTTYPE=image/jpeg:https://chichesterbid.co.uk/wp-content/uploads/2024/01/Knit-and-Natter.jpg
END:VEVENT
BEGIN:VEVENT
DTSTART;TZID=UTC:20271029T093000
DTEND;TZID=UTC:20271029T110000
DTSTAMP:20260422T231122
CREATED:20260204T110836Z
LAST-MODIFIED:20260204T110836Z
UID:10026331-1824802200-1824807600@chichesterbid.co.uk
SUMMARY:Rhyme Time at Chichester Library
DESCRIPTION:Drop in to join other families with young children for songs and nursery rhymes\, every Tuesday 2.15 – 2.45pm and Friday 9.30 – 10.00am. \nPlease contact Chichester Library for more details. \nPlease note there are limits on attendance numbers. Due to the popularity of these activities some sessions may become full. \nFind out more about attending a Rhyme Time session.
URL:https://chichesterbid.co.uk/event/rhyme-time-at-chichester-library-2/2027-10-29/
LOCATION:Chichester Library\, Tower Street\, Chichester\, West Sussex\, PO191QJ
CATEGORIES:National Year of Reading
ATTACH;FMTTYPE=image/jpeg:https://chichesterbid.co.uk/wp-content/uploads/2026/02/ViewImage.jpg
END:VEVENT
BEGIN:VEVENT
DTSTART;TZID=UTC:20271102T100000
DTEND;TZID=UTC:20271102T110000
DTSTAMP:20260422T231122
CREATED:20260204T110453Z
LAST-MODIFIED:20260204T110453Z
UID:10025677-1825149600-1825153200@chichesterbid.co.uk
SUMMARY:Tuesday Reading Club at Chichester Library
DESCRIPTION:Meet up with others to talk about books and reading on the first Tuesday of every month 10.00 – 11.00am. \nPlease contact Chichester Library first for more information. \nFind out more about joining a reading group.
URL:https://chichesterbid.co.uk/event/monday-reading-club-at-chichester-library-2/2027-11-02/
LOCATION:Chichester Library\, Tower Street\, Chichester\, West Sussex\, PO191QJ
CATEGORIES:National Year of Reading
ATTACH;FMTTYPE=image/jpeg:https://chichesterbid.co.uk/wp-content/uploads/2024/01/Reading-Groups.jpg
END:VEVENT
BEGIN:VEVENT
DTSTART;TZID=UTC:20271102T140000
DTEND;TZID=UTC:20271102T143000
DTSTAMP:20260422T231122
CREATED:20260204T110738Z
LAST-MODIFIED:20260204T110738Z
UID:10025808-1825164000-1825165800@chichesterbid.co.uk
SUMMARY:Rhyme Time at Chichester Library
DESCRIPTION:Drop in to join other families with young children for songs and nursery rhymes\, every Tuesday 2.15 – 2.45pm and Friday 9.30 – 10.00am. \nPlease contact Chichester Library for more details. \nPlease note there are limits on attendance numbers. Due to the popularity of these activities some sessions may become full. \nFind out more about attending a Rhyme Time session.
URL:https://chichesterbid.co.uk/event/rhyme-time-at-chichester-library/2027-11-02/
LOCATION:Chichester Library\, Tower Street\, Chichester\, West Sussex\, PO191QJ
CATEGORIES:National Year of Reading
ATTACH;FMTTYPE=image/jpeg:https://chichesterbid.co.uk/wp-content/uploads/2026/02/ViewImage.jpg
END:VEVENT
BEGIN:VEVENT
DTSTART;TZID=UTC:20271104T100000
DTEND;TZID=UTC:20271104T113000
DTSTAMP:20260422T231122
CREATED:20240126T133737Z
LAST-MODIFIED:20240126T133737Z
UID:10006788-1825322400-1825327800@chichesterbid.co.uk
SUMMARY:Knit and Natter at Chichester Library
DESCRIPTION:Drop in for a session of knitting and nattering\, every Thursday 10.00 – 11.30am. \nPlease contact Chichester Library for more details. \nFind out more about attending a Knit and Natter session.
URL:https://chichesterbid.co.uk/event/knit-and-natter-at-chichester-library/2027-11-04/
LOCATION:Chichester Library\, Tower Street\, Chichester\, West Sussex\, PO191QJ
ATTACH;FMTTYPE=image/jpeg:https://chichesterbid.co.uk/wp-content/uploads/2024/01/Knit-and-Natter.jpg
END:VEVENT
BEGIN:VEVENT
DTSTART;TZID=UTC:20271105T093000
DTEND;TZID=UTC:20271105T110000
DTSTAMP:20260422T231122
CREATED:20260204T110836Z
LAST-MODIFIED:20260204T110836Z
UID:10026332-1825407000-1825412400@chichesterbid.co.uk
SUMMARY:Rhyme Time at Chichester Library
DESCRIPTION:Drop in to join other families with young children for songs and nursery rhymes\, every Tuesday 2.15 – 2.45pm and Friday 9.30 – 10.00am. \nPlease contact Chichester Library for more details. \nPlease note there are limits on attendance numbers. Due to the popularity of these activities some sessions may become full. \nFind out more about attending a Rhyme Time session.
URL:https://chichesterbid.co.uk/event/rhyme-time-at-chichester-library-2/2027-11-05/
LOCATION:Chichester Library\, Tower Street\, Chichester\, West Sussex\, PO191QJ
CATEGORIES:National Year of Reading
ATTACH;FMTTYPE=image/jpeg:https://chichesterbid.co.uk/wp-content/uploads/2026/02/ViewImage.jpg
END:VEVENT
BEGIN:VEVENT
DTSTART;TZID=UTC:20271109T140000
DTEND;TZID=UTC:20271109T143000
DTSTAMP:20260422T231122
CREATED:20260204T110738Z
LAST-MODIFIED:20260204T110738Z
UID:10025809-1825768800-1825770600@chichesterbid.co.uk
SUMMARY:Rhyme Time at Chichester Library
DESCRIPTION:Drop in to join other families with young children for songs and nursery rhymes\, every Tuesday 2.15 – 2.45pm and Friday 9.30 – 10.00am. \nPlease contact Chichester Library for more details. \nPlease note there are limits on attendance numbers. Due to the popularity of these activities some sessions may become full. \nFind out more about attending a Rhyme Time session.
URL:https://chichesterbid.co.uk/event/rhyme-time-at-chichester-library/2027-11-09/
LOCATION:Chichester Library\, Tower Street\, Chichester\, West Sussex\, PO191QJ
CATEGORIES:National Year of Reading
ATTACH;FMTTYPE=image/jpeg:https://chichesterbid.co.uk/wp-content/uploads/2026/02/ViewImage.jpg
END:VEVENT
BEGIN:VEVENT
DTSTART;TZID=UTC:20271111T100000
DTEND;TZID=UTC:20271111T113000
DTSTAMP:20260422T231122
CREATED:20240126T133737Z
LAST-MODIFIED:20240126T133737Z
UID:10006789-1825927200-1825932600@chichesterbid.co.uk
SUMMARY:Knit and Natter at Chichester Library
DESCRIPTION:Drop in for a session of knitting and nattering\, every Thursday 10.00 – 11.30am. \nPlease contact Chichester Library for more details. \nFind out more about attending a Knit and Natter session.
URL:https://chichesterbid.co.uk/event/knit-and-natter-at-chichester-library/2027-11-11/
LOCATION:Chichester Library\, Tower Street\, Chichester\, West Sussex\, PO191QJ
ATTACH;FMTTYPE=image/jpeg:https://chichesterbid.co.uk/wp-content/uploads/2024/01/Knit-and-Natter.jpg
END:VEVENT
BEGIN:VEVENT
DTSTART;TZID=UTC:20271111T140000
DTEND;TZID=UTC:20271111T150000
DTSTAMP:20260422T231122
CREATED:20260204T111229Z
LAST-MODIFIED:20260204T111229Z
UID:10026523-1825941600-1825945200@chichesterbid.co.uk
SUMMARY:Thursday Reading Group at Chichester Library
DESCRIPTION:Meet up with others to talk about books and reading on the second Thursday of every month 2.00 – 3.00pm. \nPlease contact Chichester Library first for more information. \nFind out more about joining a reading group.
URL:https://chichesterbid.co.uk/event/thursday-reading-group-at-chichester-library/2027-11-11/
LOCATION:Chichester Library\, Tower Street\, Chichester\, West Sussex\, PO191QJ
CATEGORIES:National Year of Reading
ATTACH;FMTTYPE=image/jpeg:https://chichesterbid.co.uk/wp-content/uploads/2026/02/Library.jpg
END:VEVENT
BEGIN:VEVENT
DTSTART;TZID=UTC:20271112T093000
DTEND;TZID=UTC:20271112T110000
DTSTAMP:20260422T231122
CREATED:20260204T110836Z
LAST-MODIFIED:20260204T110836Z
UID:10026333-1826011800-1826017200@chichesterbid.co.uk
SUMMARY:Rhyme Time at Chichester Library
DESCRIPTION:Drop in to join other families with young children for songs and nursery rhymes\, every Tuesday 2.15 – 2.45pm and Friday 9.30 – 10.00am. \nPlease contact Chichester Library for more details. \nPlease note there are limits on attendance numbers. Due to the popularity of these activities some sessions may become full. \nFind out more about attending a Rhyme Time session.
URL:https://chichesterbid.co.uk/event/rhyme-time-at-chichester-library-2/2027-11-12/
LOCATION:Chichester Library\, Tower Street\, Chichester\, West Sussex\, PO191QJ
CATEGORIES:National Year of Reading
ATTACH;FMTTYPE=image/jpeg:https://chichesterbid.co.uk/wp-content/uploads/2026/02/ViewImage.jpg
END:VEVENT
BEGIN:VEVENT
DTSTART;TZID=UTC:20271113T090000
DTEND;TZID=UTC:20271113T160000
DTSTAMP:20260422T231122
CREATED:20230803T091645Z
LAST-MODIFIED:20230803T091645Z
UID:10004487-1826096400-1826121600@chichesterbid.co.uk
SUMMARY:Board Games for Families at Chichester Library
DESCRIPTION:Drop in to play board games with other families every 2nd and 4th Saturday of the month\, 9.00am-4.00pm. \nPlease contact Chichester Library for more details.
URL:https://chichesterbid.co.uk/event/board-games-for-families-at-chichester-library/2027-11-13/
LOCATION:Chichester Library\, Tower Street\, Chichester\, West Sussex\, PO191QJ
ATTACH;FMTTYPE=image/jpeg:https://chichesterbid.co.uk/wp-content/uploads/2023/08/Board-Games.jpg
END:VEVENT
BEGIN:VEVENT
DTSTART;TZID=UTC:20271113T090000
DTEND;TZID=UTC:20271113T160000
DTSTAMP:20260422T231122
CREATED:20260204T112314Z
LAST-MODIFIED:20260204T112314Z
UID:10026704-1826096400-1826121600@chichesterbid.co.uk
SUMMARY:Book Sale at Chichester Library
DESCRIPTION:Visit Chichester Library on the second Saturday of the month 9.00 – 4.00pm for the opportunity to buy some fantastic ex-library stock. \nWe will have titles ranging from rare non-fiction all the way through to some of your favourite bestsellers.
URL:https://chichesterbid.co.uk/event/book-sale-at-chichester-library/2027-11-13/
LOCATION:Chichester Library\, Tower Street\, Chichester\, West Sussex\, PO191QJ
CATEGORIES:National Year of Reading
ATTACH;FMTTYPE=image/jpeg:https://chichesterbid.co.uk/wp-content/uploads/2026/02/ViewImage-3.jpg
END:VEVENT
BEGIN:VEVENT
DTSTART;TZID=UTC:20271115T163000
DTEND;TZID=UTC:20271115T170000
DTSTAMP:20260422T231123
CREATED:20260204T111538Z
LAST-MODIFIED:20260204T111538Z
UID:10026583-1826296200-1826298000@chichesterbid.co.uk
SUMMARY:Monday Reading Club at Chichester Library
DESCRIPTION:Meet up with others to talk about books and reading on the third Monday of every month 4.45 – 5.45pm. \nPlease contact Chichester Library first for more information. \nFind out more about joining a reading group.
URL:https://chichesterbid.co.uk/event/monday-reading-club-at-chichester-library-3/2027-11-15/
LOCATION:Chichester Library\, Tower Street\, Chichester\, West Sussex\, PO191QJ
CATEGORIES:National Year of Reading
ATTACH;FMTTYPE=image/jpeg:https://chichesterbid.co.uk/wp-content/uploads/2026/02/Library.jpg
END:VEVENT
BEGIN:VEVENT
DTSTART;TZID=UTC:20271116T140000
DTEND;TZID=UTC:20271116T143000
DTSTAMP:20260422T231123
CREATED:20260204T110738Z
LAST-MODIFIED:20260204T110738Z
UID:10025810-1826373600-1826375400@chichesterbid.co.uk
SUMMARY:Rhyme Time at Chichester Library
DESCRIPTION:Drop in to join other families with young children for songs and nursery rhymes\, every Tuesday 2.15 – 2.45pm and Friday 9.30 – 10.00am. \nPlease contact Chichester Library for more details. \nPlease note there are limits on attendance numbers. Due to the popularity of these activities some sessions may become full. \nFind out more about attending a Rhyme Time session.
URL:https://chichesterbid.co.uk/event/rhyme-time-at-chichester-library/2027-11-16/
LOCATION:Chichester Library\, Tower Street\, Chichester\, West Sussex\, PO191QJ
CATEGORIES:National Year of Reading
ATTACH;FMTTYPE=image/jpeg:https://chichesterbid.co.uk/wp-content/uploads/2026/02/ViewImage.jpg
END:VEVENT
END:VCALENDAR